BEGIN:VCALENDAR
VERSION:2.0
PRODID:-//Faith Christian Family Church - ECPv6.0.1.1//NONSGML v1.0//EN
CALSCALE:GREGORIAN
METHOD:PUBLISH
X-ORIGINAL-URL:https://www.fcfc.tv
X-WR-CALDESC:Events for Faith Christian Family Church
REFRESH-INTERVAL;VALUE=DURATION:PT1H
X-Robots-Tag:noindex
X-PUBLISHED-TTL:PT1H
BEGIN:VTIMEZONE
TZID:America/Chicago
BEGIN:DAYLIGHT
TZOFFSETFROM:-0600
TZOFFSETTO:-0500
TZNAME:CDT
DTSTART:20250309T080000
END:DAYLIGHT
BEGIN:STANDARD
TZOFFSETFROM:-0500
TZOFFSETTO:-0600
TZNAME:CST
DTSTART:20251102T070000
END:STANDARD
END:VTIMEZONE
BEGIN:VEVENT
DTSTART;TZID=America/Chicago:20250916T140000
DTEND;TZID=America/Chicago:20250916T180000
DTSTAMP:20260422T015243
CREATED:20250914T143324Z
LAST-MODIFIED:20250914T143324Z
UID:32159-1758031200-1758045600@www.fcfc.tv
SUMMARY:Cathy Unnerstall Celebration of Life
DESCRIPTION:Join Us in Honoring Cathy Unnerstall \nFCFC invites you to come together in remembrance and celebration of Cathy’s life. Please see the graphic below for service details. \nFor the full obituary visit: https://www.martinfuneral.net/obituary/catherine-unnerstall
URL:https://www.fcfc.tv/event/cathy-unnerstall-celebration-of-life/
END:VEVENT
END:VCALENDAR