BEGIN:VCALENDAR
VERSION:2.0
PRODID:-//Faith Christian Family Church - ECPv6.0.1.1//NONSGML v1.0//EN
CALSCALE:GREGORIAN
METHOD:PUBLISH
X-ORIGINAL-URL:https://www.fcfc.tv
X-WR-CALDESC:Events for Faith Christian Family Church
REFRESH-INTERVAL;VALUE=DURATION:PT1H
X-Robots-Tag:noindex
X-PUBLISHED-TTL:PT1H
BEGIN:VTIMEZONE
TZID:America/Chicago
BEGIN:DAYLIGHT
TZOFFSETFROM:-0600
TZOFFSETTO:-0500
TZNAME:CDT
DTSTART:20250309T080000
END:DAYLIGHT
BEGIN:STANDARD
TZOFFSETFROM:-0500
TZOFFSETTO:-0600
TZNAME:CST
DTSTART:20251102T070000
END:STANDARD
END:VTIMEZONE
BEGIN:VEVENT
DTSTART;TZID=America/Chicago:20251102T101500
DTEND;TZID=America/Chicago:20251102T110000
DTSTAMP:20260421T212715
CREATED:20251017T215231Z
LAST-MODIFIED:20251017T215231Z
UID:32198-1762078500-1762081200@www.fcfc.tv
SUMMARY:Next Steps
DESCRIPTION:Interested in learning more about FCFC? Next Steps is the perfect opportunity. You’ll learn about our church\, have your questions answered\, and meet our pastors. We’ll also explore ways to deepen your relationship with God\, discover your unique gifts\, and find your ideal place to serve within the FCFC community.\n\nStop by Guest Central for more information.
URL:https://www.fcfc.tv/event/next-steps-11/
END:VEVENT
END:VCALENDAR