BEGIN:VCALENDAR
VERSION:2.0
PRODID:-//Faith Christian Family Church - ECPv6.0.1.1//NONSGML v1.0//EN
CALSCALE:GREGORIAN
METHOD:PUBLISH
X-ORIGINAL-URL:https://www.fcfc.tv
X-WR-CALDESC:Events for Faith Christian Family Church
REFRESH-INTERVAL;VALUE=DURATION:PT1H
X-Robots-Tag:noindex
X-PUBLISHED-TTL:PT1H
BEGIN:VTIMEZONE
TZID:America/Chicago
BEGIN:DAYLIGHT
TZOFFSETFROM:-0600
TZOFFSETTO:-0500
TZNAME:CDT
DTSTART:20250309T080000
END:DAYLIGHT
BEGIN:STANDARD
TZOFFSETFROM:-0500
TZOFFSETTO:-0600
TZNAME:CST
DTSTART:20251102T070000
END:STANDARD
END:VTIMEZONE
BEGIN:VEVENT
DTSTART;TZID=America/Chicago:20251119T180000
DTEND;TZID=America/Chicago:20251119T190000
DTSTAMP:20260422T025954
CREATED:20251026T133944Z
LAST-MODIFIED:20251026T133944Z
UID:32207-1763575200-1763578800@www.fcfc.tv
SUMMARY:Holy Spirit Class
DESCRIPTION:Join us on Wednesday\, November 19\, at 6 PM to learn about the Holy Spirit. Jesus sent the Holy Spirit to empower us to experience the reality of a living God by living in His presence and power. In this class\, we will learn more about the person of the Holy Spirit\, the gifts that He gives\, and how to develop an intimate relationship with Him. \nWe will be praying for anyone who wishes to receive the Baptism of the Holy Spirit. This is an opportunity for you to come and have your questions answered. \n“But very truly I tell you\, it is for your good that I am going away. Unless I go away\, the Advocate will not come to you; but if I go\, I will send him to you.”\n– John 16:7 NIV \n“But you will receive power when the Holy Spirit comes upon you. And you will be my witnesses\, telling people about me everywhere—in Jerusalem\, throughout Judea\, in Samaria\, and to the ends of the earth.”\n– Acts 1:8 NLT \nPre-register HERE
URL:https://www.fcfc.tv/event/holy-spirit-class/
END:VEVENT
END:VCALENDAR