BEGIN:VCALENDAR
VERSION:2.0
PRODID:-//Faith Christian Family Church - ECPv6.0.1.1//NONSGML v1.0//EN
CALSCALE:GREGORIAN
METHOD:PUBLISH
X-ORIGINAL-URL:https://www.fcfc.tv
X-WR-CALDESC:Events for Faith Christian Family Church
REFRESH-INTERVAL;VALUE=DURATION:PT1H
X-Robots-Tag:noindex
X-PUBLISHED-TTL:PT1H
BEGIN:VTIMEZONE
TZID:America/Chicago
BEGIN:DAYLIGHT
TZOFFSETFROM:-0600
TZOFFSETTO:-0500
TZNAME:CDT
DTSTART:20260308T080000
END:DAYLIGHT
BEGIN:STANDARD
TZOFFSETFROM:-0500
TZOFFSETTO:-0600
TZNAME:CST
DTSTART:20261101T070000
END:STANDARD
END:VTIMEZONE
BEGIN:VEVENT
DTSTART;VALUE=DATE:20260104
DTEND;VALUE=DATE:20260125
DTSTAMP:20260421T182934
CREATED:20251207T123644Z
LAST-MODIFIED:20251207T123644Z
UID:32430-1767484800-1769299199@www.fcfc.tv
SUMMARY:21 Days of Prayer & Fasting
DESCRIPTION:We are inviting our entire church family to come together for a time of corporate prayer and fasting. Join us in the UPPER Room or from home Monday through Friday at 6-7 AM and Saturdays at 9-10 AM. To learn more about prayer and fasting\, please download the church app or visit our website.
URL:https://www.fcfc.tv/event/21-days-of-prayer-fasting/
END:VEVENT
BEGIN:VEVENT
DTSTART;VALUE=DATE:20260105
DTEND;VALUE=DATE:20260125
DTSTAMP:20260421T182934
CREATED:20251209T165358Z
LAST-MODIFIED:20251209T165358Z
UID:32454-1767571200-1769299199@www.fcfc.tv
SUMMARY:21 Days of Prayer & Fasting
DESCRIPTION:We are inviting our entire church family to come together for a time of corporate prayer and fasting. Join us in the UPPER Room or from home Monday through Friday at 6-7 AM and Saturdays at 9-10 AM. To learn more about prayer and fasting\, please download the church app or visit our website.
URL:https://www.fcfc.tv/event/21-days-of-prayer-fasting-2/
END:VEVENT
BEGIN:VEVENT
DTSTART;VALUE=DATE:20260106
DTEND;VALUE=DATE:20260125
DTSTAMP:20260421T182934
CREATED:20251209T165610Z
LAST-MODIFIED:20251209T165610Z
UID:32455-1767657600-1769299199@www.fcfc.tv
SUMMARY:21 Days of Prayer & Fasting
DESCRIPTION:We are inviting our entire church family to come together for a time of corporate prayer and fasting. Join us in the UPPER Room or from home Monday through Friday at 6-7 AM and Saturdays at 9-10 AM. To learn more about prayer and fasting\, please download the church app or visit our website.
URL:https://www.fcfc.tv/event/21-days-of-prayer-fasting-3/
END:VEVENT
BEGIN:VEVENT
DTSTART;VALUE=DATE:20260107
DTEND;VALUE=DATE:20260125
DTSTAMP:20260421T182934
CREATED:20251209T165933Z
LAST-MODIFIED:20251209T165933Z
UID:32456-1767744000-1769299199@www.fcfc.tv
SUMMARY:21 Days of Prayer & Fasting
DESCRIPTION:We are inviting our entire church family to come together for a time of corporate prayer and fasting. Join us in the UPPER Room or from home Monday through Friday at 6-7 AM and Saturdays at 9-10 AM. To learn more about prayer and fasting\, please download the church app or visit our website.
URL:https://www.fcfc.tv/event/21-days-of-prayer-fasting-4/
END:VEVENT
BEGIN:VEVENT
DTSTART;VALUE=DATE:20260108
DTEND;VALUE=DATE:20260125
DTSTAMP:20260421T182934
CREATED:20251209T170830Z
LAST-MODIFIED:20251209T170830Z
UID:32457-1767830400-1769299199@www.fcfc.tv
SUMMARY:21 Days of Prayer & Fasting
DESCRIPTION:We are inviting our entire church family to come together for a time of corporate prayer and fasting. Join us in the UPPER Room or from home Monday through Friday at 6-7 AM and Saturdays at 9-10 AM. To learn more about prayer and fasting\, please download the church app or visit our website.
URL:https://www.fcfc.tv/event/21-days-of-prayer-fasting-5/
END:VEVENT
BEGIN:VEVENT
DTSTART;VALUE=DATE:20260109
DTEND;VALUE=DATE:20260125
DTSTAMP:20260421T182934
CREATED:20251209T170902Z
LAST-MODIFIED:20251209T170902Z
UID:32458-1767916800-1769299199@www.fcfc.tv
SUMMARY:21 Days of Prayer & Fasting
DESCRIPTION:We are inviting our entire church family to come together for a time of corporate prayer and fasting. Join us in the UPPER Room or from home Monday through Friday at 6-7 AM and Saturdays at 9-10 AM. To learn more about prayer and fasting\, please download the church app or visit our website.
URL:https://www.fcfc.tv/event/21-days-of-prayer-fasting-6/
END:VEVENT
BEGIN:VEVENT
DTSTART;VALUE=DATE:20260110
DTEND;VALUE=DATE:20260125
DTSTAMP:20260421T182934
CREATED:20251209T170932Z
LAST-MODIFIED:20251209T170932Z
UID:32459-1768003200-1769299199@www.fcfc.tv
SUMMARY:21 Days of Prayer & Fasting
DESCRIPTION:We are inviting our entire church family to come together for a time of corporate prayer and fasting. Join us in the UPPER Room or from home Monday through Friday at 6-7 AM and Saturdays at 9-10 AM. To learn more about prayer and fasting\, please download the church app or visit our website.
URL:https://www.fcfc.tv/event/21-days-of-prayer-fasting-7/
END:VEVENT
BEGIN:VEVENT
DTSTART;VALUE=DATE:20260112
DTEND;VALUE=DATE:20260125
DTSTAMP:20260421T182934
CREATED:20251209T171047Z
LAST-MODIFIED:20251209T171047Z
UID:32466-1768176000-1769299199@www.fcfc.tv
SUMMARY:21 Days of Prayer & Fasting
DESCRIPTION:We are inviting our entire church family to come together for a time of corporate prayer and fasting. Join us in the UPPER Room or from home Monday through Friday at 6-7 AM and Saturdays at 9-10 AM. To learn more about prayer and fasting\, please download the church app or visit our website.
URL:https://www.fcfc.tv/event/21-days-of-prayer-fasting-8/
END:VEVENT
BEGIN:VEVENT
DTSTART;VALUE=DATE:20260113
DTEND;VALUE=DATE:20260125
DTSTAMP:20260421T182934
CREATED:20251209T171304Z
LAST-MODIFIED:20251209T171304Z
UID:32467-1768262400-1769299199@www.fcfc.tv
SUMMARY:21 Days of Prayer & Fasting
DESCRIPTION:We are inviting our entire church family to come together for a time of corporate prayer and fasting. Join us in the UPPER Room or from home Monday through Friday at 6-7 AM and Saturdays at 9-10 AM. To learn more about prayer and fasting\, please download the church app or visit our website.
URL:https://www.fcfc.tv/event/21-days-of-prayer-fasting-9/
END:VEVENT
BEGIN:VEVENT
DTSTART;VALUE=DATE:20260114
DTEND;VALUE=DATE:20260125
DTSTAMP:20260421T182934
CREATED:20251209T171409Z
LAST-MODIFIED:20251209T171409Z
UID:32468-1768348800-1769299199@www.fcfc.tv
SUMMARY:21 Days of Prayer & Fasting
DESCRIPTION:We are inviting our entire church family to come together for a time of corporate prayer and fasting. Join us in the UPPER Room or from home Monday through Friday at 6-7 AM and Saturdays at 9-10 AM. To learn more about prayer and fasting\, please download the church app or visit our website.
URL:https://www.fcfc.tv/event/21-days-of-prayer-fasting-10/
END:VEVENT
BEGIN:VEVENT
DTSTART;VALUE=DATE:20260115
DTEND;VALUE=DATE:20260125
DTSTAMP:20260421T182934
CREATED:20251209T171445Z
LAST-MODIFIED:20251209T171445Z
UID:32469-1768435200-1769299199@www.fcfc.tv
SUMMARY:21 Days of Prayer & Fasting
DESCRIPTION:We are inviting our entire church family to come together for a time of corporate prayer and fasting. Join us in the UPPER Room or from home Monday through Friday at 6-7 AM and Saturdays at 9-10 AM. To learn more about prayer and fasting\, please download the church app or visit our website.
URL:https://www.fcfc.tv/event/21-days-of-prayer-fasting-11/
END:VEVENT
END:VCALENDAR