BEGIN:VCALENDAR
VERSION:2.0
PRODID:-//Faith Christian Family Church - ECPv6.0.1.1//NONSGML v1.0//EN
CALSCALE:GREGORIAN
METHOD:PUBLISH
X-ORIGINAL-URL:https://www.fcfc.tv
X-WR-CALDESC:Events for Faith Christian Family Church
REFRESH-INTERVAL;VALUE=DURATION:PT1H
X-Robots-Tag:noindex
X-PUBLISHED-TTL:PT1H
BEGIN:VTIMEZONE
TZID:America/Chicago
BEGIN:DAYLIGHT
TZOFFSETFROM:-0600
TZOFFSETTO:-0500
TZNAME:CDT
DTSTART:20260308T080000
END:DAYLIGHT
BEGIN:STANDARD
TZOFFSETFROM:-0500
TZOFFSETTO:-0600
TZNAME:CST
DTSTART:20261101T070000
END:STANDARD
END:VTIMEZONE
BEGIN:VEVENT
DTSTART;TZID=America/Chicago:20260211T190000
DTEND;TZID=America/Chicago:20260211T200000
DTSTAMP:20260421T170649
CREATED:20260107T214034Z
LAST-MODIFIED:20260107T214034Z
UID:32753-1770836400-1770840000@www.fcfc.tv
SUMMARY:Spiritual Leadership
DESCRIPTION:All are welcome on Wednesdays at 7 PM for worship and teaching as Pastor Terry equips us to Grow Out in leadership. This training casts vision and prepares emerging Discipleship Community leaders.
URL:https://www.fcfc.tv/event/spiritual-leadership-6/
END:VEVENT
END:VCALENDAR