BEGIN:VCALENDAR
VERSION:2.0
PRODID:-//Faith Christian Family Church - ECPv6.0.1.1//NONSGML v1.0//EN
CALSCALE:GREGORIAN
METHOD:PUBLISH
X-WR-CALNAME:Faith Christian Family Church
X-ORIGINAL-URL:https://www.fcfc.tv
X-WR-CALDESC:Events for Faith Christian Family Church
REFRESH-INTERVAL;VALUE=DURATION:PT1H
X-Robots-Tag:noindex
X-PUBLISHED-TTL:PT1H
BEGIN:VTIMEZONE
TZID:America/Chicago
BEGIN:DAYLIGHT
TZOFFSETFROM:-0600
TZOFFSETTO:-0500
TZNAME:CDT
DTSTART:20260308T080000
END:DAYLIGHT
BEGIN:STANDARD
TZOFFSETFROM:-0500
TZOFFSETTO:-0600
TZNAME:CST
DTSTART:20261101T070000
END:STANDARD
END:VTIMEZONE
BEGIN:VEVENT
DTSTART;TZID=America/Chicago:20260228T080000
DTEND;TZID=America/Chicago:20260228T100000
DTSTAMP:20260421T151906
CREATED:20260208T161255Z
LAST-MODIFIED:20260208T161255Z
UID:33528-1772265600-1772272800@www.fcfc.tv
SUMMARY:Men's Breakfast
DESCRIPTION:Join us Saturday\, February 28\, at 8:00 AM for our Men’s Breakfast. Enjoy a solid meal featuring BACON\, build strong fellowship and hear a practical encouraging message. \nThe meal is FREE\, all we need is your RSVP. Let us know you are coming!
URL:https://www.fcfc.tv/event/mensbreakfast/
END:VEVENT
END:VCALENDAR