BEGIN:VCALENDAR
VERSION:2.0
PRODID:-//Faith Christian Family Church - ECPv6.0.1.1//NONSGML v1.0//EN
CALSCALE:GREGORIAN
METHOD:PUBLISH
X-WR-CALNAME:Faith Christian Family Church
X-ORIGINAL-URL:https://www.fcfc.tv
X-WR-CALDESC:Events for Faith Christian Family Church
REFRESH-INTERVAL;VALUE=DURATION:PT1H
X-Robots-Tag:noindex
X-PUBLISHED-TTL:PT1H
BEGIN:VTIMEZONE
TZID:America/Chicago
BEGIN:DAYLIGHT
TZOFFSETFROM:-0600
TZOFFSETTO:-0500
TZNAME:CDT
DTSTART:20260308T080000
END:DAYLIGHT
BEGIN:STANDARD
TZOFFSETFROM:-0500
TZOFFSETTO:-0600
TZNAME:CST
DTSTART:20261101T070000
END:STANDARD
END:VTIMEZONE
BEGIN:VEVENT
DTSTART;TZID=America/Chicago:20260405T090000
DTEND;TZID=America/Chicago:20260405T120000
DTSTAMP:20260421T135216
CREATED:20260402T231725Z
LAST-MODIFIED:20260402T231725Z
UID:34091-1775379600-1775390400@www.fcfc.tv
SUMMARY:Easter Sunday
DESCRIPTION:At FCFC we’re getting ready for a special Easter weekend\, and we’d love for you to join us. \nEASTER SUNDAY CELEBRATION\nApril 5 | Services at 9:00 & 10:45 AM \nCelebrate Easter with powerful worship and the Easter message\, along with coffee and donuts\, and a photo spot for families and friends. \nLearn More at FCFC.tv/Easter.
URL:https://www.fcfc.tv/event/easter-sunday-3/
END:VEVENT
END:VCALENDAR