BEGIN:VCALENDAR
VERSION:2.0
PRODID:-//Faith Christian Family Church - ECPv6.0.1.1//NONSGML v1.0//EN
CALSCALE:GREGORIAN
METHOD:PUBLISH
X-WR-CALNAME:Faith Christian Family Church
X-ORIGINAL-URL:https://www.fcfc.tv
X-WR-CALDESC:Events for Faith Christian Family Church
REFRESH-INTERVAL;VALUE=DURATION:PT1H
X-Robots-Tag:noindex
X-PUBLISHED-TTL:PT1H
BEGIN:VTIMEZONE
TZID:America/Chicago
BEGIN:DAYLIGHT
TZOFFSETFROM:-0600
TZOFFSETTO:-0500
TZNAME:CDT
DTSTART:20260308T080000
END:DAYLIGHT
BEGIN:STANDARD
TZOFFSETFROM:-0500
TZOFFSETTO:-0600
TZNAME:CST
DTSTART:20261101T070000
END:STANDARD
END:VTIMEZONE
BEGIN:VEVENT
DTSTART;TZID=America/Chicago:20260408T190000
DTEND;TZID=America/Chicago:20260408T203000
DTSTAMP:20260421T135143
CREATED:20260402T232313Z
LAST-MODIFIED:20260402T232313Z
UID:34093-1775674800-1775680200@www.fcfc.tv
SUMMARY:Alpha
DESCRIPTION:What is Alpha?\nAlpha is a series of sessions that explore the foundations of the Christian faith in an honest and non-judgmental environment. Sessions typically begin with food and connection\, followed by a talk and open discussion. Best of all\, we provide Alpha at no cost. \nWho is Alpha For?\nEveryone is welcome. Whether you’re curious about faith or just want space to talk about life\, Alpha is for you. Alpha is all about bringing people together to watch thought-provoking talks and have honest conversations. No pressure\, no judgment\, just real connection. \nWhen is Alpha?\nAlpha begins Wednesday\, April 8th at 7:00 PM \nWant to be a part of Alpha?\nWhether you’re ready to jump in and serve or interested in attending\, we’d love to hear from you. Let us know how you’d like to get involved! Please complete our Alpha Interest Form. \nLearn More at fcfc.tv/alpha.
URL:https://www.fcfc.tv/event/alpha/
END:VEVENT
END:VCALENDAR