BEGIN:VCALENDAR
VERSION:2.0
PRODID:-//Faith Christian Family Church - ECPv6.0.1.1//NONSGML v1.0//EN
CALSCALE:GREGORIAN
METHOD:PUBLISH
X-ORIGINAL-URL:https://www.fcfc.tv
X-WR-CALDESC:Events for Faith Christian Family Church
REFRESH-INTERVAL;VALUE=DURATION:PT1H
X-Robots-Tag:noindex
X-PUBLISHED-TTL:PT1H
BEGIN:VTIMEZONE
TZID:America/Chicago
BEGIN:DAYLIGHT
TZOFFSETFROM:-0600
TZOFFSETTO:-0500
TZNAME:CDT
DTSTART:20260308T080000
END:DAYLIGHT
BEGIN:STANDARD
TZOFFSETFROM:-0500
TZOFFSETTO:-0600
TZNAME:CST
DTSTART:20261101T070000
END:STANDARD
END:VTIMEZONE
BEGIN:VEVENT
DTSTART;TZID=America/Chicago:20260411T120000
DTEND;TZID=America/Chicago:20260411T140000
DTSTAMP:20260421T135327
CREATED:20260402T232744Z
LAST-MODIFIED:20260402T232744Z
UID:34096-1775908800-1775916000@www.fcfc.tv
SUMMARY:S.A.L.T. Easter Dinner
DESCRIPTION:Seniors (50+) are invited to join us for a Potluck Dinner in celebration of Easter. Please bring a side to share. Ham and drinks will be provided. We can’t wait to see you there! \nS.A.L.T. EASTER DINNER\nFCFC YOUTH ROOM | 12:00 PM (Noon)
URL:https://www.fcfc.tv/event/s-a-l-t-easter-dinner/
END:VEVENT
END:VCALENDAR