BEGIN:VCALENDAR
VERSION:2.0
PRODID:-//Faith Christian Family Church - ECPv6.0.1.1//NONSGML v1.0//EN
CALSCALE:GREGORIAN
METHOD:PUBLISH
X-WR-CALNAME:Faith Christian Family Church
X-ORIGINAL-URL:https://www.fcfc.tv
X-WR-CALDESC:Events for Faith Christian Family Church
REFRESH-INTERVAL;VALUE=DURATION:PT1H
X-Robots-Tag:noindex
X-PUBLISHED-TTL:PT1H
BEGIN:VTIMEZONE
TZID:America/Chicago
BEGIN:DAYLIGHT
TZOFFSETFROM:-0600
TZOFFSETTO:-0500
TZNAME:CDT
DTSTART:20240310T080000
END:DAYLIGHT
BEGIN:STANDARD
TZOFFSETFROM:-0500
TZOFFSETTO:-0600
TZNAME:CST
DTSTART:20241103T070000
END:STANDARD
END:VTIMEZONE
BEGIN:VEVENT
DTSTART;TZID=America/Chicago:20240821T060000
DTEND;TZID=America/Chicago:20240821T070000
DTSTAMP:20260422T173132
CREATED:20240723T173107Z
LAST-MODIFIED:20240723T173107Z
UID:31302-1724220000-1724223600@www.fcfc.tv
SUMMARY:21 Days of Prayer
DESCRIPTION:Join us\, at church or at home\, for our 21 Days of Prayer\, from August 4 through August 24. Monday-Friday we will meet from 6-7 a.m. and on Saturday morning from 9-10 a.m. We will not meet on Sunday morning.
URL:https://www.fcfc.tv/event/21-days-of-prayer-149/
LOCATION:Warrenton Campus
END:VEVENT
BEGIN:VEVENT
DTSTART;TZID=America/Chicago:20240820T060000
DTEND;TZID=America/Chicago:20240820T070000
DTSTAMP:20260422T173132
CREATED:20240723T173052Z
LAST-MODIFIED:20240723T173052Z
UID:31300-1724133600-1724137200@www.fcfc.tv
SUMMARY:21 Days of Prayer
DESCRIPTION:Join us\, at church or at home\, for our 21 Days of Prayer\, from August 4 through August 24. Monday-Friday we will meet from 6-7 a.m. and on Saturday morning from 9-10 a.m. We will not meet on Sunday morning.
URL:https://www.fcfc.tv/event/21-days-of-prayer-148/
LOCATION:Warrenton Campus
END:VEVENT
BEGIN:VEVENT
DTSTART;TZID=America/Chicago:20240819T060000
DTEND;TZID=America/Chicago:20240819T070000
DTSTAMP:20260422T173132
CREATED:20240723T173034Z
LAST-MODIFIED:20240723T173034Z
UID:31299-1724047200-1724050800@www.fcfc.tv
SUMMARY:21 Days of Prayer
DESCRIPTION:Join us\, at church or at home\, for our 21 Days of Prayer\, from August 4 through August 24. Monday-Friday we will meet from 6-7 a.m. and on Saturday morning from 9-10 a.m. We will not meet on Sunday morning.
URL:https://www.fcfc.tv/event/21-days-of-prayer-147/
LOCATION:Warrenton Campus
END:VEVENT
BEGIN:VEVENT
DTSTART;TZID=America/Chicago:20240817T090000
DTEND;TZID=America/Chicago:20240817T100000
DTSTAMP:20260422T173132
CREATED:20240723T172939Z
LAST-MODIFIED:20240723T172939Z
UID:31297-1723885200-1723888800@www.fcfc.tv
SUMMARY:21 Days of Prayer
DESCRIPTION:Join us\, at church or at home\, for our 21 Days of Prayer\, from August 4 through August 24. Monday-Friday we will meet from 6-7 a.m. and on Saturday morning from 9-10 a.m. We will not meet on Sunday morning.
URL:https://www.fcfc.tv/event/21-days-of-prayer-146/
LOCATION:Warrenton Campus
END:VEVENT
BEGIN:VEVENT
DTSTART;TZID=America/Chicago:20240816T060000
DTEND;TZID=America/Chicago:20240816T070000
DTSTAMP:20260422T173132
CREATED:20240723T172910Z
LAST-MODIFIED:20240723T172910Z
UID:31290-1723788000-1723791600@www.fcfc.tv
SUMMARY:21 Days of Prayer
DESCRIPTION:Join us\, at church or at home\, for our 21 Days of Prayer\, from August 4 through August 24. Monday-Friday we will meet from 6-7 a.m. and on Saturday morning from 9-10 a.m. We will not meet on Sunday morning.
URL:https://www.fcfc.tv/event/21-days-of-prayer-145/
LOCATION:Warrenton Campus
END:VEVENT
BEGIN:VEVENT
DTSTART;TZID=America/Chicago:20240815T060000
DTEND;TZID=America/Chicago:20240815T070000
DTSTAMP:20260422T173132
CREATED:20240723T172850Z
LAST-MODIFIED:20240723T172850Z
UID:31291-1723701600-1723705200@www.fcfc.tv
SUMMARY:21 Days of Prayer
DESCRIPTION:Join us\, at church or at home\, for our 21 Days of Prayer\, from August 4 through August 24. Monday-Friday we will meet from 6-7 a.m. and on Saturday morning from 9-10 a.m. We will not meet on Sunday morning.
URL:https://www.fcfc.tv/event/21-days-of-prayer-144/
LOCATION:Warrenton Campus
END:VEVENT
BEGIN:VEVENT
DTSTART;TZID=America/Chicago:20240814T060000
DTEND;TZID=America/Chicago:20240814T070000
DTSTAMP:20260422T173132
CREATED:20240723T172828Z
LAST-MODIFIED:20240723T172828Z
UID:31289-1723615200-1723618800@www.fcfc.tv
SUMMARY:21 Days of Prayer
DESCRIPTION:Join us\, at church or at home\, for our 21 Days of Prayer\, from August 4 through August 24. Monday-Friday we will meet from 6-7 a.m. and on Saturday morning from 9-10 a.m. We will not meet on Sunday morning.
URL:https://www.fcfc.tv/event/21-days-of-prayer-143/
LOCATION:Warrenton Campus
END:VEVENT
BEGIN:VEVENT
DTSTART;TZID=America/Chicago:20240813T060000
DTEND;TZID=America/Chicago:20240813T070000
DTSTAMP:20260422T173132
CREATED:20240723T172244Z
LAST-MODIFIED:20240723T172244Z
UID:31288-1723528800-1723532400@www.fcfc.tv
SUMMARY:21 Days of Prayer
DESCRIPTION:Join us\, at church or at home\, for our 21 Days of Prayer\, from August 4 through August 24. Monday-Friday we will meet from 6-7 a.m. and on Saturday morning from 9-10 a.m. We will not meet on Sunday morning.
URL:https://www.fcfc.tv/event/21-days-of-prayer-142/
LOCATION:Warrenton Campus
END:VEVENT
BEGIN:VEVENT
DTSTART;TZID=America/Chicago:20240812T060000
DTEND;TZID=America/Chicago:20240812T070000
DTSTAMP:20260422T173132
CREATED:20240723T172222Z
LAST-MODIFIED:20240723T172222Z
UID:31287-1723442400-1723446000@www.fcfc.tv
SUMMARY:21 Days of Prayer
DESCRIPTION:Join us\, at church or at home\, for our 21 Days of Prayer\, from August 4 through August 24. Monday-Friday we will meet from 6-7 a.m. and on Saturday morning from 9-10 a.m. We will not meet on Sunday morning.
URL:https://www.fcfc.tv/event/21-days-of-prayer-141/
LOCATION:Warrenton Campus
END:VEVENT
BEGIN:VEVENT
DTSTART;TZID=America/Chicago:20240810T090000
DTEND;TZID=America/Chicago:20240810T140000
DTSTAMP:20260422T173132
CREATED:20240709T191703Z
LAST-MODIFIED:20240709T193818Z
UID:31264-1723280400-1723298400@www.fcfc.tv
SUMMARY:Back to School Bash
DESCRIPTION:Faith Christian Family Church will be hosting the 10th Annual Back to School Bash on Saturday\, August 10 from 9:00am – 2:00pm. The Back to School Bash is sponsored by Servant’s Heart and Agape with support from generous donors in the community.  Hundreds of children in Warren County will receive backpacks filled with school supplies to begin the new school year. There will also be free haircuts for children and lunch for the entire family. \nIf you want to register your child for the event\, click this link: Enroll \nIf you would like to volunteer for the event (August 8th – August 10th) click this link: 2024 Back to School Bash Volunteer Signup \nIf you have any questions email:  servantsheartstl@gmail.com.
URL:https://www.fcfc.tv/event/back-to-school-bash-4/
LOCATION:Warrenton Campus
END:VEVENT
BEGIN:VEVENT
DTSTART;TZID=America/Chicago:20240810T090000
DTEND;TZID=America/Chicago:20240810T100000
DTSTAMP:20260422T173132
CREATED:20240723T164100Z
LAST-MODIFIED:20240723T164100Z
UID:31285-1723280400-1723284000@www.fcfc.tv
SUMMARY:21 Days of Prayer
DESCRIPTION:Join us\, at church or at home\, for our 21 Days of Prayer\, from August 4 through August 24. Monday-Friday we will meet from 6-7 a.m. and on Saturday morning from 9-10 a.m. We will not meet on Sunday morning.
URL:https://www.fcfc.tv/event/21-days-of-prayer-140/
LOCATION:Warrenton Campus
END:VEVENT
BEGIN:VEVENT
DTSTART;TZID=America/Chicago:20240809T060000
DTEND;TZID=America/Chicago:20240809T070000
DTSTAMP:20260422T173132
CREATED:20240723T163750Z
LAST-MODIFIED:20240723T163946Z
UID:31275-1723183200-1723186800@www.fcfc.tv
SUMMARY:21 Days of Prayer
DESCRIPTION:Join us\, at church or at home\, for our 21 Days of Prayer\, from August 4 through August 24. Monday-Friday we will meet from 6-7 a.m. and on Saturday morning from 9-10 a.m. We will not meet on Sunday morning.
URL:https://www.fcfc.tv/event/21-days-of-prayer-136/
LOCATION:Warrenton Campus
END:VEVENT
BEGIN:VEVENT
DTSTART;TZID=America/Chicago:20240808T060000
DTEND;TZID=America/Chicago:20240808T070000
DTSTAMP:20260422T173132
CREATED:20240723T163905Z
LAST-MODIFIED:20240723T163905Z
UID:31277-1723096800-1723100400@www.fcfc.tv
SUMMARY:21 Days of Prayer
DESCRIPTION:Join us\, at church or at home\, for our 21 Days of Prayer\, from August 4 through August 24. Monday-Friday we will meet from 6-7 a.m. and on Saturday morning from 9-10 a.m. We will not meet on Sunday morning.
URL:https://www.fcfc.tv/event/21-days-of-prayer-138/
LOCATION:Warrenton Campus
END:VEVENT
BEGIN:VEVENT
DTSTART;TZID=America/Chicago:20240807T060000
DTEND;TZID=America/Chicago:20240807T070000
DTSTAMP:20260422T173132
CREATED:20240723T163842Z
LAST-MODIFIED:20240723T163842Z
UID:31276-1723010400-1723014000@www.fcfc.tv
SUMMARY:21 Days of Prayer
DESCRIPTION:Join us\, at church or at home\, for our 21 Days of Prayer\, from August 4 through August 24. Monday-Friday we will meet from 6-7 a.m. and on Saturday morning from 9-10 a.m. We will not meet on Sunday morning.
URL:https://www.fcfc.tv/event/21-days-of-prayer-137/
LOCATION:Warrenton Campus
END:VEVENT
BEGIN:VEVENT
DTSTART;TZID=America/Chicago:20240806T060000
DTEND;TZID=America/Chicago:20240806T070000
DTSTAMP:20260422T173132
CREATED:20240723T164012Z
LAST-MODIFIED:20240723T164012Z
UID:31278-1722924000-1722927600@www.fcfc.tv
SUMMARY:21 Days of Prayer
DESCRIPTION:Join us\, at church or at home\, for our 21 Days of Prayer\, from August 4 through August 24. Monday-Friday we will meet from 6-7 a.m. and on Saturday morning from 9-10 a.m. We will not meet on Sunday morning.
URL:https://www.fcfc.tv/event/21-days-of-prayer-139/
LOCATION:Warrenton Campus
END:VEVENT
BEGIN:VEVENT
DTSTART;TZID=America/Chicago:20240805T060000
DTEND;TZID=America/Chicago:20240805T070000
DTSTAMP:20260422T173132
CREATED:20240730T185113Z
LAST-MODIFIED:20240730T185113Z
UID:31312-1722837600-1722841200@www.fcfc.tv
SUMMARY:21 Days of Prayer
DESCRIPTION:Join us\, at church or at home\, for our 21 Days of Prayer\, from August 5 through August 24. Monday-Friday we will meet from 6-7 a.m. and on Saturday morning from 9-10 a.m. We will not meet on Sunday morning.
URL:https://www.fcfc.tv/event/21-days-of-prayer-135/
LOCATION:Warrenton Campus
END:VEVENT
BEGIN:VEVENT
DTSTART;TZID=America/Chicago:20240727T090000
DTEND;TZID=America/Chicago:20240727T140000
DTSTAMP:20260422T173132
CREATED:20240702T171701Z
LAST-MODIFIED:20240709T151711Z
UID:31259-1722070800-1722088800@www.fcfc.tv
SUMMARY:FCFC Kids Dream Team Training
DESCRIPTION:Join Jim Wideman and Pastor Jeremy for this special event on Saturday\, July 27\, from 9-2. Jim is one of the most recognized names in church leadership. Lunch is provided.
URL:https://www.fcfc.tv/event/fcfc-kids-dream-team-training/
END:VEVENT
BEGIN:VEVENT
DTSTART;TZID=America/Chicago:20240714T090000
DTEND;TZID=America/Chicago:20240714T120000
DTSTAMP:20260422T173132
CREATED:20240514T191446Z
LAST-MODIFIED:20240514T191446Z
UID:31247-1720947600-1720958400@www.fcfc.tv
SUMMARY:Water Baptism
DESCRIPTION:On Sunday\, July 14\, we will be hosting baptisms at both services. Being water baptized is an outward profession of the inner change when you became a Christian. If you are interested in being baptized that morning\, make sure you arrive an hour before service for the baptismal class.
URL:https://www.fcfc.tv/event/water-baptism-19/
LOCATION:Warrenton Campus
END:VEVENT
BEGIN:VEVENT
DTSTART;TZID=America/Chicago:20240428T103000
DTEND;TZID=America/Chicago:20240428T120000
DTSTAMP:20260422T173132
CREATED:20240409T181040Z
LAST-MODIFIED:20240409T181040Z
UID:31240-1714300200-1714305600@www.fcfc.tv
SUMMARY:Water Baptism
DESCRIPTION:On Sunday\, April 28\, we will be hosting baptisms at both of our campuses. Being water baptized is an outward profession of the inner change when you became a Christian. If you are interested in being baptized that morning\, make sure you arrive an hour before service for the baptismal class.
URL:https://www.fcfc.tv/event/water-baptism-18/
LOCATION:Warrenton Campus
END:VEVENT
BEGIN:VEVENT
DTSTART;TZID=America/Chicago:20240428T090000
DTEND;TZID=America/Chicago:20240428T103000
DTSTAMP:20260422T173132
CREATED:20240409T180911Z
LAST-MODIFIED:20240409T181005Z
UID:31238-1714294800-1714300200@www.fcfc.tv
SUMMARY:Water Baptism
DESCRIPTION:On Sunday\, April 28\, we will be hosting baptisms at both of our campuses. Being water baptized is an outward profession of the inner change when you became a Christian. If you are interested in being baptized that morning\, make sure you arrive an hour before service for the baptismal class.
URL:https://www.fcfc.tv/event/water-baptism-17/
LOCATION:Wentzville Campus
END:VEVENT
BEGIN:VEVENT
DTSTART;TZID=America/Chicago:20240424T190000
DTEND;TZID=America/Chicago:20240424T203000
DTSTAMP:20260422T173132
CREATED:20240402T202242Z
LAST-MODIFIED:20240402T202242Z
UID:31235-1713985200-1713990600@www.fcfc.tv
SUMMARY:The Parables of Jesus
DESCRIPTION:On Wednesday nights in April Pastor Terry will be teaching a series on The Parables of Jesus. We meet in the upper room at Warrenton beginning at 7pm. Childcare is available.
URL:https://www.fcfc.tv/event/the-parables-of-jesus-4/
LOCATION:Warrenton Campus
END:VEVENT
BEGIN:VEVENT
DTSTART;TZID=America/Chicago:20240417T190000
DTEND;TZID=America/Chicago:20240417T203000
DTSTAMP:20260422T173132
CREATED:20240402T202214Z
LAST-MODIFIED:20240402T202214Z
UID:31232-1713380400-1713385800@www.fcfc.tv
SUMMARY:The Parables of Jesus
DESCRIPTION:On Wednesday nights in April Pastor Terry will be teaching a series on The Parables of Jesus. We meet in the upper room at Warrenton beginning at 7pm. Childcare is available.
URL:https://www.fcfc.tv/event/the-parables-of-jesus-3/
LOCATION:Warrenton Campus
END:VEVENT
BEGIN:VEVENT
DTSTART;TZID=America/Chicago:20240412T180000
DTEND;TZID=America/Chicago:20240412T210000
DTSTAMP:20260422T173132
CREATED:20240402T201859Z
LAST-MODIFIED:20240402T203038Z
UID:31227-1712944800-1712955600@www.fcfc.tv
SUMMARY:S.A.L.T. Game Night
DESCRIPTION:Join us as we meet in the youth room at the Warrenton campus at 6pm for a night of games and fun.
URL:https://www.fcfc.tv/event/s-a-l-t-game-night/
LOCATION:Warrenton Campus
END:VEVENT
BEGIN:VEVENT
DTSTART;TZID=America/Chicago:20240410T190000
DTEND;TZID=America/Chicago:20240410T203000
DTSTAMP:20260422T173132
CREATED:20240402T202153Z
LAST-MODIFIED:20240402T202153Z
UID:31231-1712775600-1712781000@www.fcfc.tv
SUMMARY:The Parables of Jesus
DESCRIPTION:On Wednesday nights in April Pastor Terry will be teaching a series on The Parables of Jesus. We meet in the upper room at Warrenton beginning at 7pm. Childcare is available.
URL:https://www.fcfc.tv/event/the-parables-of-jesus-2/
LOCATION:Warrenton Campus
END:VEVENT
BEGIN:VEVENT
DTSTART;TZID=America/Chicago:20240403T190000
DTEND;TZID=America/Chicago:20240403T203000
DTSTAMP:20260422T173132
CREATED:20240402T202118Z
LAST-MODIFIED:20240402T202118Z
UID:31229-1712170800-1712176200@www.fcfc.tv
SUMMARY:The Parables of Jesus
DESCRIPTION:On Wednesday nights in April Pastor Terry will be teaching a series on The Parables of Jesus. We meet in the upper room at Warrenton beginning at 7pm. Childcare is available.
URL:https://www.fcfc.tv/event/the-parables-of-jesus/
LOCATION:Warrenton Campus
END:VEVENT
BEGIN:VEVENT
DTSTART;TZID=America/Chicago:20240331T103000
DTEND;TZID=America/Chicago:20240331T120000
DTSTAMP:20260422T173132
CREATED:20240305T215329Z
LAST-MODIFIED:20240305T215329Z
UID:31170-1711881000-1711886400@www.fcfc.tv
SUMMARY:Easter Sunday in Warrenton
DESCRIPTION:On March 31 the message will start at the usual time. The message from Friday night and both services Sunday will be the same.
URL:https://www.fcfc.tv/event/easter-sunday-in-warrenton/
LOCATION:Warrenton Campus
END:VEVENT
BEGIN:VEVENT
DTSTART;TZID=America/Chicago:20240331T090000
DTEND;TZID=America/Chicago:20240331T120000
DTSTAMP:20260422T173132
CREATED:20240305T215159Z
LAST-MODIFIED:20240305T215159Z
UID:31168-1711875600-1711886400@www.fcfc.tv
SUMMARY:Easter Sunday at Wentzville
DESCRIPTION:On March 31 after the service there will be food\, an egg hunt and games. The message will be the same on Friday night and both services on Sunday.
URL:https://www.fcfc.tv/event/easter-sunday-at-wentzville/
LOCATION:Wentzville Campus
END:VEVENT
BEGIN:VEVENT
DTSTART;TZID=America/Chicago:20240329T170000
DTEND;TZID=America/Chicago:20240329T210000
DTSTAMP:20260422T173132
CREATED:20240305T174541Z
LAST-MODIFIED:20240305T214944Z
UID:31162-1711731600-1711746000@www.fcfc.tv
SUMMARY:Easter on Friday
DESCRIPTION:On March 29 at 5 pm at our Warrenton Campus we will have BBQ and bounce houses. There will be a Glow in the Dark egg hunt after the service. The message at 7 pm will be the same at all services.
URL:https://www.fcfc.tv/event/easter-on-friday-3/
LOCATION:Warrenton Campus
END:VEVENT
BEGIN:VEVENT
DTSTART;TZID=America/Chicago:20240324T120000
DTEND;TZID=America/Chicago:20240324T130000
DTSTAMP:20260422T173132
CREATED:20240312T152120Z
LAST-MODIFIED:20240312T152120Z
UID:31173-1711281600-1711285200@www.fcfc.tv
SUMMARY:Nursing Home Meeting
DESCRIPTION:If you are involved with with our nursing home ministry\, or you are interested in learning more\, attend the meeting on March 24 at noon in Warrenton. Lunch will be served.
URL:https://www.fcfc.tv/event/nursing-home-meeting/
LOCATION:Warrenton Campus
END:VEVENT
BEGIN:VEVENT
DTSTART;TZID=America/Chicago:20240317T103000
DTEND;TZID=America/Chicago:20240317T120000
DTSTAMP:20260422T173132
CREATED:20240213T164826Z
LAST-MODIFIED:20240213T164826Z
UID:31154-1710671400-1710676800@www.fcfc.tv
SUMMARY:Water Baptism
DESCRIPTION:We will be hosting baptisms at both of our campuses. Being water baptized is an outward profession of the inner change when you became a Christian. If you are interested in being baptized that morning\, make sure you arrive an hour before service for the baptismal class.
URL:https://www.fcfc.tv/event/water-baptism-15/
LOCATION:Warrenton Campus
END:VEVENT
END:VCALENDAR