BEGIN:VCALENDAR
VERSION:2.0
PRODID:-//Faith Christian Family Church - ECPv6.0.1.1//NONSGML v1.0//EN
CALSCALE:GREGORIAN
METHOD:PUBLISH
X-WR-CALNAME:Faith Christian Family Church
X-ORIGINAL-URL:https://www.fcfc.tv
X-WR-CALDESC:Events for Faith Christian Family Church
REFRESH-INTERVAL;VALUE=DURATION:PT1H
X-Robots-Tag:noindex
X-PUBLISHED-TTL:PT1H
BEGIN:VTIMEZONE
TZID:America/Chicago
BEGIN:DAYLIGHT
TZOFFSETFROM:-0600
TZOFFSETTO:-0500
TZNAME:CDT
DTSTART:20230312T080000
END:DAYLIGHT
BEGIN:STANDARD
TZOFFSETFROM:-0500
TZOFFSETTO:-0600
TZNAME:CST
DTSTART:20231105T070000
END:STANDARD
BEGIN:DAYLIGHT
TZOFFSETFROM:-0600
TZOFFSETTO:-0500
TZNAME:CDT
DTSTART:20240310T080000
END:DAYLIGHT
BEGIN:STANDARD
TZOFFSETFROM:-0500
TZOFFSETTO:-0600
TZNAME:CST
DTSTART:20241103T070000
END:STANDARD
END:VTIMEZONE
BEGIN:VEVENT
DTSTART;TZID=America/Chicago:20240109T060000
DTEND;TZID=America/Chicago:20240109T070000
DTSTAMP:20260422T165055
CREATED:20231218T204549Z
LAST-MODIFIED:20231218T204549Z
UID:31070-1704780000-1704783600@www.fcfc.tv
SUMMARY:21 Days of Prayer
DESCRIPTION:Join with us\, at church or at home\, for our 21 Days of Prayer\, from January 8 through January 27. Monday-Friday we will meet in the morning from 6-7 a.m. at Warrenton\, in the evening from 6-7 p.m. at Wentzville\, and on Saturday morning from 9-10 a.m. at both campuses. We will not meet on Sunday morning.
URL:https://www.fcfc.tv/event/21-days-of-prayer-103/
LOCATION:Warrenton Campus
END:VEVENT
BEGIN:VEVENT
DTSTART;TZID=America/Chicago:20240108T180000
DTEND;TZID=America/Chicago:20240108T190000
DTSTAMP:20260422T165055
CREATED:20231218T204446Z
LAST-MODIFIED:20231218T205701Z
UID:31068-1704736800-1704740400@www.fcfc.tv
SUMMARY:21 Days of Prayer
DESCRIPTION:Join with us\, at church or at home\, for our 21 Days of Prayer\, from January 8 through January 27. Monday-Friday we will meet in the morning from 6-7 a.m. at Warrenton\, in the evening from 6-7 p.m. at Wentzville\, and on Saturday morning from 9-10 a.m. at both campuses. We will not meet on Sunday morning.
URL:https://www.fcfc.tv/event/21-days-of-prayer-102/
LOCATION:Wentzville Campus
END:VEVENT
BEGIN:VEVENT
DTSTART;TZID=America/Chicago:20240108T060000
DTEND;TZID=America/Chicago:20240108T070000
DTSTAMP:20260422T165055
CREATED:20231218T205757Z
LAST-MODIFIED:20231218T205757Z
UID:31104-1704693600-1704697200@www.fcfc.tv
SUMMARY:21 Days of Prayer
DESCRIPTION:Join with us\, at church or at home\, for our 21 Days of Prayer\, from January 8 through January 27. Monday-Friday we will meet in the morning from 6-7 a.m. at Warrenton\, in the evening from 6-7 p.m. at Wentzville\, and on Saturday morning from 9-10 a.m. at both campuses. We will not meet on Sunday morning.
URL:https://www.fcfc.tv/event/21-days-of-prayer-120/
LOCATION:Warrenton Campus
END:VEVENT
BEGIN:VEVENT
DTSTART;TZID=America/Chicago:20231231T180000
DTEND;TZID=America/Chicago:20240101T060000
DTSTAMP:20260422T165055
CREATED:20231212T200003Z
LAST-MODIFIED:20231212T200003Z
UID:31065-1704045600-1704088800@www.fcfc.tv
SUMMARY:FCFC Youth New Years Eve Lock In
DESCRIPTION:The FCFC Youth are hosting a New Years Eve lock-in. The event kicks off at 6pm Dec 31st and ends at 6am on Jan 1st. Drop off and pick up is at Faith Christian Family Church. Tickets are $15. There will be loads of games and activities throughout the night. We kick off with a basketball tournament\, and will have lazer tag and inflatables throughout the night. The event is for kids in 6th – 12th grade. Food and drinks will be available throughout the night. We look forward to ushering in the new year with all of the youth.
URL:https://www.fcfc.tv/event/fcfc-youth-new-years-eve-lock-in-2/
LOCATION:Warrenton Campus
END:VEVENT
BEGIN:VEVENT
DTSTART;TZID=America/Chicago:20231210T103000
DTEND;TZID=America/Chicago:20231210T120000
DTSTAMP:20260422T165055
CREATED:20231003T203619Z
LAST-MODIFIED:20231003T203619Z
UID:30868-1702204200-1702209600@www.fcfc.tv
SUMMARY:Water Baptism
DESCRIPTION:We will be hosting baptisms at both of our campuses. Being water baptized is an outward profession of the inner change when you became a Christian. If you are interested in being baptized that morning\, make sure you arrive an hour before service for the baptismal class.
URL:https://www.fcfc.tv/event/water-baptism-11/
LOCATION:Warrenton Campus
END:VEVENT
BEGIN:VEVENT
DTSTART;TZID=America/Chicago:20231210T090000
DTEND;TZID=America/Chicago:20231210T120000
DTSTAMP:20260422T165055
CREATED:20231114T202754Z
LAST-MODIFIED:20231114T202754Z
UID:30998-1702198800-1702209600@www.fcfc.tv
SUMMARY:Christmas Toy Drive
DESCRIPTION:Servant’s Heart will be hosting a Christmas Toy Drive on Sunday\, December 3rd and December 10th. Please bring a new\, unwrapped gift for children ages newborn to 18 years. The drive will benefit local families through the Agape Christmas Store and Toys for Tots. Questions? Call Maureen King (636-99-74788) or Karen Gladieux (314-550-9296).
URL:https://www.fcfc.tv/event/christmas-toy-drive-2/
END:VEVENT
BEGIN:VEVENT
DTSTART;TZID=America/Chicago:20231210T090000
DTEND;TZID=America/Chicago:20231210T103000
DTSTAMP:20260422T165055
CREATED:20231003T203744Z
LAST-MODIFIED:20231003T203744Z
UID:30870-1702198800-1702204200@www.fcfc.tv
SUMMARY:Water Baptism
DESCRIPTION:We will be hosting baptisms at both of our campuses. Being water baptized is an outward profession of the inner change when you became a Christian. If you are interested in being baptized that morning\, make sure you arrive an hour before service for the baptismal class.
URL:https://www.fcfc.tv/event/water-baptism-12/
LOCATION:Wentzville Campus
END:VEVENT
BEGIN:VEVENT
DTSTART;TZID=America/Chicago:20231208T180000
DTEND;TZID=America/Chicago:20231208T210000
DTSTAMP:20260422T165055
CREATED:20231121T202425Z
LAST-MODIFIED:20231121T202644Z
UID:31033-1702058400-1702069200@www.fcfc.tv
SUMMARY:S.A.L.T. Christmas Cookie Party
DESCRIPTION:The S.A.L.T. group will have an evening of fun and laughter in the Warrenton foyer\, 6pm Friday\, December 8.  Please bring your favorite cookies\, and an inexpensive wrapped gift for “Rob your Neighbor”. Drinks will be provided.
URL:https://www.fcfc.tv/event/s-a-l-t-christmas-cookie-party-2/
LOCATION:Warrenton Campus
END:VEVENT
BEGIN:VEVENT
DTSTART;TZID=America/Chicago:20231203T090000
DTEND;TZID=America/Chicago:20231203T090000
DTSTAMP:20260422T165055
CREATED:20231114T202650Z
LAST-MODIFIED:20231114T202823Z
UID:30995-1701594000-1701594000@www.fcfc.tv
SUMMARY:Christmas Toy Drive
DESCRIPTION:Servant’s Heart will be hosting a Christmas Toy Drive on Sunday\, December 3rd and December 10th. Please bring a new\, unwrapped gift for children ages newborn to 18 years. The drive will benefit local families through the Agape Christmas Store and Toys for Tots. Questions? Call Maureen King (636-99-74788) or Karen Gladieux (314-550-9296).
URL:https://www.fcfc.tv/event/christmas-toy-drive/
END:VEVENT
BEGIN:VEVENT
DTSTART;TZID=America/Chicago:20231202T140000
DTEND;TZID=America/Chicago:20231202T170000
DTSTAMP:20260422T165055
CREATED:20231024T154543Z
LAST-MODIFIED:20231128T173817Z
UID:30878-1701525600-1701536400@www.fcfc.tv
SUMMARY:Ladies' Christmas Tea
DESCRIPTION:Join us on December 2 at 2:00pm for a Ladies’ Tea at the Warrenton Campus. There will be worship music with Valerie Hays\, and a message by Bevin Bold from AIMs. This is a great opportunity to socialize with other ladies from FCFC and their guests. \nClick here to purchase your tickets!
URL:https://www.fcfc.tv/event/ladies-christmas-tea/
LOCATION:Warrenton Campus
END:VEVENT
BEGIN:VEVENT
DTSTART;TZID=America/Chicago:20231110T170000
DTEND;TZID=America/Chicago:20231110T190000
DTSTAMP:20260422T165055
CREATED:20231101T221439Z
LAST-MODIFIED:20231101T221439Z
UID:30882-1699635600-1699642800@www.fcfc.tv
SUMMARY:S.A.L.T. Thanksgiving Dinner
DESCRIPTION:Our S.A.L.T. group will be sharing a Thanksgiving Dinner on Friday\, November 20\, 5pm in the Warrenton Youth Room. Please bring a Thanksgiving side or dessert. Turkey and drinks will be provided. For more information contact Mike or Shawn McCord at 636.456.4352.
URL:https://www.fcfc.tv/event/s-a-l-t-thanksgiving-dinner/
LOCATION:Warrenton Campus
END:VEVENT
BEGIN:VEVENT
DTSTART;TZID=America/Chicago:20231105T090000
DTEND;TZID=America/Chicago:20231105T123000
DTSTAMP:20260422T165055
CREATED:20231003T202738Z
LAST-MODIFIED:20231003T202738Z
UID:30866-1699174800-1699187400@www.fcfc.tv
SUMMARY:Heart For The House
DESCRIPTION:On Sunday\, November 5\, we will be receiving our annual Heart For The House offering. This is an offering above and beyond your normal tithe\, and it enables us to do some of the extra things we do here at Faith Christian Family Church. Please be in prayer\, asking God to guide you in your giving.
URL:https://www.fcfc.tv/event/heart-for-the-house-3/
LOCATION:FCFC All Campuses
END:VEVENT
BEGIN:VEVENT
DTSTART;TZID=America/Chicago:20231025T180000
DTEND;TZID=America/Chicago:20231025T210000
DTSTAMP:20260422T165055
CREATED:20231017T193606Z
LAST-MODIFIED:20231025T183830Z
UID:30873-1698256800-1698267600@www.fcfc.tv
SUMMARY:Fall Fiesta!
DESCRIPTION:Join us at our Warrenton Campus on Wednesday\, October 25th for Fall Fiesta! Starting at 6 pm we will have games\, food\, and Trunk or Treat. We will also be hosting a chili cook-off! Bring the family for a fun evening.
URL:https://www.fcfc.tv/event/fall-fiesta/
LOCATION:Warrenton Campus
END:VEVENT
BEGIN:VEVENT
DTSTART;TZID=America/Chicago:20231007T080000
DTEND;TZID=America/Chicago:20231007T170000
DTSTAMP:20260422T165055
CREATED:20230922T150856Z
LAST-MODIFIED:20230922T150856Z
UID:30861-1696665600-1696698000@www.fcfc.tv
SUMMARY:Serve Day
DESCRIPTION:The annual Servant’s Heart Serve Day is October 7. We will be blessing the community by doing simple projects\, sharing the love of Jesus. Sign-up tables are in the foyer at both campuses. \nSign up to help by clicking here!
URL:https://www.fcfc.tv/event/serve-day/
LOCATION:Warrenton Campus
END:VEVENT
BEGIN:VEVENT
DTSTART;TZID=America/Chicago:20230924T103000
DTEND;TZID=America/Chicago:20230924T120000
DTSTAMP:20260422T165055
CREATED:20230829T195935Z
LAST-MODIFIED:20230829T195935Z
UID:30854-1695551400-1695556800@www.fcfc.tv
SUMMARY:Water Baptism
DESCRIPTION:We will be hosting baptisms at both of our campuses. Being water baptized is an outward profession of the inner change when you became a Christian. If you are interested in being baptized that morning\, make sure you arrive an hour before service for the baptismal class.
URL:https://www.fcfc.tv/event/water-baptism-10/
LOCATION:Warrenton Campus
END:VEVENT
BEGIN:VEVENT
DTSTART;TZID=America/Chicago:20230924T090000
DTEND;TZID=America/Chicago:20230924T103000
DTSTAMP:20260422T165055
CREATED:20230829T195859Z
LAST-MODIFIED:20230829T195859Z
UID:30852-1695546000-1695551400@www.fcfc.tv
SUMMARY:Water Baptism
DESCRIPTION:We will be hosting baptisms at both of our campuses. Being water baptized is an outward profession of the inner change when you became a Christian. If you are interested in being baptized that morning\, make sure you arrive an hour before service for the baptismal class.
URL:https://www.fcfc.tv/event/water-baptism-9/
LOCATION:Wentzville Campus
END:VEVENT
BEGIN:VEVENT
DTSTART;TZID=America/Chicago:20230917T103000
DTEND;TZID=America/Chicago:20230917T120000
DTSTAMP:20260422T165055
CREATED:20230815T184407Z
LAST-MODIFIED:20230815T184407Z
UID:30846-1694946600-1694952000@www.fcfc.tv
SUMMARY:Joe McGee
DESCRIPTION:It’s always fun when Joe McGee comes to visit. Be sure to be at church on September 17 for a great message.
URL:https://www.fcfc.tv/event/joe-mcgee-4/
LOCATION:Warrenton Campus
END:VEVENT
BEGIN:VEVENT
DTSTART;TZID=America/Chicago:20230917T090000
DTEND;TZID=America/Chicago:20230917T103000
DTSTAMP:20260422T165055
CREATED:20230815T184512Z
LAST-MODIFIED:20230815T184512Z
UID:30848-1694941200-1694946600@www.fcfc.tv
SUMMARY:Joe McGee
DESCRIPTION:It’s always fun when Joe McGee comes to visit. Be sure to be at church on September 17 for a great message.
URL:https://www.fcfc.tv/event/joe-mcgee-5/
LOCATION:Wentzville Campus
END:VEVENT
BEGIN:VEVENT
DTSTART;TZID=America/Chicago:20230826T090000
DTEND;TZID=America/Chicago:20230826T100000
DTSTAMP:20260422T165055
CREATED:20230724T185414Z
LAST-MODIFIED:20230724T185414Z
UID:30837-1693040400-1693044000@www.fcfc.tv
SUMMARY:21 Days of Prayer
DESCRIPTION:Join with us\, at church or at home\, for our 21 Days of Prayer\, from August 6 through August 26. Monday-Friday we will meet in the morning from 6-7 a.m. at Warrenton\, in the evening from 6-7 p.m. at Wentzville\, and on Saturday morning from 9-10 a.m. at both campuses. We will not meet on Sunday morning.
URL:https://www.fcfc.tv/event/21-days-of-prayer-101/
LOCATION:Warrenton Campus
END:VEVENT
BEGIN:VEVENT
DTSTART;TZID=America/Chicago:20230826T090000
DTEND;TZID=America/Chicago:20230826T100000
DTSTAMP:20260422T165055
CREATED:20230724T180446Z
LAST-MODIFIED:20230724T184412Z
UID:30804-1693040400-1693044000@www.fcfc.tv
SUMMARY:21 Days of Prayer
DESCRIPTION:Join with us\, at church or at home\, for our 21 Days of Prayer\, from August 6 through August 26. Monday-Friday we will meet in the morning from 6-7 a.m. at Warrenton\, in the evening from 6-7 p.m. at Wentzville\, and on Saturday morning from 9-10 a.m. at both campuses. We will not meet on Sunday morning.
URL:https://www.fcfc.tv/event/21-days-of-prayer-85/
LOCATION:Wentzville Campus
END:VEVENT
BEGIN:VEVENT
DTSTART;TZID=America/Chicago:20230825T180000
DTEND;TZID=America/Chicago:20230825T190000
DTSTAMP:20260422T165055
CREATED:20230724T180359Z
LAST-MODIFIED:20230724T184339Z
UID:30803-1692986400-1692990000@www.fcfc.tv
SUMMARY:21 Days of Prayer
DESCRIPTION:Join with us\, at church or at home\, for our 21 Days of Prayer\, from August 6 through August 26. Monday-Friday we will meet in the morning from 6-7 a.m. at Warrenton\, in the evening from 6-7 p.m. at Wentzville\, and on Saturday morning from 9-10 a.m. at both campuses. We will not meet on Sunday morning.
URL:https://www.fcfc.tv/event/21-days-of-prayer-84/
LOCATION:Wentzville Campus
END:VEVENT
BEGIN:VEVENT
DTSTART;TZID=America/Chicago:20230825T060000
DTEND;TZID=America/Chicago:20230825T070000
DTSTAMP:20260422T165055
CREATED:20230724T185340Z
LAST-MODIFIED:20230724T185340Z
UID:30832-1692943200-1692946800@www.fcfc.tv
SUMMARY:21 Days of Prayer
DESCRIPTION:Join with us\, at church or at home\, for our 21 Days of Prayer\, from August 6 through August 26. Monday-Friday we will meet in the morning from 6-7 a.m. at Warrenton\, in the evening from 6-7 p.m. at Wentzville\, and on Saturday morning from 9-10 a.m. at both campuses. We will not meet on Sunday morning.
URL:https://www.fcfc.tv/event/21-days-of-prayer-100/
LOCATION:Warrenton Campus
END:VEVENT
BEGIN:VEVENT
DTSTART;TZID=America/Chicago:20230824T180000
DTEND;TZID=America/Chicago:20230824T190000
DTSTAMP:20260422T165055
CREATED:20230724T180333Z
LAST-MODIFIED:20230724T184307Z
UID:30802-1692900000-1692903600@www.fcfc.tv
SUMMARY:21 Days of Prayer
DESCRIPTION:Join with us\, at church or at home\, for our 21 Days of Prayer\, from August 6 through August 26. Monday-Friday we will meet in the morning from 6-7 a.m. at Warrenton\, in the evening from 6-7 p.m. at Wentzville\, and on Saturday morning from 9-10 a.m. at both campuses. We will not meet on Sunday morning.
URL:https://www.fcfc.tv/event/21-days-of-prayer-83/
LOCATION:Wentzville Campus
END:VEVENT
BEGIN:VEVENT
DTSTART;TZID=America/Chicago:20230824T060000
DTEND;TZID=America/Chicago:20230824T070000
DTSTAMP:20260422T165055
CREATED:20230724T185304Z
LAST-MODIFIED:20230724T185304Z
UID:30831-1692856800-1692860400@www.fcfc.tv
SUMMARY:21 Days of Prayer
DESCRIPTION:Join with us\, at church or at home\, for our 21 Days of Prayer\, from August 6 through August 26. Monday-Friday we will meet in the morning from 6-7 a.m. at Warrenton\, in the evening from 6-7 p.m. at Wentzville\, and on Saturday morning from 9-10 a.m. at both campuses. We will not meet on Sunday morning.
URL:https://www.fcfc.tv/event/21-days-of-prayer-99/
LOCATION:Warrenton Campus
END:VEVENT
BEGIN:VEVENT
DTSTART;TZID=America/Chicago:20230823T180000
DTEND;TZID=America/Chicago:20230823T190000
DTSTAMP:20260422T165055
CREATED:20230718T214053Z
LAST-MODIFIED:20230724T184237Z
UID:30800-1692813600-1692817200@www.fcfc.tv
SUMMARY:21 Days of Prayer
DESCRIPTION:Join with us\, at church or at home\, for our 21 Days of Prayer\, from August 6 through August 26. Monday-Friday we will meet in the morning from 6-7 a.m. at Warrenton\, in the evening from 6-7 p.m. at Wentzville\, and on Saturday morning from 9-10 a.m. at both campuses. We will not meet on Sunday morning.
URL:https://www.fcfc.tv/event/21-days-of-prayer-82/
LOCATION:Wentzville Campus
END:VEVENT
BEGIN:VEVENT
DTSTART;TZID=America/Chicago:20230823T060000
DTEND;TZID=America/Chicago:20230823T070000
DTSTAMP:20260422T165055
CREATED:20230724T185218Z
LAST-MODIFIED:20230724T185218Z
UID:30830-1692770400-1692774000@www.fcfc.tv
SUMMARY:21 Days of Prayer
DESCRIPTION:Join with us\, at church or at home\, for our 21 Days of Prayer\, from August 6 through August 26. Monday-Friday we will meet in the morning from 6-7 a.m. at Warrenton\, in the evening from 6-7 p.m. at Wentzville\, and on Saturday morning from 9-10 a.m. at both campuses. We will not meet on Sunday morning.
URL:https://www.fcfc.tv/event/21-days-of-prayer-98/
LOCATION:Warrenton Campus
END:VEVENT
BEGIN:VEVENT
DTSTART;TZID=America/Chicago:20230822T180000
DTEND;TZID=America/Chicago:20230822T190000
DTSTAMP:20260422T165055
CREATED:20230718T213714Z
LAST-MODIFIED:20230724T183255Z
UID:30787-1692727200-1692730800@www.fcfc.tv
SUMMARY:21 Days of Prayer
DESCRIPTION:Join with us\, at church or at home\, for our 21 Days of Prayer\, from August 6 through August 26. Monday-Friday we will meet in the morning from 6-7 a.m. at Warrenton\, in the evening from 6-7 p.m. at Wentzville\, and on Saturday morning from 9-10 a.m. at both campuses. We will not meet on Sunday morning.
URL:https://www.fcfc.tv/event/21-days-of-prayer-81/
LOCATION:Wentzville Campus
END:VEVENT
BEGIN:VEVENT
DTSTART;TZID=America/Chicago:20230822T060000
DTEND;TZID=America/Chicago:20230822T070000
DTSTAMP:20260422T165055
CREATED:20230724T185155Z
LAST-MODIFIED:20230724T185155Z
UID:30829-1692684000-1692687600@www.fcfc.tv
SUMMARY:21 Days of Prayer
DESCRIPTION:Join with us\, at church or at home\, for our 21 Days of Prayer\, from August 6 through August 26. Monday-Friday we will meet in the morning from 6-7 a.m. at Warrenton\, in the evening from 6-7 p.m. at Wentzville\, and on Saturday morning from 9-10 a.m. at both campuses. We will not meet on Sunday morning.
URL:https://www.fcfc.tv/event/21-days-of-prayer-97/
LOCATION:Warrenton Campus
END:VEVENT
BEGIN:VEVENT
DTSTART;TZID=America/Chicago:20230821T180000
DTEND;TZID=America/Chicago:20230821T190000
DTSTAMP:20260422T165055
CREATED:20230718T213651Z
LAST-MODIFIED:20230724T183225Z
UID:30786-1692640800-1692644400@www.fcfc.tv
SUMMARY:21 Days of Prayer
DESCRIPTION:Join with us\, at church or at home\, for our 21 Days of Prayer\, from August 6 through August 26. Monday-Friday we will meet in the morning from 6-7 a.m. at Warrenton\, in the evening from 6-7 p.m. at Wentzville\, and on Saturday morning from 9-10 a.m. at both campuses. We will not meet on Sunday morning.
URL:https://www.fcfc.tv/event/21-days-of-prayer-80/
LOCATION:Wentzville Campus
END:VEVENT
BEGIN:VEVENT
DTSTART;TZID=America/Chicago:20230821T060000
DTEND;TZID=America/Chicago:20230821T070000
DTSTAMP:20260422T165055
CREATED:20230724T185132Z
LAST-MODIFIED:20230724T185132Z
UID:30828-1692597600-1692601200@www.fcfc.tv
SUMMARY:21 Days of Prayer
DESCRIPTION:Join with us\, at church or at home\, for our 21 Days of Prayer\, from August 6 through August 26. Monday-Friday we will meet in the morning from 6-7 a.m. at Warrenton\, in the evening from 6-7 p.m. at Wentzville\, and on Saturday morning from 9-10 a.m. at both campuses. We will not meet on Sunday morning.
URL:https://www.fcfc.tv/event/21-days-of-prayer-96/
LOCATION:Warrenton Campus
END:VEVENT
END:VCALENDAR