BEGIN:VCALENDAR
VERSION:2.0
PRODID:-//Faith Christian Family Church - ECPv6.0.1.1//NONSGML v1.0//EN
CALSCALE:GREGORIAN
METHOD:PUBLISH
X-WR-CALNAME:Faith Christian Family Church
X-ORIGINAL-URL:https://www.fcfc.tv
X-WR-CALDESC:Events for Faith Christian Family Church
REFRESH-INTERVAL;VALUE=DURATION:PT1H
X-Robots-Tag:noindex
X-PUBLISHED-TTL:PT1H
BEGIN:VTIMEZONE
TZID:America/Chicago
BEGIN:DAYLIGHT
TZOFFSETFROM:-0600
TZOFFSETTO:-0500
TZNAME:CDT
DTSTART:20240310T080000
END:DAYLIGHT
BEGIN:STANDARD
TZOFFSETFROM:-0500
TZOFFSETTO:-0600
TZNAME:CST
DTSTART:20241103T070000
END:STANDARD
END:VTIMEZONE
BEGIN:VEVENT
DTSTART;TZID=America/Chicago:20240126T180000
DTEND;TZID=America/Chicago:20240126T190000
DTSTAMP:20260422T175336
CREATED:20231218T211030Z
LAST-MODIFIED:20231218T211030Z
UID:31128-1706292000-1706295600@www.fcfc.tv
SUMMARY:21 Days of Prayer
DESCRIPTION:Join with us\, at church or at home\, for our 21 Days of Prayer\, from January 8 through January 27. Monday-Friday we will meet in the morning from 6-7 a.m. at Warrenton\, in the evening from 6-7 p.m. at Wentzville\, and on Saturday morning from 9-10 a.m. at both campuses. We will not meet on Sunday morning.
URL:https://www.fcfc.tv/event/21-days-of-prayer-134/
LOCATION:Wentzville Campus
END:VEVENT
BEGIN:VEVENT
DTSTART;TZID=America/Chicago:20240126T060000
DTEND;TZID=America/Chicago:20240126T070000
DTSTAMP:20260422T175336
CREATED:20231218T205256Z
LAST-MODIFIED:20231218T205256Z
UID:31084-1706248800-1706252400@www.fcfc.tv
SUMMARY:21 Days of Prayer
DESCRIPTION:Join with us\, at church or at home\, for our 21 Days of Prayer\, from January 8 through January 27. Monday-Friday we will meet in the morning from 6-7 a.m. at Warrenton\, in the evening from 6-7 p.m. at Wentzville\, and on Saturday morning from 9-10 a.m. at both campuses. We will not meet on Sunday morning.
URL:https://www.fcfc.tv/event/21-days-of-prayer-116/
LOCATION:Warrenton Campus
END:VEVENT
BEGIN:VEVENT
DTSTART;TZID=America/Chicago:20240125T180000
DTEND;TZID=America/Chicago:20240125T190000
DTSTAMP:20260422T175336
CREATED:20231218T211008Z
LAST-MODIFIED:20231218T211008Z
UID:31127-1706205600-1706209200@www.fcfc.tv
SUMMARY:21 Days of Prayer
DESCRIPTION:Join with us\, at church or at home\, for our 21 Days of Prayer\, from January 8 through January 27. Monday-Friday we will meet in the morning from 6-7 a.m. at Warrenton\, in the evening from 6-7 p.m. at Wentzville\, and on Saturday morning from 9-10 a.m. at both campuses. We will not meet on Sunday morning.
URL:https://www.fcfc.tv/event/21-days-of-prayer-133/
LOCATION:Wentzville Campus
END:VEVENT
BEGIN:VEVENT
DTSTART;TZID=America/Chicago:20240125T060000
DTEND;TZID=America/Chicago:20240125T070000
DTSTAMP:20260422T175336
CREATED:20231218T205226Z
LAST-MODIFIED:20231218T205226Z
UID:31083-1706162400-1706166000@www.fcfc.tv
SUMMARY:21 Days of Prayer
DESCRIPTION:Join with us\, at church or at home\, for our 21 Days of Prayer\, from January 8 through January 27. Monday-Friday we will meet in the morning from 6-7 a.m. at Warrenton\, in the evening from 6-7 p.m. at Wentzville\, and on Saturday morning from 9-10 a.m. at both campuses. We will not meet on Sunday morning.
URL:https://www.fcfc.tv/event/21-days-of-prayer-115/
LOCATION:Warrenton Campus
END:VEVENT
BEGIN:VEVENT
DTSTART;TZID=America/Chicago:20240124T180000
DTEND;TZID=America/Chicago:20240124T190000
DTSTAMP:20260422T175336
CREATED:20231218T210902Z
LAST-MODIFIED:20231218T211428Z
UID:31124-1706119200-1706122800@www.fcfc.tv
SUMMARY:21 Days of Prayer
DESCRIPTION:Join with us\, at church or at home\, for our 21 Days of Prayer\, from January 8 through January 27. Monday-Friday we will meet in the morning from 6-7 a.m. at Warrenton\, in the evening from 6-7 p.m. at Wentzville\, and on Saturday morning from 9-10 a.m. at both campuses. We will not meet on Sunday morning.
URL:https://www.fcfc.tv/event/21-days-of-prayer-130/
LOCATION:Wentzville Campus
END:VEVENT
BEGIN:VEVENT
DTSTART;TZID=America/Chicago:20240124T060000
DTEND;TZID=America/Chicago:20240124T070000
DTSTAMP:20260422T175336
CREATED:20231218T205201Z
LAST-MODIFIED:20231218T205201Z
UID:31082-1706076000-1706079600@www.fcfc.tv
SUMMARY:21 Days of Prayer
DESCRIPTION:Join with us\, at church or at home\, for our 21 Days of Prayer\, from January 8 through January 27. Monday-Friday we will meet in the morning from 6-7 a.m. at Warrenton\, in the evening from 6-7 p.m. at Wentzville\, and on Saturday morning from 9-10 a.m. at both campuses. We will not meet on Sunday morning.
URL:https://www.fcfc.tv/event/21-days-of-prayer-114/
LOCATION:Warrenton Campus
END:VEVENT
BEGIN:VEVENT
DTSTART;TZID=America/Chicago:20240123T180000
DTEND;TZID=America/Chicago:20240123T190000
DTSTAMP:20260422T175336
CREATED:20231218T210925Z
LAST-MODIFIED:20231218T210925Z
UID:31125-1706032800-1706036400@www.fcfc.tv
SUMMARY:21 Days of Prayer
DESCRIPTION:Join with us\, at church or at home\, for our 21 Days of Prayer\, from January 8 through January 27. Monday-Friday we will meet in the morning from 6-7 a.m. at Warrenton\, in the evening from 6-7 p.m. at Wentzville\, and on Saturday morning from 9-10 a.m. at both campuses. We will not meet on Sunday morning.
URL:https://www.fcfc.tv/event/21-days-of-prayer-131/
LOCATION:Wentzville Campus
END:VEVENT
BEGIN:VEVENT
DTSTART;TZID=America/Chicago:20240123T060000
DTEND;TZID=America/Chicago:20240123T070000
DTSTAMP:20260422T175336
CREATED:20231218T205131Z
LAST-MODIFIED:20231218T205131Z
UID:31081-1705989600-1705993200@www.fcfc.tv
SUMMARY:21 Days of Prayer
DESCRIPTION:Join with us\, at church or at home\, for our 21 Days of Prayer\, from January 8 through January 27. Monday-Friday we will meet in the morning from 6-7 a.m. at Warrenton\, in the evening from 6-7 p.m. at Wentzville\, and on Saturday morning from 9-10 a.m. at both campuses. We will not meet on Sunday morning.
URL:https://www.fcfc.tv/event/21-days-of-prayer-113/
LOCATION:Warrenton Campus
END:VEVENT
BEGIN:VEVENT
DTSTART;TZID=America/Chicago:20240122T180000
DTEND;TZID=America/Chicago:20240122T190000
DTSTAMP:20260422T175336
CREATED:20231218T210946Z
LAST-MODIFIED:20231218T211514Z
UID:31126-1705946400-1705950000@www.fcfc.tv
SUMMARY:21 Days of Prayer
DESCRIPTION:Join with us\, at church or at home\, for our 21 Days of Prayer\, from January 8 through January 27. Monday-Friday we will meet in the morning from 6-7 a.m. at Warrenton\, in the evening from 6-7 p.m. at Wentzville\, and on Saturday morning from 9-10 a.m. at both campuses. We will not meet on Sunday morning.
URL:https://www.fcfc.tv/event/21-days-of-prayer-132/
LOCATION:Wentzville Campus
END:VEVENT
BEGIN:VEVENT
DTSTART;TZID=America/Chicago:20240122T060000
DTEND;TZID=America/Chicago:20240122T070000
DTSTAMP:20260422T175336
CREATED:20231218T205107Z
LAST-MODIFIED:20231218T205107Z
UID:31080-1705903200-1705906800@www.fcfc.tv
SUMMARY:21 Days of Prayer
DESCRIPTION:Join with us\, at church or at home\, for our 21 Days of Prayer\, from January 8 through January 27. Monday-Friday we will meet in the morning from 6-7 a.m. at Warrenton\, in the evening from 6-7 p.m. at Wentzville\, and on Saturday morning from 9-10 a.m. at both campuses. We will not meet on Sunday morning.
URL:https://www.fcfc.tv/event/21-days-of-prayer-112/
LOCATION:Warrenton Campus
END:VEVENT
BEGIN:VEVENT
DTSTART;TZID=America/Chicago:20240121T103000
DTEND;TZID=America/Chicago:20240121T120000
DTSTAMP:20260422T175336
CREATED:20240102T181315Z
LAST-MODIFIED:20240102T181315Z
UID:31139-1705833000-1705838400@www.fcfc.tv
SUMMARY:Water Baptism
DESCRIPTION:We will be hosting baptisms at both of our campuses. Being water baptized is an outward profession of the inner change when you became a Christian. If you are interested in being baptized that morning\, make sure you arrive an hour before service for the baptismal class.
URL:https://www.fcfc.tv/event/water-baptism-14/
LOCATION:Warrenton Campus
END:VEVENT
BEGIN:VEVENT
DTSTART;TZID=America/Chicago:20240121T090000
DTEND;TZID=America/Chicago:20240121T103000
DTSTAMP:20260422T175336
CREATED:20240102T181237Z
LAST-MODIFIED:20240102T181237Z
UID:31137-1705827600-1705833000@www.fcfc.tv
SUMMARY:Water Baptism
DESCRIPTION:We will be hosting baptisms at both of our campuses. Being water baptized is an outward profession of the inner change when you became a Christian. If you are interested in being baptized that morning\, make sure you arrive an hour before service for the baptismal class.
URL:https://www.fcfc.tv/event/water-baptism-13/
LOCATION:Wentzville Campus
END:VEVENT
BEGIN:VEVENT
DTSTART;TZID=America/Chicago:20240120T090000
DTEND;TZID=America/Chicago:20240120T100000
DTSTAMP:20260422T175336
CREATED:20231218T205445Z
LAST-MODIFIED:20231218T205445Z
UID:31086-1705741200-1705744800@www.fcfc.tv
SUMMARY:21 Days of Prayer
DESCRIPTION:Join with us\, at church or at home\, for our 21 Days of Prayer\, from January 8 through January 27. Monday-Friday we will meet in the morning from 6-7 a.m. at Warrenton\, in the evening from 6-7 p.m. at Wentzville\, and on Saturday morning from 9-10 a.m. at both campuses. We will not meet on Sunday morning.
URL:https://www.fcfc.tv/event/21-days-of-prayer-118/
LOCATION:FCFC All Campuses
END:VEVENT
BEGIN:VEVENT
DTSTART;TZID=America/Chicago:20240119T180000
DTEND;TZID=America/Chicago:20240119T190000
DTSTAMP:20260422T175336
CREATED:20231218T210707Z
LAST-MODIFIED:20231218T210707Z
UID:31118-1705687200-1705690800@www.fcfc.tv
SUMMARY:21 Days of Prayer
DESCRIPTION:Join with us\, at church or at home\, for our 21 Days of Prayer\, from January 8 through January 27. Monday-Friday we will meet in the morning from 6-7 a.m. at Warrenton\, in the evening from 6-7 p.m. at Wentzville\, and on Saturday morning from 9-10 a.m. at both campuses. We will not meet on Sunday morning.
URL:https://www.fcfc.tv/event/21-days-of-prayer-129/
LOCATION:Wentzville Campus
END:VEVENT
BEGIN:VEVENT
DTSTART;TZID=America/Chicago:20240119T060000
DTEND;TZID=America/Chicago:20240119T070000
DTSTAMP:20260422T175336
CREATED:20231218T205043Z
LAST-MODIFIED:20231218T205043Z
UID:31088-1705644000-1705647600@www.fcfc.tv
SUMMARY:21 Days of Prayer
DESCRIPTION:Join with us\, at church or at home\, for our 21 Days of Prayer\, from January 8 through January 27. Monday-Friday we will meet in the morning from 6-7 a.m. at Warrenton\, in the evening from 6-7 p.m. at Wentzville\, and on Saturday morning from 9-10 a.m. at both campuses. We will not meet on Sunday morning.
URL:https://www.fcfc.tv/event/21-days-of-prayer-111/
LOCATION:Warrenton Campus
END:VEVENT
BEGIN:VEVENT
DTSTART;TZID=America/Chicago:20240118T180000
DTEND;TZID=America/Chicago:20240118T190000
DTSTAMP:20260422T175336
CREATED:20231218T210558Z
LAST-MODIFIED:20231218T210558Z
UID:31117-1705600800-1705604400@www.fcfc.tv
SUMMARY:21 Days of Prayer
DESCRIPTION:Join with us\, at church or at home\, for our 21 Days of Prayer\, from January 8 through January 27. Monday-Friday we will meet in the morning from 6-7 a.m. at Warrenton\, in the evening from 6-7 p.m. at Wentzville\, and on Saturday morning from 9-10 a.m. at both campuses. We will not meet on Sunday morning.
URL:https://www.fcfc.tv/event/21-days-of-prayer-128/
LOCATION:Wentzville Campus
END:VEVENT
BEGIN:VEVENT
DTSTART;TZID=America/Chicago:20240118T060000
DTEND;TZID=America/Chicago:20240118T070000
DTSTAMP:20260422T175336
CREATED:20231218T205021Z
LAST-MODIFIED:20231218T205021Z
UID:31089-1705557600-1705561200@www.fcfc.tv
SUMMARY:21 Days of Prayer
DESCRIPTION:Join with us\, at church or at home\, for our 21 Days of Prayer\, from January 8 through January 27. Monday-Friday we will meet in the morning from 6-7 a.m. at Warrenton\, in the evening from 6-7 p.m. at Wentzville\, and on Saturday morning from 9-10 a.m. at both campuses. We will not meet on Sunday morning.
URL:https://www.fcfc.tv/event/21-days-of-prayer-110/
LOCATION:Warrenton Campus
END:VEVENT
BEGIN:VEVENT
DTSTART;TZID=America/Chicago:20240117T180000
DTEND;TZID=America/Chicago:20240117T190000
DTSTAMP:20260422T175336
CREATED:20231218T210534Z
LAST-MODIFIED:20231218T210534Z
UID:31116-1705514400-1705518000@www.fcfc.tv
SUMMARY:21 Days of Prayer
DESCRIPTION:Join with us\, at church or at home\, for our 21 Days of Prayer\, from January 8 through January 27. Monday-Friday we will meet in the morning from 6-7 a.m. at Warrenton\, in the evening from 6-7 p.m. at Wentzville\, and on Saturday morning from 9-10 a.m. at both campuses. We will not meet on Sunday morning.
URL:https://www.fcfc.tv/event/21-days-of-prayer-127/
LOCATION:Wentzville Campus
END:VEVENT
BEGIN:VEVENT
DTSTART;TZID=America/Chicago:20240117T060000
DTEND;TZID=America/Chicago:20240117T070000
DTSTAMP:20260422T175336
CREATED:20231218T204959Z
LAST-MODIFIED:20231218T204959Z
UID:31091-1705471200-1705474800@www.fcfc.tv
SUMMARY:21 Days of Prayer
DESCRIPTION:Join with us\, at church or at home\, for our 21 Days of Prayer\, from January 8 through January 27. Monday-Friday we will meet in the morning from 6-7 a.m. at Warrenton\, in the evening from 6-7 p.m. at Wentzville\, and on Saturday morning from 9-10 a.m. at both campuses. We will not meet on Sunday morning.
URL:https://www.fcfc.tv/event/21-days-of-prayer-109/
LOCATION:Warrenton Campus
END:VEVENT
BEGIN:VEVENT
DTSTART;TZID=America/Chicago:20240116T180000
DTEND;TZID=America/Chicago:20240116T190000
DTSTAMP:20260422T175336
CREATED:20231218T210514Z
LAST-MODIFIED:20231218T210514Z
UID:31115-1705428000-1705431600@www.fcfc.tv
SUMMARY:21 Days of Prayer
DESCRIPTION:Join with us\, at church or at home\, for our 21 Days of Prayer\, from January 8 through January 27. Monday-Friday we will meet in the morning from 6-7 a.m. at Warrenton\, in the evening from 6-7 p.m. at Wentzville\, and on Saturday morning from 9-10 a.m. at both campuses. We will not meet on Sunday morning.
URL:https://www.fcfc.tv/event/21-days-of-prayer-126/
LOCATION:Wentzville Campus
END:VEVENT
BEGIN:VEVENT
DTSTART;TZID=America/Chicago:20240116T060000
DTEND;TZID=America/Chicago:20240116T070000
DTSTAMP:20260422T175336
CREATED:20231218T204937Z
LAST-MODIFIED:20231218T204937Z
UID:31090-1705384800-1705388400@www.fcfc.tv
SUMMARY:21 Days of Prayer
DESCRIPTION:Join with us\, at church or at home\, for our 21 Days of Prayer\, from January 8 through January 27. Monday-Friday we will meet in the morning from 6-7 a.m. at Warrenton\, in the evening from 6-7 p.m. at Wentzville\, and on Saturday morning from 9-10 a.m. at both campuses. We will not meet on Sunday morning.
URL:https://www.fcfc.tv/event/21-days-of-prayer-108/
LOCATION:Warrenton Campus
END:VEVENT
BEGIN:VEVENT
DTSTART;TZID=America/Chicago:20240115T180000
DTEND;TZID=America/Chicago:20240115T190000
DTSTAMP:20260422T175336
CREATED:20231218T210445Z
LAST-MODIFIED:20231218T210445Z
UID:31114-1705341600-1705345200@www.fcfc.tv
SUMMARY:21 Days of Prayer
DESCRIPTION:Join with us\, at church or at home\, for our 21 Days of Prayer\, from January 8 through January 27. Monday-Friday we will meet in the morning from 6-7 a.m. at Warrenton\, in the evening from 6-7 p.m. at Wentzville\, and on Saturday morning from 9-10 a.m. at both campuses. We will not meet on Sunday morning.
URL:https://www.fcfc.tv/event/21-days-of-prayer-125/
LOCATION:Wentzville Campus
END:VEVENT
BEGIN:VEVENT
DTSTART;TZID=America/Chicago:20240115T060000
DTEND;TZID=America/Chicago:20240115T070000
DTSTAMP:20260422T175336
CREATED:20231218T204758Z
LAST-MODIFIED:20231218T204758Z
UID:31074-1705298400-1705302000@www.fcfc.tv
SUMMARY:21 Days of Prayer
DESCRIPTION:Join with us\, at church or at home\, for our 21 Days of Prayer\, from January 8 through January 27. Monday-Friday we will meet in the morning from 6-7 a.m. at Warrenton\, in the evening from 6-7 p.m. at Wentzville\, and on Saturday morning from 9-10 a.m. at both campuses. We will not meet on Sunday morning.
URL:https://www.fcfc.tv/event/21-days-of-prayer-107/
LOCATION:Warrenton Campus
END:VEVENT
BEGIN:VEVENT
DTSTART;TZID=America/Chicago:20240113T090000
DTEND;TZID=America/Chicago:20240113T100000
DTSTAMP:20260422T175336
CREATED:20231218T205405Z
LAST-MODIFIED:20231218T205405Z
UID:31085-1705136400-1705140000@www.fcfc.tv
SUMMARY:21 Days of Prayer
DESCRIPTION:Join with us\, at church or at home\, for our 21 Days of Prayer\, from January 8 through January 27. Monday-Friday we will meet in the morning from 6-7 a.m. at Warrenton\, in the evening from 6-7 p.m. at Wentzville\, and on Saturday morning from 9-10 a.m. at both campuses. We will not meet on Sunday morning.
URL:https://www.fcfc.tv/event/21-days-of-prayer-117/
LOCATION:FCFC All Campuses
END:VEVENT
BEGIN:VEVENT
DTSTART;TZID=America/Chicago:20240112T180000
DTEND;TZID=America/Chicago:20240112T190000
DTSTAMP:20260422T175336
CREATED:20231218T210147Z
LAST-MODIFIED:20231218T210147Z
UID:31108-1705082400-1705086000@www.fcfc.tv
SUMMARY:21 Days of Prayer
DESCRIPTION:Join with us\, at church or at home\, for our 21 Days of Prayer\, from January 8 through January 27. Monday-Friday we will meet in the morning from 6-7 a.m. at Warrenton\, in the evening from 6-7 p.m. at Wentzville\, and on Saturday morning from 9-10 a.m. at both campuses. We will not meet on Sunday morning.
URL:https://www.fcfc.tv/event/21-days-of-prayer-124/
LOCATION:Wentzville Campus
END:VEVENT
BEGIN:VEVENT
DTSTART;TZID=America/Chicago:20240112T060000
DTEND;TZID=America/Chicago:20240112T070000
DTSTAMP:20260422T175336
CREATED:20231218T204721Z
LAST-MODIFIED:20231218T204721Z
UID:31073-1705039200-1705042800@www.fcfc.tv
SUMMARY:21 Days of Prayer
DESCRIPTION:Join with us\, at church or at home\, for our 21 Days of Prayer\, from January 8 through January 27. Monday-Friday we will meet in the morning from 6-7 a.m. at Warrenton\, in the evening from 6-7 p.m. at Wentzville\, and on Saturday morning from 9-10 a.m. at both campuses. We will not meet on Sunday morning.
URL:https://www.fcfc.tv/event/21-days-of-prayer-106/
LOCATION:Warrenton Campus
END:VEVENT
BEGIN:VEVENT
DTSTART;TZID=America/Chicago:20240111T180000
DTEND;TZID=America/Chicago:20240111T190000
DTSTAMP:20260422T175336
CREATED:20231218T210115Z
LAST-MODIFIED:20231218T210115Z
UID:31109-1704996000-1704999600@www.fcfc.tv
SUMMARY:21 Days of Prayer
DESCRIPTION:Join with us\, at church or at home\, for our 21 Days of Prayer\, from January 8 through January 27. Monday-Friday we will meet in the morning from 6-7 a.m. at Warrenton\, in the evening from 6-7 p.m. at Wentzville\, and on Saturday morning from 9-10 a.m. at both campuses. We will not meet on Sunday morning.
URL:https://www.fcfc.tv/event/21-days-of-prayer-123/
LOCATION:Wentzville Campus
END:VEVENT
BEGIN:VEVENT
DTSTART;TZID=America/Chicago:20240111T060000
DTEND;TZID=America/Chicago:20240111T070000
DTSTAMP:20260422T175336
CREATED:20231218T204657Z
LAST-MODIFIED:20231218T204657Z
UID:31072-1704952800-1704956400@www.fcfc.tv
SUMMARY:21 Days of Prayer
DESCRIPTION:Join with us\, at church or at home\, for our 21 Days of Prayer\, from January 8 through January 27. Monday-Friday we will meet in the morning from 6-7 a.m. at Warrenton\, in the evening from 6-7 p.m. at Wentzville\, and on Saturday morning from 9-10 a.m. at both campuses. We will not meet on Sunday morning.
URL:https://www.fcfc.tv/event/21-days-of-prayer-105/
LOCATION:Warrenton Campus
END:VEVENT
BEGIN:VEVENT
DTSTART;TZID=America/Chicago:20240110T180000
DTEND;TZID=America/Chicago:20240110T190000
DTSTAMP:20260422T175336
CREATED:20231218T210048Z
LAST-MODIFIED:20231218T210048Z
UID:31107-1704909600-1704913200@www.fcfc.tv
SUMMARY:21 Days of Prayer
DESCRIPTION:Join with us\, at church or at home\, for our 21 Days of Prayer\, from January 8 through January 27. Monday-Friday we will meet in the morning from 6-7 a.m. at Warrenton\, in the evening from 6-7 p.m. at Wentzville\, and on Saturday morning from 9-10 a.m. at both campuses. We will not meet on Sunday morning.
URL:https://www.fcfc.tv/event/21-days-of-prayer-122/
LOCATION:Wentzville Campus
END:VEVENT
BEGIN:VEVENT
DTSTART;TZID=America/Chicago:20240110T060000
DTEND;TZID=America/Chicago:20240110T070000
DTSTAMP:20260422T175336
CREATED:20231218T204633Z
LAST-MODIFIED:20231218T204633Z
UID:31071-1704866400-1704870000@www.fcfc.tv
SUMMARY:21 Days of Prayer
DESCRIPTION:Join with us\, at church or at home\, for our 21 Days of Prayer\, from January 8 through January 27. Monday-Friday we will meet in the morning from 6-7 a.m. at Warrenton\, in the evening from 6-7 p.m. at Wentzville\, and on Saturday morning from 9-10 a.m. at both campuses. We will not meet on Sunday morning.
URL:https://www.fcfc.tv/event/21-days-of-prayer-104/
LOCATION:Warrenton Campus
END:VEVENT
END:VCALENDAR