BEGIN:VCALENDAR
VERSION:2.0
PRODID:-//Faith Christian Family Church - ECPv6.0.1.1//NONSGML v1.0//EN
CALSCALE:GREGORIAN
METHOD:PUBLISH
X-WR-CALNAME:Faith Christian Family Church
X-ORIGINAL-URL:https://www.fcfc.tv
X-WR-CALDESC:Events for Faith Christian Family Church
REFRESH-INTERVAL;VALUE=DURATION:PT1H
X-Robots-Tag:noindex
X-PUBLISHED-TTL:PT1H
BEGIN:VTIMEZONE
TZID:America/Chicago
BEGIN:DAYLIGHT
TZOFFSETFROM:-0600
TZOFFSETTO:-0500
TZNAME:CDT
DTSTART:20230312T080000
END:DAYLIGHT
BEGIN:STANDARD
TZOFFSETFROM:-0500
TZOFFSETTO:-0600
TZNAME:CST
DTSTART:20231105T070000
END:STANDARD
END:VTIMEZONE
BEGIN:VEVENT
DTSTART;TZID=America/Chicago:20230812T090000
DTEND;TZID=America/Chicago:20230812T100000
DTSTAMP:20260423T035303
CREATED:20230724T182712Z
LAST-MODIFIED:20230724T182712Z
UID:30814-1691830800-1691834400@www.fcfc.tv
SUMMARY:21 Days of Prayer
DESCRIPTION:Join with us\, at church or at home\, for our 21 Days of Prayer\, from August 6 through August 26. Monday-Friday we will meet in the morning from 6-7 a.m. at Warrenton\, in the evening from 6-7 p.m. at Wentzville\, and on Saturday morning from 9-10 a.m. at both campuses. We will not meet on Sunday morning.
URL:https://www.fcfc.tv/event/21-days-of-prayer-89/
LOCATION:Warrenton Campus
END:VEVENT
BEGIN:VEVENT
DTSTART;TZID=America/Chicago:20230812T090000
DTEND;TZID=America/Chicago:20230812T100000
DTSTAMP:20260423T035303
CREATED:20230718T213323Z
LAST-MODIFIED:20230724T180616Z
UID:30782-1691830800-1691834400@www.fcfc.tv
SUMMARY:21 Days of Prayer
DESCRIPTION:Join with us\, at church or at home\, for our 21 Days of Prayer\, from August 6 through August 26. Monday-Friday we will meet in the morning from 6-7 a.m. at Warrenton\, in the evening from 6-7 p.m. at Wentzville\, and on Saturday morning from 9-10 a.m. at both campuses. We will not meet on Sunday morning.
URL:https://www.fcfc.tv/event/21-days-of-prayer-74/
LOCATION:Wentzville Campus
END:VEVENT
BEGIN:VEVENT
DTSTART;TZID=America/Chicago:20230811T180000
DTEND;TZID=America/Chicago:20230811T190000
DTSTAMP:20260423T035303
CREATED:20230724T182604Z
LAST-MODIFIED:20230724T182604Z
UID:30812-1691776800-1691780400@www.fcfc.tv
SUMMARY:21 Days of Prayer
DESCRIPTION:Join with us\, at church or at home\, for our 21 Days of Prayer\, from August 6 through August 26. Monday-Friday we will meet in the morning from 6-7 a.m. at Warrenton\, in the evening from 6-7 p.m. at Wentzville\, and on Saturday morning from 9-10 a.m. at both campuses. We will not meet on Sunday morning.
URL:https://www.fcfc.tv/event/21-days-of-prayer-88/
LOCATION:Wentzville Campus
END:VEVENT
BEGIN:VEVENT
DTSTART;TZID=America/Chicago:20230811T060000
DTEND;TZID=America/Chicago:20230811T070000
DTSTAMP:20260423T035303
CREATED:20230718T213255Z
LAST-MODIFIED:20230724T181744Z
UID:30781-1691733600-1691737200@www.fcfc.tv
SUMMARY:21 Days of Prayer
DESCRIPTION:Join with us\, at church or at home\, for our 21 Days of Prayer\, from August 6 through August 26. Monday-Friday we will meet in the morning from 6-7 a.m. at Warrenton\, in the evening from 6-7 p.m. at Wentzville\, and on Saturday morning from 9-10 a.m. at both campuses. We will not meet on Sunday morning.
URL:https://www.fcfc.tv/event/21-days-of-prayer-73/
LOCATION:Warrenton Campus
END:VEVENT
BEGIN:VEVENT
DTSTART;TZID=America/Chicago:20230810T180000
DTEND;TZID=America/Chicago:20230810T190000
DTSTAMP:20260423T035303
CREATED:20230724T182442Z
LAST-MODIFIED:20230724T182442Z
UID:30810-1691690400-1691694000@www.fcfc.tv
SUMMARY:21 Days of Prayer
DESCRIPTION:Join with us\, at church or at home\, for our 21 Days of Prayer\, from August 6 through August 26. Monday-Friday we will meet in the morning from 6-7 a.m. at Warrenton\, in the evening from 6-7 p.m. at Wentzville\, and on Saturday morning from 9-10 a.m. at both campuses. We will not meet on Sunday morning.
URL:https://www.fcfc.tv/event/21-days-of-prayer-87/
LOCATION:Wentzville Campus
END:VEVENT
BEGIN:VEVENT
DTSTART;TZID=America/Chicago:20230810T060000
DTEND;TZID=America/Chicago:20230810T070000
DTSTAMP:20260423T035303
CREATED:20230724T181832Z
LAST-MODIFIED:20230724T181832Z
UID:30808-1691647200-1691650800@www.fcfc.tv
SUMMARY:21 Days of Prayer
DESCRIPTION:Join with us\, at church or at home\, for our 21 Days of Prayer\, from August 6 through August 26. Monday-Friday we will meet in the morning from 6-7 a.m. at Warrenton\, in the evening from 6-7 p.m. at Wentzville\, and on Saturday morning from 9-10 a.m. at both campuses. We will not meet on Sunday morning.
URL:https://www.fcfc.tv/event/21-days-of-prayer-86/
LOCATION:Warrenton Campus
END:VEVENT
BEGIN:VEVENT
DTSTART;TZID=America/Chicago:20230809T180000
DTEND;TZID=America/Chicago:20230809T190000
DTSTAMP:20260423T035303
CREATED:20230718T213036Z
LAST-MODIFIED:20230724T181605Z
UID:30770-1691604000-1691607600@www.fcfc.tv
SUMMARY:21 Days of Prayer
DESCRIPTION:Join with us\, at church or at home\, for our 21 Days of Prayer\, from August 6 through August 26. Monday-Friday we will meet in the morning from 6-7 a.m. at Warrenton\, in the evening from 6-7 p.m. at Wentzville\, and on Saturday morning from 9-10 a.m. at both campuses. We will not meet on Sunday morning.
URL:https://www.fcfc.tv/event/21-days-of-prayer-70/
LOCATION:Wentzville Campus
END:VEVENT
BEGIN:VEVENT
DTSTART;TZID=America/Chicago:20230809T060000
DTEND;TZID=America/Chicago:20230809T070000
DTSTAMP:20260423T035303
CREATED:20230718T213107Z
LAST-MODIFIED:20230724T181643Z
UID:30771-1691560800-1691564400@www.fcfc.tv
SUMMARY:21 Days of Prayer
DESCRIPTION:Join with us\, at church or at home\, for our 21 Days of Prayer\, from August 6 through August 26. Monday-Friday we will meet in the morning from 6-7 a.m. at Warrenton\, in the evening from 6-7 p.m. at Wentzville\, and on Saturday morning from 9-10 a.m. at both campuses. We will not meet on Sunday morning.
URL:https://www.fcfc.tv/event/21-days-of-prayer-71/
LOCATION:Warrenton Campus
END:VEVENT
BEGIN:VEVENT
DTSTART;TZID=America/Chicago:20230808T180000
DTEND;TZID=America/Chicago:20230808T190000
DTSTAMP:20260423T035303
CREATED:20230718T212929Z
LAST-MODIFIED:20230724T181321Z
UID:30768-1691517600-1691521200@www.fcfc.tv
SUMMARY:21 Days of Prayer
DESCRIPTION:Join with us\, at church or at home\, for our 21 Days of Prayer\, from August 6 through August 26. Monday-Friday we will meet in the morning from 6-7 a.m. at Warrenton\, in the evening from 6-7 p.m. at Wentzville\, and on Saturday morning from 9-10 a.m. at both campuses. We will not meet on Sunday morning.
URL:https://www.fcfc.tv/event/21-days-of-prayer-68/
LOCATION:Wentzville Campus
END:VEVENT
BEGIN:VEVENT
DTSTART;TZID=America/Chicago:20230808T060000
DTEND;TZID=America/Chicago:20230808T070000
DTSTAMP:20260423T035303
CREATED:20230718T213007Z
LAST-MODIFIED:20230724T181518Z
UID:30769-1691474400-1691478000@www.fcfc.tv
SUMMARY:21 Days of Prayer
DESCRIPTION:Join with us\, at church or at home\, for our 21 Days of Prayer\, from August 6 through August 26. Monday-Friday we will meet in the morning from 6-7 a.m. at Warrenton\, in the evening from 6-7 p.m. at Wentzville\, and on Saturday morning from 9-10 a.m. at both campuses. We will not meet on Sunday morning.
URL:https://www.fcfc.tv/event/21-days-of-prayer-69/
LOCATION:Warrenton Campus
END:VEVENT
BEGIN:VEVENT
DTSTART;TZID=America/Chicago:20230807T180000
DTEND;TZID=America/Chicago:20230807T190000
DTSTAMP:20260423T035303
CREATED:20230718T212807Z
LAST-MODIFIED:20230724T181138Z
UID:30766-1691431200-1691434800@www.fcfc.tv
SUMMARY:21 Days of Prayer
DESCRIPTION:Join with us\, at church or at home\, for our 21 Days of Prayer\, from August 6 through August 26. Monday-Friday we will meet in the morning from 6-7 a.m. at Warrenton\, in the evening from 6-7 p.m. at Wentzville\, and on Saturday morning from 9-10 a.m. at both campuses. We will not meet on Sunday morning.
URL:https://www.fcfc.tv/event/21-days-of-prayer-66/
LOCATION:Wentzville Campus
END:VEVENT
BEGIN:VEVENT
DTSTART;TZID=America/Chicago:20230807T060000
DTEND;TZID=America/Chicago:20230807T070000
DTSTAMP:20260423T035303
CREATED:20230718T212852Z
LAST-MODIFIED:20230724T181241Z
UID:30767-1691388000-1691391600@www.fcfc.tv
SUMMARY:21 Days of Prayer
DESCRIPTION:Join with us\, at church or at home\, for our 21 Days of Prayer\, from August 6 through August 26. Monday-Friday we will meet in the morning from 6-7 a.m. at Warrenton\, in the evening from 6-7 p.m. at Wentzville\, and on Saturday morning from 9-10 a.m. at both campuses. We will not meet on Sunday morning.
URL:https://www.fcfc.tv/event/21-days-of-prayer-67/
LOCATION:Warrenton Campus
END:VEVENT
BEGIN:VEVENT
DTSTART;TZID=America/Chicago:20230806T180000
DTEND;TZID=America/Chicago:20230806T190000
DTSTAMP:20260423T035303
CREATED:20230718T212550Z
LAST-MODIFIED:20230724T180839Z
UID:30763-1691344800-1691348400@www.fcfc.tv
SUMMARY:21 Days of Prayer
DESCRIPTION:Join with us\, at church or at home\, for our 21 Days of Prayer\, from August 6 through August 26. Monday-Friday we will meet in the morning from 6-7 a.m. at Warrenton\, in the evening from 6-7 p.m. at Wentzville\, and on Saturday morning from 9-10 a.m. at both campuses. We will not meet on Sunday morning.
URL:https://www.fcfc.tv/event/21-days-of-prayer-64/
LOCATION:Wentzville Campus
END:VEVENT
BEGIN:VEVENT
DTSTART;TZID=America/Chicago:20230806T060000
DTEND;TZID=America/Chicago:20230806T070000
DTSTAMP:20260423T035303
CREATED:20230718T212718Z
LAST-MODIFIED:20230724T181049Z
UID:30765-1691301600-1691305200@www.fcfc.tv
SUMMARY:21 Days of Prayer
DESCRIPTION:Join with us\, at church or at home\, for our 21 Days of Prayer\, from August 6 through August 26. Monday-Friday we will meet in the morning from 6-7 a.m. at Warrenton\, in the evening from 6-7 p.m. at Wentzville\, and on Saturday morning from 9-10 a.m. at both campuses. We will not meet on Sunday morning.
URL:https://www.fcfc.tv/event/21-days-of-prayer-65/
LOCATION:Warrenton Campus
END:VEVENT
BEGIN:VEVENT
DTSTART;TZID=America/Chicago:20230724T090000
DTEND;TZID=America/Chicago:20230724T120000
DTSTAMP:20260423T035303
CREATED:20230626T200902Z
LAST-MODIFIED:20230626T200902Z
UID:30742-1690189200-1690200000@www.fcfc.tv
SUMMARY:The Future Starts Now
DESCRIPTION:Join us on Sundays in July for end-times teachings by Pastor Terry Roberts. Services start at 9:00 am in Wentzville and 10:30 am in Warrenton.
URL:https://www.fcfc.tv/event/the-future-starts-now-4/
LOCATION:FCFC All Campuses
END:VEVENT
BEGIN:VEVENT
DTSTART;TZID=America/Chicago:20230717T090000
DTEND;TZID=America/Chicago:20230717T120000
DTSTAMP:20260423T035303
CREATED:20230626T200831Z
LAST-MODIFIED:20230626T200831Z
UID:30740-1689584400-1689595200@www.fcfc.tv
SUMMARY:The Future Starts Now
DESCRIPTION:Join us on Sundays in July for end-times teachings by Pastor Terry Roberts. Services start at 9:00 am in Wentzville and 10:30 am in Warrenton.
URL:https://www.fcfc.tv/event/the-future-starts-now-3/
LOCATION:FCFC All Campuses
END:VEVENT
BEGIN:VEVENT
DTSTART;TZID=America/Chicago:20230716T130000
DTEND;TZID=America/Chicago:20230716T170000
DTSTAMP:20260423T035303
CREATED:20230620T210409Z
LAST-MODIFIED:20230627T180042Z
UID:30732-1689512400-1689526800@www.fcfc.tv
SUMMARY:Church Picnic and Baptism
DESCRIPTION:There will be a church picnic and a baptism on Sunday\, July 16\, at Indian Camp Creek Park\, 2679 Dietrich Rd.\, Foristell 63348. We will provide hot dogs\, hamburgers\, and drinks. Bring a side dish or dessert\, and come enjoy the fellowship and fun! You may want to bring a lawn chair. If you have led someone to the Lord\, you can baptize them yourself! \n 
URL:https://www.fcfc.tv/event/church-picnic-and-baptism/
END:VEVENT
BEGIN:VEVENT
DTSTART;TZID=America/Chicago:20230714T080000
DTEND;TZID=America/Chicago:20230714T220000
DTSTAMP:20260423T035303
CREATED:20230620T204403Z
LAST-MODIFIED:20230620T204403Z
UID:30726-1689321600-1689372000@www.fcfc.tv
SUMMARY:Camp Haven Youth Camp
DESCRIPTION:Once again we will be hosting Camp Haven here at FCFC. This youth camp will be from July 10-14\, 8:30am drop off to 10:00pm pick up. \nCamp cost is $100 per student. \nTo register\, text “CAMP” to 636-266-0009. \nText Pastor Jessee at 314-657-5359 with any camp questions. \n 
URL:https://www.fcfc.tv/event/camp-haven-youth-camp-5/
LOCATION:Warrenton Campus
END:VEVENT
BEGIN:VEVENT
DTSTART;TZID=America/Chicago:20230713T080000
DTEND;TZID=America/Chicago:20230713T220000
DTSTAMP:20260423T035303
CREATED:20230620T204332Z
LAST-MODIFIED:20230620T204332Z
UID:30727-1689235200-1689285600@www.fcfc.tv
SUMMARY:Camp Haven Youth Camp
DESCRIPTION:Once again we will be hosting Camp Haven here at FCFC. This youth camp will be from July 10-14\, 8:30am drop off to 10:00pm pick up. \nCamp cost is $100 per student. \nTo register\, text “CAMP” to 636-266-0009. \nText Pastor Jessee at 314-657-5359 with any camp questions. \n 
URL:https://www.fcfc.tv/event/camp-haven-youth-camp-4/
LOCATION:Warrenton Campus
END:VEVENT
BEGIN:VEVENT
DTSTART;TZID=America/Chicago:20230712T080000
DTEND;TZID=America/Chicago:20230712T220000
DTSTAMP:20260423T035303
CREATED:20230620T204308Z
LAST-MODIFIED:20230620T204308Z
UID:30725-1689148800-1689199200@www.fcfc.tv
SUMMARY:Camp Haven Youth Camp
DESCRIPTION:Once again we will be hosting Camp Haven here at FCFC. This youth camp will be from July 10-14\, 8:30am drop off to 10:00pm pick up. \nCamp cost is $100 per student. \nTo register\, text “CAMP” to 636-266-0009. \nText Pastor Jessee at 314-657-5359 with any camp questions. \n 
URL:https://www.fcfc.tv/event/camp-haven-youth-camp-3/
LOCATION:Warrenton Campus
END:VEVENT
BEGIN:VEVENT
DTSTART;TZID=America/Chicago:20230711T080000
DTEND;TZID=America/Chicago:20230711T220000
DTSTAMP:20260423T035303
CREATED:20230620T204237Z
LAST-MODIFIED:20230620T204237Z
UID:30724-1689062400-1689112800@www.fcfc.tv
SUMMARY:Camp Haven Youth Camp
DESCRIPTION:Once again we will be hosting Camp Haven here at FCFC. This youth camp will be from July 10-14\, 8:30am drop off to 10:00pm pick up. \nCamp cost is $100 per student. \nTo register\, text “CAMP” to 636-266-0009. \nText Pastor Jessee at 314-657-5359 with any camp questions. \n 
URL:https://www.fcfc.tv/event/camp-haven-youth-camp-2/
LOCATION:Warrenton Campus
END:VEVENT
BEGIN:VEVENT
DTSTART;TZID=America/Chicago:20230710T090000
DTEND;TZID=America/Chicago:20230710T120000
DTSTAMP:20260423T035303
CREATED:20230626T200755Z
LAST-MODIFIED:20230626T200755Z
UID:30738-1688979600-1688990400@www.fcfc.tv
SUMMARY:The Future Starts Now
DESCRIPTION:Join us on Sundays in July for end-times teachings by Pastor Terry Roberts. Services start at 9:00 am in Wentzville and 10:30 am in Warrenton.
URL:https://www.fcfc.tv/event/the-future-starts-now-2/
LOCATION:FCFC All Campuses
END:VEVENT
BEGIN:VEVENT
DTSTART;TZID=America/Chicago:20230710T080000
DTEND;TZID=America/Chicago:20230710T220000
DTSTAMP:20260423T035303
CREATED:20230620T204139Z
LAST-MODIFIED:20230620T204139Z
UID:30722-1688976000-1689026400@www.fcfc.tv
SUMMARY:Camp Haven Youth Camp
DESCRIPTION:Once again we will be hosting Camp Haven here at FCFC. This youth camp will be from July 10-14\, 8:30am drop off to 10:00pm pick up. \nCamp cost is $100 per student. \nTo register\, text “CAMP” to 636-266-0009. \nText Pastor Jessee at 314-657-5359 with any camp questions. \n 
URL:https://www.fcfc.tv/event/camp-haven-youth-camp/
LOCATION:Warrenton Campus
END:VEVENT
BEGIN:VEVENT
DTSTART;TZID=America/Chicago:20230708T133000
DTEND;TZID=America/Chicago:20230708T153000
DTSTAMP:20260423T035303
CREATED:20230703T204712Z
LAST-MODIFIED:20230703T204712Z
UID:30750-1688823000-1688830200@www.fcfc.tv
SUMMARY:S.A.L.T. Get Together
DESCRIPTION:Join our S.A.L.T. group Saturday\, July 8\, at 1:30pm for banana splits at the McCord home (29246 Meadowlark S.\, Warrenton). Bring yourself and a lawn chair. Everything else will be provided. For more information call 636-456-4352. S.A.L.T. is our senior group (Seniors Actively Linked Together).
URL:https://www.fcfc.tv/event/s-a-l-t-get-together/
END:VEVENT
BEGIN:VEVENT
DTSTART;TZID=America/Chicago:20230703T090000
DTEND;TZID=America/Chicago:20230703T120000
DTSTAMP:20260423T035303
CREATED:20230626T200719Z
LAST-MODIFIED:20230626T200719Z
UID:30735-1688374800-1688385600@www.fcfc.tv
SUMMARY:The Future Starts Now
DESCRIPTION:Join us on Sundays in July for end-times teachings by Pastor Terry Roberts. Services start at 9:00 am in Wentzville and 10:30 am in Warrenton.
URL:https://www.fcfc.tv/event/the-future-starts-now/
LOCATION:FCFC All Campuses
END:VEVENT
BEGIN:VEVENT
DTSTART;TZID=America/Chicago:20230610T110000
DTEND;TZID=America/Chicago:20230610T150000
DTSTAMP:20260423T035303
CREATED:20230606T140842Z
LAST-MODIFIED:20230606T140842Z
UID:30718-1686394800-1686409200@www.fcfc.tv
SUMMARY:S.A.L.T. Potluck Brunch
DESCRIPTION:Join our S.A.L.T. group Saturday\, June 10\, for a potluck brunch at the McCord home (29246 Meadowlark S.\, Warrenton). Bring a dish and a lawn chair. Drinks will be provided. For more information call 636-456-4352. S.A.L.T. is our senior group (Seniors Actively Linked Together).
URL:https://www.fcfc.tv/event/s-a-l-t-potluck-brunch/
END:VEVENT
BEGIN:VEVENT
DTSTART;TZID=America/Chicago:20230422T090000
DTEND;TZID=America/Chicago:20230422T160000
DTSTAMP:20260423T035303
CREATED:20230328T185628Z
LAST-MODIFIED:20230328T185628Z
UID:30697-1682154000-1682179200@www.fcfc.tv
SUMMARY:S.A.L.T. Special Event
DESCRIPTION:Our S.A.L.T. Group will have a very special event on Saturday\, April 22\, from 9 am-4 pm at the Warrenton campus. You don’t want to miss it!
URL:https://www.fcfc.tv/event/s-a-l-t-special-event/
LOCATION:Warrenton Campus
END:VEVENT
BEGIN:VEVENT
DTSTART;TZID=America/Chicago:20230416T080000
DTEND;TZID=America/Chicago:20230416T120000
DTSTAMP:20260423T035303
CREATED:20230328T160645Z
LAST-MODIFIED:20230328T160645Z
UID:30695-1681632000-1681646400@www.fcfc.tv
SUMMARY:Water Baptism
DESCRIPTION:We will be hosting baptisms at both of our campuses. Being water baptized is an outward profession of the inner change when you became a Christian. If you are interested in being baptized that morning\, make sure you arrive an hour before service for the baptismal class.
URL:https://www.fcfc.tv/event/water-baptism-8/
LOCATION:FCFC All Campuses
END:VEVENT
BEGIN:VEVENT
DTSTART;TZID=America/Chicago:20230409T090000
DTEND;TZID=America/Chicago:20230409T120000
DTSTAMP:20260423T035303
CREATED:20230314T155333Z
LAST-MODIFIED:20230314T155333Z
UID:30684-1681030800-1681041600@www.fcfc.tv
SUMMARY:Easter Sunday
DESCRIPTION:Warrenton service will be at 10:30 am. Wentzville service will be at 9:00 am\, followed by a light lunch and kid’s activities. The message will be the same for all three Easter services.
URL:https://www.fcfc.tv/event/easter-sunday-2/
LOCATION:FCFC All Campuses
END:VEVENT
BEGIN:VEVENT
DTSTART;TZID=America/Chicago:20230407T170000
DTEND;TZID=America/Chicago:20230407T210000
DTSTAMP:20260423T035303
CREATED:20230314T154932Z
LAST-MODIFIED:20230314T154932Z
UID:30681-1680886800-1680901200@www.fcfc.tv
SUMMARY:Easter On Friday
DESCRIPTION:At the Warrenton Campus\, we will have BBQ at 5:00 pm (donations welcome)\, the service at 7:00 pm\, and a glow-in-the-dark Easter egg hunt 15 minutes after the service. Toddlers will start the egg hunt\, Preschool will join in 5 minutes later; 5 minutes after that will be Elementary\, which will include a foam party. The message this evening will be the same as Sunday morning.
URL:https://www.fcfc.tv/event/easter-on-friday-2/
LOCATION:Warrenton Campus
END:VEVENT
END:VCALENDAR