BEGIN:VCALENDAR
VERSION:2.0
PRODID:-//Faith Christian Family Church - ECPv6.0.1.1//NONSGML v1.0//EN
CALSCALE:GREGORIAN
METHOD:PUBLISH
X-WR-CALNAME:Faith Christian Family Church
X-ORIGINAL-URL:https://www.fcfc.tv
X-WR-CALDESC:Events for Faith Christian Family Church
REFRESH-INTERVAL;VALUE=DURATION:PT1H
X-Robots-Tag:noindex
X-PUBLISHED-TTL:PT1H
BEGIN:VTIMEZONE
TZID:America/Chicago
BEGIN:DAYLIGHT
TZOFFSETFROM:-0600
TZOFFSETTO:-0500
TZNAME:CDT
DTSTART:20230312T080000
END:DAYLIGHT
BEGIN:STANDARD
TZOFFSETFROM:-0500
TZOFFSETTO:-0600
TZNAME:CST
DTSTART:20231105T070000
END:STANDARD
END:VTIMEZONE
BEGIN:VEVENT
DTSTART;TZID=America/Chicago:20230215T190000
DTEND;TZID=America/Chicago:20230215T210000
DTSTAMP:20260423T051756
CREATED:20230117T154622Z
LAST-MODIFIED:20230207T165258Z
UID:30614-1676487600-1676494800@www.fcfc.tv
SUMMARY:Wednesday Night - Genesis
DESCRIPTION:Pastor Terry is teaching from the Book of Genesis. We meet at 7pm in the upper room at the Warrenton Campus.
URL:https://www.fcfc.tv/event/wednesday-night-genesis-7/
LOCATION:Warrenton Campus
END:VEVENT
BEGIN:VEVENT
DTSTART;TZID=America/Chicago:20230210T180000
DTEND;TZID=America/Chicago:20230210T210000
DTSTAMP:20260423T051756
CREATED:20230207T165629Z
LAST-MODIFIED:20230207T165629Z
UID:30643-1676052000-1676062800@www.fcfc.tv
SUMMARY:S.A.L.T. Movie Night
DESCRIPTION:Friday\, February 10\, S.A.L.T. is showing the movie “Welcome to Paradise” at 6pm in the youth room at the Warrenton Campus. Popcorn and drinks are provided.
URL:https://www.fcfc.tv/event/s-a-l-t-movie-night/
LOCATION:Warrenton Campus
END:VEVENT
BEGIN:VEVENT
DTSTART;TZID=America/Chicago:20230208T190000
DTEND;TZID=America/Chicago:20230208T210000
DTSTAMP:20260423T051756
CREATED:20230117T154547Z
LAST-MODIFIED:20230207T165330Z
UID:30612-1675882800-1675890000@www.fcfc.tv
SUMMARY:Wednesday Night - Genesis
DESCRIPTION:Pastor Terry is teaching from the Book of Genesis. We meet at 7pm in the upper room at the Warrenton Campus.
URL:https://www.fcfc.tv/event/wednesday-night-genesis-6/
LOCATION:Warrenton Campus
END:VEVENT
BEGIN:VEVENT
DTSTART;TZID=America/Chicago:20230201T190000
DTEND;TZID=America/Chicago:20230201T210000
DTSTAMP:20260423T051756
CREATED:20230117T154513Z
LAST-MODIFIED:20230117T154513Z
UID:30610-1675278000-1675285200@www.fcfc.tv
SUMMARY:Wednesday Night - Genesis
DESCRIPTION:Beginning Wednesday\, January 4\, Pastor Terry will teach from the Book of Genesis. We will meet at 7pm in the upper room.
URL:https://www.fcfc.tv/event/wednesday-night-genesis-5/
LOCATION:Warrenton Campus
END:VEVENT
BEGIN:VEVENT
DTSTART;TZID=America/Chicago:20230128T090000
DTEND;TZID=America/Chicago:20230128T100000
DTSTAMP:20260423T051756
CREATED:20221212T170532Z
LAST-MODIFIED:20221212T170532Z
UID:30569-1674896400-1674900000@www.fcfc.tv
SUMMARY:21 Days of Prayer
DESCRIPTION:Join with us\, at church or at home\, for our 21 Days of Prayer\, from January 8 through January 28. Monday-Friday we will meet in the morning from 6-7 a.m. at Warrenton\, in the evening from 6-7 p.m. at Wentzville\, and on Saturday morning from 9-10 a.m. at both campuses. We will not meet on Sunday morning.
URL:https://www.fcfc.tv/event/21-days-of-prayer-63/
LOCATION:Wentzville Campus
END:VEVENT
BEGIN:VEVENT
DTSTART;TZID=America/Chicago:20230128T090000
DTEND;TZID=America/Chicago:20230128T100000
DTSTAMP:20260423T051756
CREATED:20221206T180930Z
LAST-MODIFIED:20221212T170233Z
UID:30527-1674896400-1674900000@www.fcfc.tv
SUMMARY:21 Days of Prayer
DESCRIPTION:Join with us\, at church or at home\, for our 21 Days of Prayer\, from January 8 through January 28. Monday-Friday we will meet in the morning from 6-7 a.m. at Warrenton\, in the evening from 6-7 p.m. at Wentzville\, and on Saturday morning from 9-10 a.m. at both campuses. We will not meet on Sunday morning.
URL:https://www.fcfc.tv/event/21-days-of-prayer-43/
LOCATION:Warrenton Campus
END:VEVENT
BEGIN:VEVENT
DTSTART;TZID=America/Chicago:20230127T180000
DTEND;TZID=America/Chicago:20230127T190000
DTSTAMP:20260423T051756
CREATED:20221212T170111Z
LAST-MODIFIED:20221212T170111Z
UID:30568-1674842400-1674846000@www.fcfc.tv
SUMMARY:21 Days of Prayer
DESCRIPTION:Join with us\, at church or at home\, for our 21 Days of Prayer\, from January 8 through January 28. Monday-Friday we will meet in the morning from 6-7 a.m. at Warrenton\, in the evening from 6-7 p.m. at Wentzville\, and on Saturday morning from 9-10 a.m. at both campuses. We will not meet on Sunday morning.
URL:https://www.fcfc.tv/event/21-days-of-prayer-62/
LOCATION:Wentzville Campus
END:VEVENT
BEGIN:VEVENT
DTSTART;TZID=America/Chicago:20230127T060000
DTEND;TZID=America/Chicago:20230127T070000
DTSTAMP:20260423T051756
CREATED:20221206T181149Z
LAST-MODIFIED:20221212T170145Z
UID:30529-1674799200-1674802800@www.fcfc.tv
SUMMARY:21 Days of Prayer
DESCRIPTION:Join with us\, at church or at home\, for our 21 Days of Prayer\, from January 8 through January 28. Monday-Friday we will meet in the morning from 6-7 a.m. at Warrenton\, in the evening from 6-7 p.m. at Wentzville\, and on Saturday morning from 9-10 a.m. at both campuses. We will not meet on Sunday morning.
URL:https://www.fcfc.tv/event/21-days-of-prayer-44/
LOCATION:Warrenton Campus
END:VEVENT
BEGIN:VEVENT
DTSTART;TZID=America/Chicago:20230126T180000
DTEND;TZID=America/Chicago:20230126T190000
DTSTAMP:20260423T051756
CREATED:20221212T170026Z
LAST-MODIFIED:20221212T170026Z
UID:30567-1674756000-1674759600@www.fcfc.tv
SUMMARY:21 Days of Prayer
DESCRIPTION:Join with us\, at church or at home\, for our 21 Days of Prayer\, from January 8 through January 28. Monday-Friday we will meet in the morning from 6-7 a.m. at Warrenton\, in the evening from 6-7 p.m. at Wentzville\, and on Saturday morning from 9-10 a.m. at both campuses. We will not meet on Sunday morning.
URL:https://www.fcfc.tv/event/21-days-of-prayer-61/
LOCATION:Wentzville Campus
END:VEVENT
BEGIN:VEVENT
DTSTART;TZID=America/Chicago:20230126T060000
DTEND;TZID=America/Chicago:20230126T070000
DTSTAMP:20260423T051756
CREATED:20221206T180856Z
LAST-MODIFIED:20221212T165754Z
UID:30525-1674712800-1674716400@www.fcfc.tv
SUMMARY:21 Days of Prayer
DESCRIPTION:Join with us\, at church or at home\, for our 21 Days of Prayer\, from January 8 through January 28. Monday-Friday we will meet in the morning from 6-7 a.m. at Warrenton\, in the evening from 6-7 p.m. at Wentzville\, and on Saturday morning from 9-10 a.m. at both campuses. We will not meet on Sunday morning.
URL:https://www.fcfc.tv/event/21-days-of-prayer-42/
LOCATION:Warrenton Campus
END:VEVENT
BEGIN:VEVENT
DTSTART;TZID=America/Chicago:20230125T190000
DTEND;TZID=America/Chicago:20230125T210000
DTSTAMP:20260423T051756
CREATED:20230105T185915Z
LAST-MODIFIED:20230105T185915Z
UID:30603-1674673200-1674680400@www.fcfc.tv
SUMMARY:Wednesday Night - Genesis
DESCRIPTION:Beginning Wednesday\, January 4\, Pastor Terry will teach from the Book of Genesis. We will meet at 7pm in the upper room.
URL:https://www.fcfc.tv/event/wednesday-night-genesis-4/
LOCATION:Warrenton Campus
END:VEVENT
BEGIN:VEVENT
DTSTART;TZID=America/Chicago:20230125T180000
DTEND;TZID=America/Chicago:20230125T190000
DTSTAMP:20260423T051756
CREATED:20221212T165722Z
LAST-MODIFIED:20221212T165722Z
UID:30566-1674669600-1674673200@www.fcfc.tv
SUMMARY:21 Days of Prayer
DESCRIPTION:Join with us\, at church or at home\, for our 21 Days of Prayer\, from January 8 through January 28. Monday-Friday we will meet in the morning from 6-7 a.m. at Warrenton\, in the evening from 6-7 p.m. at Wentzville\, and on Saturday morning from 9-10 a.m. at both campuses. We will not meet on Sunday morning.
URL:https://www.fcfc.tv/event/21-days-of-prayer-60/
LOCATION:Wentzville Campus
END:VEVENT
BEGIN:VEVENT
DTSTART;TZID=America/Chicago:20230125T060000
DTEND;TZID=America/Chicago:20230125T070000
DTSTAMP:20260423T051756
CREATED:20221206T180825Z
LAST-MODIFIED:20221212T165649Z
UID:30523-1674626400-1674630000@www.fcfc.tv
SUMMARY:21 Days of Prayer
DESCRIPTION:Join with us\, at church or at home\, for our 21 Days of Prayer\, from January 8 through January 28. Monday-Friday we will meet in the morning from 6-7 a.m. at Warrenton\, in the evening from 6-7 p.m. at Wentzville\, and on Saturday morning from 9-10 a.m. at both campuses. We will not meet on Sunday morning.
URL:https://www.fcfc.tv/event/21-days-of-prayer-41/
LOCATION:Warrenton Campus
END:VEVENT
BEGIN:VEVENT
DTSTART;TZID=America/Chicago:20230124T180000
DTEND;TZID=America/Chicago:20230124T190000
DTSTAMP:20260423T051756
CREATED:20221212T165618Z
LAST-MODIFIED:20221212T165618Z
UID:30565-1674583200-1674586800@www.fcfc.tv
SUMMARY:21 Days of Prayer
DESCRIPTION:Join with us\, at church or at home\, for our 21 Days of Prayer\, from January 8 through January 28. Monday-Friday we will meet in the morning from 6-7 a.m. at Warrenton\, in the evening from 6-7 p.m. at Wentzville\, and on Saturday morning from 9-10 a.m. at both campuses. We will not meet on Sunday morning.
URL:https://www.fcfc.tv/event/21-days-of-prayer-59/
LOCATION:Wentzville Campus
END:VEVENT
BEGIN:VEVENT
DTSTART;TZID=America/Chicago:20230124T060000
DTEND;TZID=America/Chicago:20230124T070000
DTSTAMP:20260423T051756
CREATED:20221206T180752Z
LAST-MODIFIED:20221212T165543Z
UID:30521-1674540000-1674543600@www.fcfc.tv
SUMMARY:21 Days of Prayer
DESCRIPTION:Join with us\, at church or at home\, for our 21 Days of Prayer\, from January 8 through January 28. Monday-Friday we will meet in the morning from 6-7 a.m. at Warrenton\, in the evening from 6-7 p.m. at Wentzville\, and on Saturday morning from 9-10 a.m. at both campuses. We will not meet on Sunday morning.
URL:https://www.fcfc.tv/event/21-days-of-prayer-40/
LOCATION:Warrenton Campus
END:VEVENT
BEGIN:VEVENT
DTSTART;TZID=America/Chicago:20230123T180000
DTEND;TZID=America/Chicago:20230123T190000
DTSTAMP:20260423T051756
CREATED:20221212T165442Z
LAST-MODIFIED:20221212T165442Z
UID:30564-1674496800-1674500400@www.fcfc.tv
SUMMARY:21 Days of Prayer
DESCRIPTION:Join with us\, at church or at home\, for our 21 Days of Prayer\, from January 8 through January 28. Monday-Friday we will meet in the morning from 6-7 a.m. at Warrenton\, in the evening from 6-7 p.m. at Wentzville\, and on Saturday morning from 9-10 a.m. at both campuses. We will not meet on Sunday morning.
URL:https://www.fcfc.tv/event/21-days-of-prayer-58/
LOCATION:Wentzville Campus
END:VEVENT
BEGIN:VEVENT
DTSTART;TZID=America/Chicago:20230123T060000
DTEND;TZID=America/Chicago:20230123T070000
DTSTAMP:20260423T051756
CREATED:20221206T180723Z
LAST-MODIFIED:20221212T165350Z
UID:30519-1674453600-1674457200@www.fcfc.tv
SUMMARY:21 Days of Prayer
DESCRIPTION:Join with us\, at church or at home\, for our 21 Days of Prayer\, from January 8 through January 28. Monday-Friday we will meet in the morning from 6-7 a.m. at Warrenton\, in the evening from 6-7 p.m. at Wentzville\, and on Saturday morning from 9-10 a.m. at both campuses. We will not meet on Sunday morning.
URL:https://www.fcfc.tv/event/21-days-of-prayer-39/
LOCATION:Warrenton Campus
END:VEVENT
BEGIN:VEVENT
DTSTART;TZID=America/Chicago:20230121T090000
DTEND;TZID=America/Chicago:20230121T100000
DTSTAMP:20260423T051756
CREATED:20221212T165235Z
LAST-MODIFIED:20221212T165235Z
UID:30563-1674291600-1674295200@www.fcfc.tv
SUMMARY:21 Days of Prayer
DESCRIPTION:Join with us\, at church or at home\, for our 21 Days of Prayer\, from January 8 through January 28. Monday-Friday we will meet in the morning from 6-7 a.m. at Warrenton\, in the evening from 6-7 p.m. at Wentzville\, and on Saturday morning from 9-10 a.m. at both campuses. We will not meet on Sunday morning.
URL:https://www.fcfc.tv/event/21-days-of-prayer-57/
LOCATION:Wentzville Campus
END:VEVENT
BEGIN:VEVENT
DTSTART;TZID=America/Chicago:20230121T090000
DTEND;TZID=America/Chicago:20230121T100000
DTSTAMP:20260423T051756
CREATED:20221206T180636Z
LAST-MODIFIED:20221212T165206Z
UID:30517-1674291600-1674295200@www.fcfc.tv
SUMMARY:21 Days of Prayer
DESCRIPTION:Join with us\, at church or at home\, for our 21 Days of Prayer\, from January 8 through January 28. Monday-Friday we will meet in the morning from 6-7 a.m. at Warrenton\, in the evening from 6-7 p.m. at Wentzville\, and on Saturday morning from 9-10 a.m. at both campuses. We will not meet on Sunday morning.
URL:https://www.fcfc.tv/event/21-days-of-prayer-38/
LOCATION:Warrenton Campus
END:VEVENT
BEGIN:VEVENT
DTSTART;TZID=America/Chicago:20230120T180000
DTEND;TZID=America/Chicago:20230120T190000
DTSTAMP:20260423T051756
CREATED:20221212T165134Z
LAST-MODIFIED:20221212T165134Z
UID:30562-1674237600-1674241200@www.fcfc.tv
SUMMARY:21 Days of Prayer
DESCRIPTION:Join with us\, at church or at home\, for our 21 Days of Prayer\, from January 8 through January 28. Monday-Friday we will meet in the morning from 6-7 a.m. at Warrenton\, in the evening from 6-7 p.m. at Wentzville\, and on Saturday morning from 9-10 a.m. at both campuses. We will not meet on Sunday morning.
URL:https://www.fcfc.tv/event/21-days-of-prayer-56/
LOCATION:Wentzville Campus
END:VEVENT
BEGIN:VEVENT
DTSTART;TZID=America/Chicago:20230120T060000
DTEND;TZID=America/Chicago:20230120T070000
DTSTAMP:20260423T051756
CREATED:20221206T180551Z
LAST-MODIFIED:20221212T165051Z
UID:30515-1674194400-1674198000@www.fcfc.tv
SUMMARY:21 Days of Prayer
DESCRIPTION:Join with us\, at church or at home\, for our 21 Days of Prayer\, from January 8 through January 28. Monday-Friday we will meet in the morning from 6-7 a.m. at Warrenton\, in the evening from 6-7 p.m. at Wentzville\, and on Saturday morning from 9-10 a.m. at both campuses. We will not meet on Sunday morning.
URL:https://www.fcfc.tv/event/21-days-of-prayer-37/
LOCATION:Warrenton Campus
END:VEVENT
BEGIN:VEVENT
DTSTART;TZID=America/Chicago:20230119T180000
DTEND;TZID=America/Chicago:20230119T190000
DTSTAMP:20260423T051756
CREATED:20221212T165010Z
LAST-MODIFIED:20221212T165010Z
UID:30561-1674151200-1674154800@www.fcfc.tv
SUMMARY:21 Days of Prayer
DESCRIPTION:Join with us\, at church or at home\, for our 21 Days of Prayer\, from January 8 through January 28. Monday-Friday we will meet in the morning from 6-7 a.m. at Warrenton\, in the evening from 6-7 p.m. at Wentzville\, and on Saturday morning from 9-10 a.m. at both campuses. We will not meet on Sunday morning.
URL:https://www.fcfc.tv/event/21-days-of-prayer-55/
LOCATION:Wentzville Campus
END:VEVENT
BEGIN:VEVENT
DTSTART;TZID=America/Chicago:20230119T060000
DTEND;TZID=America/Chicago:20230119T070000
DTSTAMP:20260423T051756
CREATED:20221206T180517Z
LAST-MODIFIED:20221212T164937Z
UID:30513-1674108000-1674111600@www.fcfc.tv
SUMMARY:21 Days of Prayer
DESCRIPTION:Join with us\, at church or at home\, for our 21 Days of Prayer\, from January 8 through January 28. Monday-Friday we will meet in the morning from 6-7 a.m. at Warrenton\, in the evening from 6-7 p.m. at Wentzville\, and on Saturday morning from 9-10 a.m. at both campuses. We will not meet on Sunday morning.
URL:https://www.fcfc.tv/event/21-days-of-prayer-36/
LOCATION:Warrenton Campus
END:VEVENT
BEGIN:VEVENT
DTSTART;TZID=America/Chicago:20230118T190000
DTEND;TZID=America/Chicago:20230118T210000
DTSTAMP:20260423T051756
CREATED:20230105T185829Z
LAST-MODIFIED:20230105T185829Z
UID:30601-1674068400-1674075600@www.fcfc.tv
SUMMARY:Wednesday Night - Genesis
DESCRIPTION:Beginning Wednesday\, January 4\, Pastor Terry will teach from the Book of Genesis. We will meet at 7pm in the upper room.
URL:https://www.fcfc.tv/event/wednesday-night-genesis-3/
LOCATION:Warrenton Campus
END:VEVENT
BEGIN:VEVENT
DTSTART;TZID=America/Chicago:20230118T180000
DTEND;TZID=America/Chicago:20230118T190000
DTSTAMP:20260423T051756
CREATED:20221212T164728Z
LAST-MODIFIED:20221212T164728Z
UID:30556-1674064800-1674068400@www.fcfc.tv
SUMMARY:21 Days of Prayer
DESCRIPTION:Join with us\, at church or at home\, for our 21 Days of Prayer\, from January 8 through January 28. Monday-Friday we will meet in the morning from 6-7 a.m. at Warrenton\, in the evening from 6-7 p.m. at Wentzville\, and on Saturday morning from 9-10 a.m. at both campuses. We will not meet on Sunday morning.
URL:https://www.fcfc.tv/event/21-days-of-prayer-54/
LOCATION:Wentzville Campus
END:VEVENT
BEGIN:VEVENT
DTSTART;TZID=America/Chicago:20230118T060000
DTEND;TZID=America/Chicago:20230118T070000
DTSTAMP:20260423T051756
CREATED:20221206T180449Z
LAST-MODIFIED:20221212T164658Z
UID:30511-1674021600-1674025200@www.fcfc.tv
SUMMARY:21 Days of Prayer
DESCRIPTION:Join with us\, at church or at home\, for our 21 Days of Prayer\, from January 8 through January 28. Monday-Friday we will meet in the morning from 6-7 a.m. at Warrenton\, in the evening from 6-7 p.m. at Wentzville\, and on Saturday morning from 9-10 a.m. at both campuses. We will not meet on Sunday morning.
URL:https://www.fcfc.tv/event/21-days-of-prayer-35/
LOCATION:Warrenton Campus
END:VEVENT
BEGIN:VEVENT
DTSTART;TZID=America/Chicago:20230117T180000
DTEND;TZID=America/Chicago:20230117T190000
DTSTAMP:20260423T051756
CREATED:20221206T180355Z
LAST-MODIFIED:20221212T164419Z
UID:30509-1673978400-1673982000@www.fcfc.tv
SUMMARY:21 Days of Prayer
DESCRIPTION:Join with us\, at church or at home\, for our 21 Days of Prayer\, from January 8 through January 28. Monday-Friday we will meet in the morning from 6-7 a.m. at Warrenton\, in the evening from 6-7 p.m. at Wentzville\, and on Saturday morning from 9-10 a.m. at both campuses. We will not meet on Sunday morning.
URL:https://www.fcfc.tv/event/21-days-of-prayer-34/
LOCATION:Wentzville Campus
END:VEVENT
BEGIN:VEVENT
DTSTART;TZID=America/Chicago:20230117T060000
DTEND;TZID=America/Chicago:20230117T070000
DTSTAMP:20260423T051756
CREATED:20221212T164505Z
LAST-MODIFIED:20221212T164505Z
UID:30555-1673935200-1673938800@www.fcfc.tv
SUMMARY:21 Days of Prayer
DESCRIPTION:Join with us\, at church or at home\, for our 21 Days of Prayer\, from January 8 through January 28. Monday-Friday we will meet in the morning from 6-7 a.m. at Warrenton\, in the evening from 6-7 p.m. at Wentzville\, and on Saturday morning from 9-10 a.m. at both campuses. We will not meet on Sunday morning.
URL:https://www.fcfc.tv/event/21-days-of-prayer-53/
LOCATION:Warrenton Campus
END:VEVENT
BEGIN:VEVENT
DTSTART;TZID=America/Chicago:20230116T180000
DTEND;TZID=America/Chicago:20230116T190000
DTSTAMP:20260423T051756
CREATED:20221212T164209Z
LAST-MODIFIED:20221212T164209Z
UID:30554-1673892000-1673895600@www.fcfc.tv
SUMMARY:21 Days of Prayer
DESCRIPTION:Join with us\, at church or at home\, for our 21 Days of Prayer\, from January 8 through January 28. Monday-Friday we will meet in the morning from 6-7 a.m. at Warrenton\, in the evening from 6-7 p.m. at Wentzville\, and on Saturday morning from 9-10 a.m. at both campuses. We will not meet on Sunday morning.
URL:https://www.fcfc.tv/event/21-days-of-prayer-52/
LOCATION:Wentzville Campus
END:VEVENT
BEGIN:VEVENT
DTSTART;TZID=America/Chicago:20230116T060000
DTEND;TZID=America/Chicago:20230116T070000
DTSTAMP:20260423T051756
CREATED:20221206T180320Z
LAST-MODIFIED:20221212T164128Z
UID:30507-1673848800-1673852400@www.fcfc.tv
SUMMARY:21 Days of Prayer
DESCRIPTION:Join with us\, at church or at home\, for our 21 Days of Prayer\, from January 8 through January 28. Monday-Friday we will meet in the morning from 6-7 a.m. at Warrenton\, in the evening from 6-7 p.m. at Wentzville\, and on Saturday morning from 9-10 a.m. at both campuses. We will not meet on Sunday morning.
URL:https://www.fcfc.tv/event/21-days-of-prayer-33/
LOCATION:Warrenton Campus
END:VEVENT
END:VCALENDAR