BEGIN:VCALENDAR
VERSION:2.0
PRODID:-//Faith Christian Family Church - ECPv6.0.1.1//NONSGML v1.0//EN
CALSCALE:GREGORIAN
METHOD:PUBLISH
X-WR-CALNAME:Faith Christian Family Church
X-ORIGINAL-URL:https://www.fcfc.tv
X-WR-CALDESC:Events for Faith Christian Family Church
REFRESH-INTERVAL;VALUE=DURATION:PT1H
X-Robots-Tag:noindex
X-PUBLISHED-TTL:PT1H
BEGIN:VTIMEZONE
TZID:America/Chicago
BEGIN:DAYLIGHT
TZOFFSETFROM:-0600
TZOFFSETTO:-0500
TZNAME:CDT
DTSTART:20220313T080000
END:DAYLIGHT
BEGIN:STANDARD
TZOFFSETFROM:-0500
TZOFFSETTO:-0600
TZNAME:CST
DTSTART:20221106T070000
END:STANDARD
BEGIN:DAYLIGHT
TZOFFSETFROM:-0600
TZOFFSETTO:-0500
TZNAME:CDT
DTSTART:20230312T080000
END:DAYLIGHT
BEGIN:STANDARD
TZOFFSETFROM:-0500
TZOFFSETTO:-0600
TZNAME:CST
DTSTART:20231105T070000
END:STANDARD
END:VTIMEZONE
BEGIN:VEVENT
DTSTART;TZID=America/Chicago:20230108T180000
DTEND;TZID=America/Chicago:20230108T190000
DTSTAMP:20260423T113010
CREATED:20221212T163549Z
LAST-MODIFIED:20221212T163549Z
UID:30549-1673200800-1673204400@www.fcfc.tv
SUMMARY:21 Days of Prayer
DESCRIPTION:Join with us\, at church or at home\, for our 21 Days of Prayer\, from January 8 through January 28. Monday-Friday we will meet in the morning from 6-7 a.m. at Warrenton and in the evening from 6-7 p.m. at Wentzville\, and on Saturday morning from 9-10 a.m. at both campuses. We will not meet on Sunday morning.
URL:https://www.fcfc.tv/event/21-days-of-prayer-49/
LOCATION:Wentzville Campus
END:VEVENT
BEGIN:VEVENT
DTSTART;TZID=America/Chicago:20230108T103000
DTEND;TZID=America/Chicago:20230108T130000
DTSTAMP:20260423T113010
CREATED:20221212T160341Z
LAST-MODIFIED:20221212T160341Z
UID:30537-1673173800-1673182800@www.fcfc.tv
SUMMARY:Growth Track
DESCRIPTION:Have you been wanting to be a part of the Dream Team here at FCFC? Well\, Growth Track is your first step to achieving that goal! We will be hosting our Fast Track Growth Track Curriculum after service at both of our campuses. Here we will uncover your spiritual gifts\, find where you want to serve\, and go over our values as a church. If you have been wanting to be a part of the leadership and serving here at the church\, we encourage you to join us! Child care will be provided.
URL:https://www.fcfc.tv/event/growth-track-5/
LOCATION:FCFC All Campuses
END:VEVENT
BEGIN:VEVENT
DTSTART;TZID=America/Chicago:20230108T060000
DTEND;TZID=America/Chicago:20230108T070000
DTSTAMP:20260423T113010
CREATED:20221206T175506Z
LAST-MODIFIED:20221212T163502Z
UID:30492-1673157600-1673161200@www.fcfc.tv
SUMMARY:21 Days of Prayer
DESCRIPTION:Join with us\, at church or at home\, for our 21 Days of Prayer\, from January 8 through January 28. Monday-Friday we will meet in the morning from 6-7 a.m. at Warrenton and in the evening from 6-7 p.m. at Wentzville\, and on Saturday morning from 9-10 a.m. at both campuses. We will not meet on Sunday morning.
URL:https://www.fcfc.tv/event/21-days-of-prayer-26/
LOCATION:Warrenton Campus
END:VEVENT
BEGIN:VEVENT
DTSTART;TZID=America/Chicago:20230104T190000
DTEND;TZID=America/Chicago:20230104T210000
DTSTAMP:20260423T113010
CREATED:20230105T185436Z
LAST-MODIFIED:20230105T185436Z
UID:30597-1672858800-1672866000@www.fcfc.tv
SUMMARY:Wednesday Night - Genesis
DESCRIPTION:Beginning Wednesday\, January 4\, Pastor Terry will teach from the Book of Genesis. We will meet at 7pm in the upper room.
URL:https://www.fcfc.tv/event/wednesday-night-genesis/
LOCATION:Warrenton Campus
END:VEVENT
BEGIN:VEVENT
DTSTART;TZID=America/Chicago:20230101T103000
DTEND;TZID=America/Chicago:20230101T120000
DTSTAMP:20260423T113010
CREATED:20221213T155758Z
LAST-MODIFIED:20221213T155850Z
UID:30586-1672569000-1672574400@www.fcfc.tv
SUMMARY:Joe McGee
DESCRIPTION:It’s always fun when Joe McGee comes to visit. Be sure to be at church on January 1 for a great message.
URL:https://www.fcfc.tv/event/joe-mcgee-3/
LOCATION:Warrenton Campus
END:VEVENT
BEGIN:VEVENT
DTSTART;TZID=America/Chicago:20230101T090000
DTEND;TZID=America/Chicago:20230101T120000
DTSTAMP:20260423T113010
CREATED:20221206T173701Z
LAST-MODIFIED:20221206T173701Z
UID:30489-1672563600-1672574400@www.fcfc.tv
SUMMARY:Joe McGee
DESCRIPTION:It’s always fun when Joe McGee comes to visit. Be sure to be at church on January 1 for a great message.
URL:https://www.fcfc.tv/event/joe-mcgee-2/
LOCATION:FCFC All Campuses
END:VEVENT
BEGIN:VEVENT
DTSTART;TZID=America/Chicago:20221225T103000
DTEND;TZID=America/Chicago:20221225T113000
DTSTAMP:20260423T113010
CREATED:20221213T155408Z
LAST-MODIFIED:20221213T155408Z
UID:30584-1671964200-1671967800@www.fcfc.tv
SUMMARY:Christmas Morning Services
DESCRIPTION:Christmas morning services will be held at both campuses at  the normal times – 9am in Wentzville and 10:30am in Warrenton.
URL:https://www.fcfc.tv/event/christmas-morning-services-2/
LOCATION:Warrenton Campus
END:VEVENT
BEGIN:VEVENT
DTSTART;TZID=America/Chicago:20221225T090000
DTEND;TZID=America/Chicago:20221225T100000
DTSTAMP:20260423T113010
CREATED:20221213T155112Z
LAST-MODIFIED:20221213T155112Z
UID:30582-1671958800-1671962400@www.fcfc.tv
SUMMARY:Christmas Morning Services
DESCRIPTION:Christmas morning services will be held at both campuses at  the normal times – 9am in Wentzville and 10:30am in Warrenton.
URL:https://www.fcfc.tv/event/christmas-morning-services/
LOCATION:Wentzville Campus
END:VEVENT
BEGIN:VEVENT
DTSTART;TZID=America/Chicago:20221224T183000
DTEND;TZID=America/Chicago:20221225T193000
DTSTAMP:20260423T113010
CREATED:20221213T154925Z
LAST-MODIFIED:20221213T154925Z
UID:30579-1671906600-1671996600@www.fcfc.tv
SUMMARY:Christmas Eve Services
DESCRIPTION:There will be a Christmas Eve service this year at both campuses. Wentzville will be at 5pm\, Warrenton will be at 6:30pm. Christmas morning services will be at both campus at the normal time.
URL:https://www.fcfc.tv/event/christmas-eve-services/
LOCATION:Warrenton Campus
END:VEVENT
BEGIN:VEVENT
DTSTART;TZID=America/Chicago:20221224T170000
DTEND;TZID=America/Chicago:20221224T180000
DTSTAMP:20260423T113010
CREATED:20221129T193556Z
LAST-MODIFIED:20221213T154814Z
UID:30480-1671901200-1671904800@www.fcfc.tv
SUMMARY:Christmas Eve Services
DESCRIPTION:There will be a Christmas Eve service this year at both campuses. Wentzville will be at 5pm\, Warrenton will be at 6:30pm. Christmas morning services will be at both campus at the normal time.
URL:https://www.fcfc.tv/event/christmas-eve-and-christmas-day-services/
LOCATION:Wentzville Campus
END:VEVENT
BEGIN:VEVENT
DTSTART;TZID=America/Chicago:20221221T190000
DTEND;TZID=America/Chicago:20221221T210000
DTSTAMP:20260423T113010
CREATED:20221206T173358Z
LAST-MODIFIED:20221206T173358Z
UID:30487-1671649200-1671656400@www.fcfc.tv
SUMMARY:Wednesday Movie Night
DESCRIPTION:Here is the schedule of movies we will be showing on Wednesday night in December: \nDecember 7 – Home Alone – 7 pm. \nDecember 14 – Escape Room/Parent’s Night Out – 5:30-8:30 pm  Kids will enjoy a fun evening with an Escape Room and dinner. Parents are invited to spend the evening out Christmas shopping or enjoying a date night out! Want to hang as a family? No problem! We will also be having a double feature movie night! \nDecember 21 – Dr. Suess’ The Grinch (2018) – 7 pm.
URL:https://www.fcfc.tv/event/wednesday-movie-night-3/
LOCATION:Warrenton Campus
END:VEVENT
BEGIN:VEVENT
DTSTART;TZID=America/Chicago:20221214T173000
DTEND;TZID=America/Chicago:20221214T203000
DTSTAMP:20260423T113010
CREATED:20221206T173254Z
LAST-MODIFIED:20221206T173254Z
UID:30485-1671039000-1671049800@www.fcfc.tv
SUMMARY:Wednesday Movie Night
DESCRIPTION:Here is the schedule of movies we will be showing on Wednesday night in December: \nDecember 7 – Home Alone – 7 pm. \nDecember 14 – Escape Room/Parent’s Night Out – 5:30-8:30 pm  Kids will enjoy a fun evening with an Escape Room and dinner. Parents are invited to spend the evening out Christmas shopping or enjoying a date night out! Want to hang as a family? No problem! We will also be having a double feature movie night! \nDecember 21 – Dr. Suess’ The Grinch (2018) – 7 pm.
URL:https://www.fcfc.tv/event/wednesday-movie-night-2/
LOCATION:Warrenton Campus
END:VEVENT
BEGIN:VEVENT
DTSTART;TZID=America/Chicago:20221214T100000
DTEND;TZID=America/Chicago:20221214T140000
DTSTAMP:20260423T113010
CREATED:20221212T155652Z
LAST-MODIFIED:20221212T155652Z
UID:30532-1671012000-1671026400@www.fcfc.tv
SUMMARY:Sandy Goodfellow Funeral Arrangements
DESCRIPTION:Visitation for Sandy Goodfellow will be Wednesday\, December 14\, from 10am-1pm at Faith Christian Family Church\, Warrenton. The funeral will be immediately following at the church\, with burial at Warrenton City Cemetery
URL:https://www.fcfc.tv/event/sandy-goodfellow-funeral-arrangements/
LOCATION:Warrenton Campus
END:VEVENT
BEGIN:VEVENT
DTSTART;TZID=America/Chicago:20221209T180000
DTEND;TZID=America/Chicago:20221209T210000
DTSTAMP:20260423T113010
CREATED:20221129T193240Z
LAST-MODIFIED:20221129T193240Z
UID:30478-1670608800-1670619600@www.fcfc.tv
SUMMARY:S.A.L.T. Christmas Cookie Party
DESCRIPTION:The S.A.L.T. group will have an evening of fun and laughter in the Warrenton foyer\, 6pm Friday\, December 9\,  Please bring cookies\, and a wrapped gift for “Rob your Neighbor” (from $ Tree maybe?). Drinks will be provided.
URL:https://www.fcfc.tv/event/s-a-l-t-christmas-cookie-party/
LOCATION:Warrenton Campus
END:VEVENT
BEGIN:VEVENT
DTSTART;TZID=America/Chicago:20221207T190000
DTEND;TZID=America/Chicago:20221207T210000
DTSTAMP:20260423T113010
CREATED:20221206T173111Z
LAST-MODIFIED:20221206T173111Z
UID:30483-1670439600-1670446800@www.fcfc.tv
SUMMARY:Wednesday Movie Night
DESCRIPTION:Here is the schedule of movies we will be showing on Wednesday night in December: \nDecember 7 – Home Alone – 7 pm. \nDecember 14 – Escape Room/Parent’s Night Out – 5:30-8:30 pm  Kids will enjoy a fun evening with an Escape Room and dinner. Parents are invited to spend the evening out Christmas shopping or enjoying a date night out! Want to hang as a family? No problem! We will also be having a double feature movie night! \nDecember 21 – Dr. Suess’ The Grinch (2018) – 7 pm.
URL:https://www.fcfc.tv/event/wednesday-movie-night/
LOCATION:Warrenton Campus
END:VEVENT
BEGIN:VEVENT
DTSTART;TZID=America/Chicago:20221205T113000
DTEND;TZID=America/Chicago:20221205T123000
DTSTAMP:20260423T113010
CREATED:20221129T192740Z
LAST-MODIFIED:20221129T192740Z
UID:30476-1670239800-1670243400@www.fcfc.tv
SUMMARY:Services for Faun Collett
DESCRIPTION:Funeral services for Faun Collett will be Monday\, 12/4/22\, at 11:30 a.m. at Schrader Funeral Home\, 14960 Manchester Rd.\, Ballwin\, MO 63011.
URL:https://www.fcfc.tv/event/services-for-faun-collett/
END:VEVENT
BEGIN:VEVENT
DTSTART;TZID=America/Chicago:20221204T123000
DTEND;TZID=America/Chicago:20221204T143000
DTSTAMP:20260423T113010
CREATED:20221115T213112Z
LAST-MODIFIED:20221115T213112Z
UID:30463-1670157000-1670164200@www.fcfc.tv
SUMMARY:Ladies’ Christmas Craft Day
DESCRIPTION:Parenting With Purpose will be hosting a fundraiser on December 4\, 12:30-2:30pm\, at the Warrenton campus. You will make a nativity craft\, enjoy fellowship with friends\, and have a soup/chili lunch. The cost is $30 which includes the craft supplies.
URL:https://www.fcfc.tv/event/ladies-christmas-craft-day/
LOCATION:Warrenton Campus
END:VEVENT
BEGIN:VEVENT
DTSTART;TZID=America/Chicago:20221130T190000
DTEND;TZID=America/Chicago:20221130T210000
DTSTAMP:20260423T113010
CREATED:20221115T201841Z
LAST-MODIFIED:20221115T201841Z
UID:30461-1669834800-1669842000@www.fcfc.tv
SUMMARY:Tech Night - YouVersion Bible App
DESCRIPTION:The YouVersion Bible App is an app we recommnend. It can be very useful in your Bible study\, or in your small group planning. If you would like to learn more about this app and the many different ways you can use it\, come to our “Tech Night” on Wednesday\, November 30.
URL:https://www.fcfc.tv/event/tech-night-youversion-bible-app/
LOCATION:Warrenton Campus
END:VEVENT
BEGIN:VEVENT
DTSTART;TZID=America/Chicago:20221116T160000
DTEND;TZID=America/Chicago:20221117T160000
DTSTAMP:20260423T113010
CREATED:20221114T174042Z
LAST-MODIFIED:20221114T180948Z
UID:30454-1668614400-1668700800@www.fcfc.tv
SUMMARY:Doris Roberts Funeral Information
DESCRIPTION:Visitation for Doris Roberts will be Wednesday\, November 16\, from 4:00-8:00 p.m. at Faith Christian Family Church\, 17350 E. Veterans Memorial Parkway\, Truesdale\, MO 63380. Funeral services will be 11:00 a.m. Thursday\, November 17\, at the church.
URL:https://www.fcfc.tv/event/doris-roberts-funeral-information/
LOCATION:Warrenton Campus
END:VEVENT
BEGIN:VEVENT
DTSTART;TZID=America/Chicago:20221113T103000
DTEND;TZID=America/Chicago:20221113T130000
DTSTAMP:20260423T113010
CREATED:20211109T172806Z
LAST-MODIFIED:20211109T172806Z
UID:30420-1668335400-1668344400@www.fcfc.tv
SUMMARY:Growth Track
DESCRIPTION:Have you been wanting to be a part of the Dream Team here at FCFC? Well\, Growth Track is your first step to achieving that goal! We will be hosting our Fast Track Growth Track Curriculum after service at both of our campuses. Here we will uncover your spiritual gifts\, find where you want to serve\, and go over our values as a church. If you have been wanting to be a part of the leadership and serving here at the church\, we encourage you to join us! Child care will be provided.
URL:https://www.fcfc.tv/event/growth-track-4-2022-06-05-2022-11-13/
LOCATION:FCFC All Campuses
END:VEVENT
BEGIN:VEVENT
DTSTART;TZID=America/Chicago:20221113T080000
DTEND;TZID=America/Chicago:20221113T120000
DTSTAMP:20260423T113010
CREATED:20220830T175337Z
LAST-MODIFIED:20220830T175337Z
UID:30421-1668326400-1668340800@www.fcfc.tv
SUMMARY:Water Baptism
DESCRIPTION:We will be hosting baptisms at both of our campuses. Being water baptized is an outward profession of the inner change when you became a Christian. If you are interested in being baptized that morning\, make sure you arrive an hour before service for the baptismal class.
URL:https://www.fcfc.tv/event/water-baptism-6-2022-11-13/
LOCATION:FCFC All Campuses
END:VEVENT
BEGIN:VEVENT
DTSTART;TZID=America/Chicago:20221109T190000
DTEND;TZID=America/Chicago:20221109T203000
DTSTAMP:20260423T113010
CREATED:20220823T205614Z
LAST-MODIFIED:20220823T205614Z
UID:30429-1668020400-1668025800@www.fcfc.tv
SUMMARY:Financial Peace University
DESCRIPTION:During the month of September Wednesday night will be Financial Peace University night! There will be a video to watch\, and then we will break into small groups for discussion.
URL:https://www.fcfc.tv/event/financial-peace-university-2022-11-09/
LOCATION:Warrenton Campus
END:VEVENT
BEGIN:VEVENT
DTSTART;TZID=America/Chicago:20221106T090000
DTEND;TZID=America/Chicago:20221106T123000
DTSTAMP:20260423T113010
CREATED:20221004T170632Z
LAST-MODIFIED:20221004T203916Z
UID:30435-1667725200-1667737800@www.fcfc.tv
SUMMARY:Heart For The House
DESCRIPTION:On Sunday\, November 6\, we will be receiving our annual Heart For The House offering. This is an offering above and beyond your normal tithe\, and it enables us to do some of the extra things we do here at Faith Christian Family Church. Please be in prayer\, asking God to guide you in your giving.
URL:https://www.fcfc.tv/event/heart-for-the-house-2/
LOCATION:FCFC All Campuses
END:VEVENT
BEGIN:VEVENT
DTSTART;TZID=America/Chicago:20221102T190000
DTEND;TZID=America/Chicago:20221102T203000
DTSTAMP:20260423T113010
CREATED:20220823T205614Z
LAST-MODIFIED:20220823T205614Z
UID:30428-1667415600-1667421000@www.fcfc.tv
SUMMARY:Financial Peace University
DESCRIPTION:During the month of September Wednesday night will be Financial Peace University night! There will be a video to watch\, and then we will break into small groups for discussion.
URL:https://www.fcfc.tv/event/financial-peace-university-2022-11-02/
LOCATION:Warrenton Campus
END:VEVENT
BEGIN:VEVENT
DTSTART;TZID=America/Chicago:20221026T190000
DTEND;TZID=America/Chicago:20221026T210000
DTSTAMP:20260423T113010
CREATED:20221004T204318Z
LAST-MODIFIED:20221017T155840Z
UID:30438-1666810800-1666818000@www.fcfc.tv
SUMMARY:Fall Fun Festival
DESCRIPTION:Join us at our Warrenton Campus Wednesday\, October 26th for a night of family fun. Starting at 6 pm we will have games\, food and Trunk or Treat. Bring the family for a fun evening.
URL:https://www.fcfc.tv/event/fall-fun-festival/
LOCATION:Warrenton Campus
END:VEVENT
BEGIN:VEVENT
DTSTART;TZID=America/Chicago:20221026T190000
DTEND;TZID=America/Chicago:20221026T203000
DTSTAMP:20260423T113010
CREATED:20220823T205614Z
LAST-MODIFIED:20220823T205614Z
UID:30427-1666810800-1666816200@www.fcfc.tv
SUMMARY:Financial Peace University
DESCRIPTION:During the month of September Wednesday night will be Financial Peace University night! There will be a video to watch\, and then we will break into small groups for discussion.
URL:https://www.fcfc.tv/event/financial-peace-university-2022-10-26/
LOCATION:Warrenton Campus
END:VEVENT
BEGIN:VEVENT
DTSTART;TZID=America/Chicago:20221026T180000
DTEND;TZID=America/Chicago:20221026T200000
DTSTAMP:20260423T113010
CREATED:20221004T170235Z
LAST-MODIFIED:20221004T170235Z
UID:30433-1666807200-1666814400@www.fcfc.tv
SUMMARY:Trunk or Treat - Wentzville
DESCRIPTION:Join us at our Wentzville Campus\, 2349 W. Pearce Blvd.\, for a night of fun for kids (and kids at heart) of all ages! This event is open to the community. If you wish to host a trunk\, call 636.456.4748 and press 2 for Wentzville. There will be chili and hot dogs\, and lots of fun!
URL:https://www.fcfc.tv/event/trunk-or-treat-wentzville/
LOCATION:Wentzville Campus
END:VEVENT
BEGIN:VEVENT
DTSTART;TZID=America/Chicago:20221019T190000
DTEND;TZID=America/Chicago:20221019T203000
DTSTAMP:20260423T113010
CREATED:20220823T205614Z
LAST-MODIFIED:20220823T205614Z
UID:30426-1666206000-1666211400@www.fcfc.tv
SUMMARY:Financial Peace University
DESCRIPTION:During the month of September Wednesday night will be Financial Peace University night! There will be a video to watch\, and then we will break into small groups for discussion.
URL:https://www.fcfc.tv/event/financial-peace-university-2022-10-19/
LOCATION:Warrenton Campus
END:VEVENT
BEGIN:VEVENT
DTSTART;TZID=America/Chicago:20221014T170000
DTEND;TZID=America/Chicago:20221014T210000
DTSTAMP:20260423T113010
CREATED:20221003T211858Z
LAST-MODIFIED:20221004T165210Z
UID:30411-1665766800-1665781200@www.fcfc.tv
SUMMARY:S.A.L.T. Bonfire
DESCRIPTION:If you are 50 years and older\, join us for a night of fun at the S.A.L.T. bonfire on Friday\, October 14th. We’ll gather at the McCord’s home\, 29246 Meadowlark S. Bring your favorite campfire food\, lawn chair\, and hot dog stick!  Drinks will be provided.  Call 636-456-4352 for more information. We’ll begin at 5:00 pm until the fire goes out! \n 
URL:https://www.fcfc.tv/event/s-a-l-t-bonfire/
END:VEVENT
BEGIN:VEVENT
DTSTART;TZID=America/Chicago:20221012T190000
DTEND;TZID=America/Chicago:20221012T203000
DTSTAMP:20260423T113010
CREATED:20220823T205614Z
LAST-MODIFIED:20220823T205614Z
UID:30425-1665601200-1665606600@www.fcfc.tv
SUMMARY:Financial Peace University
DESCRIPTION:During the month of September Wednesday night will be Financial Peace University night! There will be a video to watch\, and then we will break into small groups for discussion.
URL:https://www.fcfc.tv/event/financial-peace-university-2022-10-12/
LOCATION:Warrenton Campus
END:VEVENT
END:VCALENDAR