BEGIN:VCALENDAR
VERSION:2.0
PRODID:-//Faith Christian Family Church - ECPv6.0.1.1//NONSGML v1.0//EN
CALSCALE:GREGORIAN
METHOD:PUBLISH
X-WR-CALNAME:Faith Christian Family Church
X-ORIGINAL-URL:https://www.fcfc.tv
X-WR-CALDESC:Events for Faith Christian Family Church
REFRESH-INTERVAL;VALUE=DURATION:PT1H
X-Robots-Tag:noindex
X-PUBLISHED-TTL:PT1H
BEGIN:VTIMEZONE
TZID:America/Chicago
BEGIN:DAYLIGHT
TZOFFSETFROM:-0600
TZOFFSETTO:-0500
TZNAME:CDT
DTSTART:20220313T080000
END:DAYLIGHT
BEGIN:STANDARD
TZOFFSETFROM:-0500
TZOFFSETTO:-0600
TZNAME:CST
DTSTART:20221106T070000
END:STANDARD
END:VTIMEZONE
BEGIN:VEVENT
DTSTART;TZID=America/Chicago:20220815T060000
DTEND;TZID=America/Chicago:20220815T070000
DTSTAMP:20260423T161625
CREATED:20220712T205704Z
LAST-MODIFIED:20220731T193046Z
UID:30256-1660543200-1660546800@www.fcfc.tv
SUMMARY:21 Days of Prayer
DESCRIPTION:Join with us\, at church or at home\, for our 21 Days of Prayer\, from August 7 through August 27. Monday-Friday we will meet in the morning from 6-7 a.m. at Warrenton and in the evening from 6-7 p.m. at Wentzville\, and on Saturday morning from 9-10 a.m. at both campuses. We will not meet on Sunday morning.
URL:https://www.fcfc.tv/event/21-days-of-prayer-24/
LOCATION:FCFC All Campuses
END:VEVENT
BEGIN:VEVENT
DTSTART;TZID=America/Chicago:20220813T090000
DTEND;TZID=America/Chicago:20220813T150000
DTSTAMP:20260423T161625
CREATED:20220719T173453Z
LAST-MODIFIED:20220719T173529Z
UID:30286-1660381200-1660402800@www.fcfc.tv
SUMMARY:Back To School Bash
DESCRIPTION:Faith Christian Family Church will be hosting the 8th Annual Back to School Bash on Saturday August 13th from 9:00am – 2:00pm. The Back to School Bash is sponsored by Servant’s Heart and Agape with support from Gifts of Love\, United Wright City\, Warren County Health Department and the community.  Hundreds of children in Warren County will receive backpacks filled with school supplies to begin the new school year. There will also be free haircuts for children and lunch for the entire family. \n  \nIf you would like to register your child for the event\, click this link: 2022 Back to School Bash Registration. \n  \nIf you would like to volunteer for the event\, click this link:  2022 Back to School Bash Volunteers \n  \nIf you have any questions email:  servantsheartstl@gmail.com .
URL:https://www.fcfc.tv/event/back-to-school-bash-2/
LOCATION:Warrenton Campus
END:VEVENT
BEGIN:VEVENT
DTSTART;TZID=America/Chicago:20220813T060000
DTEND;TZID=America/Chicago:20220813T070000
DTSTAMP:20260423T161625
CREATED:20220712T205437Z
LAST-MODIFIED:20220731T192945Z
UID:30255-1660370400-1660374000@www.fcfc.tv
SUMMARY:21 Days of Prayer
DESCRIPTION:Join with us\, at church or at home\, for our 21 Days of Prayer\, from August 7 through August 27. Monday-Friday we will meet in the morning from 6-7 a.m. at Warrenton and in the evening from 6-7 p.m. at Wentzville\, and on Saturday morning from 9-10 a.m. at both campuses. We will not meet on Sunday morning.
URL:https://www.fcfc.tv/event/21-days-of-prayer-23-2022-08-13/
LOCATION:FCFC All Campuses
END:VEVENT
BEGIN:VEVENT
DTSTART;TZID=America/Chicago:20220812T060000
DTEND;TZID=America/Chicago:20220812T070000
DTSTAMP:20260423T161625
CREATED:20220712T205437Z
LAST-MODIFIED:20220731T192943Z
UID:30254-1660284000-1660287600@www.fcfc.tv
SUMMARY:21 Days of Prayer
DESCRIPTION:Join with us\, at church or at home\, for our 21 Days of Prayer\, from August 7 through August 27. Monday-Friday we will meet in the morning from 6-7 a.m. at Warrenton and in the evening from 6-7 p.m. at Wentzville\, and on Saturday morning from 9-10 a.m. at both campuses. We will not meet on Sunday morning.
URL:https://www.fcfc.tv/event/21-days-of-prayer-23-2022-08-12/
LOCATION:FCFC All Campuses
END:VEVENT
BEGIN:VEVENT
DTSTART;TZID=America/Chicago:20220811T060000
DTEND;TZID=America/Chicago:20220811T070000
DTSTAMP:20260423T161625
CREATED:20220712T205437Z
LAST-MODIFIED:20220731T192941Z
UID:30253-1660197600-1660201200@www.fcfc.tv
SUMMARY:21 Days of Prayer
DESCRIPTION:Join with us\, at church or at home\, for our 21 Days of Prayer\, from August 7 through August 27. Monday-Friday we will meet in the morning from 6-7 a.m. at Warrenton and in the evening from 6-7 p.m. at Wentzville\, and on Saturday morning from 9-10 a.m. at both campuses. We will not meet on Sunday morning.
URL:https://www.fcfc.tv/event/21-days-of-prayer-23-2022-08-11/
LOCATION:FCFC All Campuses
END:VEVENT
BEGIN:VEVENT
DTSTART;TZID=America/Chicago:20220810T190000
DTEND;TZID=America/Chicago:20220810T210000
DTSTAMP:20260423T161625
CREATED:20220731T193719Z
LAST-MODIFIED:20220731T193719Z
UID:30351-1660158000-1660165200@www.fcfc.tv
SUMMARY:Those Crazy Corinthians
DESCRIPTION:Join us on Wednesday nights in August as Pastor Terry teaches from Corinthians.
URL:https://www.fcfc.tv/event/those-crazy-corinthians-2022-08-10/
LOCATION:Warrenton Campus
END:VEVENT
BEGIN:VEVENT
DTSTART;TZID=America/Chicago:20220810T060000
DTEND;TZID=America/Chicago:20220810T070000
DTSTAMP:20260423T161625
CREATED:20220712T205437Z
LAST-MODIFIED:20220731T192939Z
UID:30252-1660111200-1660114800@www.fcfc.tv
SUMMARY:21 Days of Prayer
DESCRIPTION:Join with us\, at church or at home\, for our 21 Days of Prayer\, from August 7 through August 27. Monday-Friday we will meet in the morning from 6-7 a.m. at Warrenton and in the evening from 6-7 p.m. at Wentzville\, and on Saturday morning from 9-10 a.m. at both campuses. We will not meet on Sunday morning.
URL:https://www.fcfc.tv/event/21-days-of-prayer-23-2022-08-10/
LOCATION:FCFC All Campuses
END:VEVENT
BEGIN:VEVENT
DTSTART;TZID=America/Chicago:20220809T060000
DTEND;TZID=America/Chicago:20220809T070000
DTSTAMP:20260423T161625
CREATED:20220712T205437Z
LAST-MODIFIED:20220731T192937Z
UID:30251-1660024800-1660028400@www.fcfc.tv
SUMMARY:21 Days of Prayer
DESCRIPTION:Join with us\, at church or at home\, for our 21 Days of Prayer\, from August 7 through August 27. Monday-Friday we will meet in the morning from 6-7 a.m. at Warrenton and in the evening from 6-7 p.m. at Wentzville\, and on Saturday morning from 9-10 a.m. at both campuses. We will not meet on Sunday morning.
URL:https://www.fcfc.tv/event/21-days-of-prayer-23-2022-08-09/
LOCATION:FCFC All Campuses
END:VEVENT
BEGIN:VEVENT
DTSTART;TZID=America/Chicago:20220808T060000
DTEND;TZID=America/Chicago:20220808T070000
DTSTAMP:20260423T161625
CREATED:20220712T205437Z
LAST-MODIFIED:20220731T192936Z
UID:30250-1659938400-1659942000@www.fcfc.tv
SUMMARY:21 Days of Prayer
DESCRIPTION:Join with us\, at church or at home\, for our 21 Days of Prayer\, from August 7 through August 27. Monday-Friday we will meet in the morning from 6-7 a.m. at Warrenton and in the evening from 6-7 p.m. at Wentzville\, and on Saturday morning from 9-10 a.m. at both campuses. We will not meet on Sunday morning.
URL:https://www.fcfc.tv/event/21-days-of-prayer-23-2022-08-08/
LOCATION:FCFC All Campuses
END:VEVENT
BEGIN:VEVENT
DTSTART;TZID=America/Chicago:20220807T103000
DTEND;TZID=America/Chicago:20220807T130000
DTSTAMP:20260423T161625
CREATED:20211109T172806Z
LAST-MODIFIED:20221004T153145Z
UID:30154-1659868200-1659877200@www.fcfc.tv
SUMMARY:Growth Track
DESCRIPTION:Have you been wanting to be a part of the Dream Team here at FCFC? Well\, Growth Track is your first step to achieving that goal! We will be hosting our Fast Track Growth Track Curriculum after service at both of our campuses. Here we will uncover your spiritual gifts\, find where you want to serve\, and go over our values as a church. If you have been wanting to be a part of the leadership and serving here at the church\, we encourage you to join us! Child care will be provided.
URL:https://www.fcfc.tv/event/growth-track-4-2022-06-05-2022-08-07/
LOCATION:FCFC All Campuses
END:VEVENT
BEGIN:VEVENT
DTSTART;TZID=America/Chicago:20220807T080000
DTEND;TZID=America/Chicago:20220807T170000
DTSTAMP:20260423T161625
CREATED:20220712T161229Z
LAST-MODIFIED:20220712T161229Z
UID:30240-1659859200-1659891600@www.fcfc.tv
SUMMARY:Water Baptism
DESCRIPTION:We will be hosting baptisms at both of our campuses. Being water baptized is an outward profession of the inner change when you became a Christian. If you are interested in being baptized that morning\, make sure you arrive an hour before service for the baptismal class.
URL:https://www.fcfc.tv/event/water-baptism-5/
LOCATION:FCFC All Campuses
END:VEVENT
BEGIN:VEVENT
DTSTART;TZID=America/Chicago:20220807T060000
DTEND;TZID=America/Chicago:20220807T070000
DTSTAMP:20260423T161625
CREATED:20220712T205437Z
LAST-MODIFIED:20220731T192934Z
UID:30248-1659852000-1659855600@www.fcfc.tv
SUMMARY:21 Days of Prayer
DESCRIPTION:Join with us\, at church or at home\, for our 21 Days of Prayer\, from August 7 through August 27. Monday-Friday we will meet in the morning from 6-7 a.m. at Warrenton and in the evening from 6-7 p.m. at Wentzville\, and on Saturday morning from 9-10 a.m. at both campuses. We will not meet on Sunday morning.
URL:https://www.fcfc.tv/event/21-days-of-prayer-23/
LOCATION:FCFC All Campuses
END:VEVENT
BEGIN:VEVENT
DTSTART;TZID=America/Chicago:20220805T083000
DTEND;TZID=America/Chicago:20220805T220000
DTSTAMP:20260423T161625
CREATED:20220719T175256Z
LAST-MODIFIED:20220719T183057Z
UID:30295-1659688200-1659736800@www.fcfc.tv
SUMMARY:Camp Haven 2022
DESCRIPTION:Once again we will be hosting Camp Haven here at FCFC. This youth camp will be from August 1st-5th\, 8:30am drop off to -10:00pm pick up. \nCamp cost is $100 per student. \nFor sign up\, text “CAMP” to 636-266-0009. \nText Pastor Jessee at 314-657-5359 with any camp questions. \n 
URL:https://www.fcfc.tv/event/camp-haven-2022-2022-08-05/
LOCATION:Warrenton Campus
END:VEVENT
BEGIN:VEVENT
DTSTART;TZID=America/Chicago:20220804T083000
DTEND;TZID=America/Chicago:20220804T220000
DTSTAMP:20260423T161625
CREATED:20220719T175256Z
LAST-MODIFIED:20220719T183057Z
UID:30294-1659601800-1659650400@www.fcfc.tv
SUMMARY:Camp Haven 2022
DESCRIPTION:Once again we will be hosting Camp Haven here at FCFC. This youth camp will be from August 1st-5th\, 8:30am drop off to -10:00pm pick up. \nCamp cost is $100 per student. \nFor sign up\, text “CAMP” to 636-266-0009. \nText Pastor Jessee at 314-657-5359 with any camp questions. \n 
URL:https://www.fcfc.tv/event/camp-haven-2022-2022-08-04/
LOCATION:Warrenton Campus
END:VEVENT
BEGIN:VEVENT
DTSTART;TZID=America/Chicago:20220803T190000
DTEND;TZID=America/Chicago:20220803T210000
DTSTAMP:20260423T161625
CREATED:20220731T193719Z
LAST-MODIFIED:20220731T193719Z
UID:30348-1659553200-1659560400@www.fcfc.tv
SUMMARY:Those Crazy Corinthians
DESCRIPTION:Join us on Wednesday nights in August as Pastor Terry teaches from Corinthians.
URL:https://www.fcfc.tv/event/those-crazy-corinthians/
LOCATION:Warrenton Campus
END:VEVENT
BEGIN:VEVENT
DTSTART;TZID=America/Chicago:20220803T083000
DTEND;TZID=America/Chicago:20220803T220000
DTSTAMP:20260423T161625
CREATED:20220719T175256Z
LAST-MODIFIED:20220719T183056Z
UID:30293-1659515400-1659564000@www.fcfc.tv
SUMMARY:Camp Haven 2022
DESCRIPTION:Once again we will be hosting Camp Haven here at FCFC. This youth camp will be from August 1st-5th\, 8:30am drop off to -10:00pm pick up. \nCamp cost is $100 per student. \nFor sign up\, text “CAMP” to 636-266-0009. \nText Pastor Jessee at 314-657-5359 with any camp questions. \n 
URL:https://www.fcfc.tv/event/camp-haven-2022-2022-08-03/
LOCATION:Warrenton Campus
END:VEVENT
BEGIN:VEVENT
DTSTART;TZID=America/Chicago:20220802T083000
DTEND;TZID=America/Chicago:20220802T220000
DTSTAMP:20260423T161625
CREATED:20220719T175256Z
LAST-MODIFIED:20220719T183055Z
UID:30292-1659429000-1659477600@www.fcfc.tv
SUMMARY:Camp Haven 2022
DESCRIPTION:Once again we will be hosting Camp Haven here at FCFC. This youth camp will be from August 1st-5th\, 8:30am drop off to -10:00pm pick up. \nCamp cost is $100 per student. \nFor sign up\, text “CAMP” to 636-266-0009. \nText Pastor Jessee at 314-657-5359 with any camp questions. \n 
URL:https://www.fcfc.tv/event/camp-haven-2022-2022-08-02/
LOCATION:Warrenton Campus
END:VEVENT
BEGIN:VEVENT
DTSTART;TZID=America/Chicago:20220801T083000
DTEND;TZID=America/Chicago:20220801T220000
DTSTAMP:20260423T161625
CREATED:20220719T175256Z
LAST-MODIFIED:20220719T183209Z
UID:30290-1659342600-1659391200@www.fcfc.tv
SUMMARY:Camp Haven 2022
DESCRIPTION:Once again we will be hosting Camp Haven here at FCFC. This youth camp will be from August 1st-5th\, 8:30am drop off to -10:00pm pick up. \nThere will be a mandatory parent meeting Sunday\, July 31\, at 7pm to complete all necessary paperwork. \nCamp cost is $100 per student. \nFor sign up\, text “CAMP” to 636-266-0009. \nText Pastor Jessee at 314-657-5359 with any camp questions. \n 
URL:https://www.fcfc.tv/event/camp-haven-2022/
LOCATION:Warrenton Campus
END:VEVENT
BEGIN:VEVENT
DTSTART;TZID=America/Chicago:20220731T090000
DTEND;TZID=America/Chicago:20220731T120000
DTSTAMP:20260423T161625
CREATED:20220712T161509Z
LAST-MODIFIED:20220712T161509Z
UID:30242-1659258000-1659268800@www.fcfc.tv
SUMMARY:Monika Wagner
DESCRIPTION:We are pleased to have Monika Wagner with us at both campuses on July 31. Monika preaches and teaches at various ministries\, leadership trainings\, seminars and conferences around the world equipping the body of Christ and raising leaders for greatness! Currently\, she serves as the RHEMA Bible Training Center (RBTC) Director of Europe. Her message will be interesting and impactful.
URL:https://www.fcfc.tv/event/monika-wagner-2/
LOCATION:FCFC All Campuses
END:VEVENT
BEGIN:VEVENT
DTSTART;TZID=America/Chicago:20220727T190000
DTEND;TZID=America/Chicago:20220727T203000
DTSTAMP:20260423T161625
CREATED:20220531T194015Z
LAST-MODIFIED:20220730T210431Z
UID:30205-1658948400-1658953800@www.fcfc.tv
SUMMARY:The Daniel Plan
DESCRIPTION:Join us on Wednesday nights in July at the Warrenton campus as Pastors Terry and Becky teach on the Daniel Plan and all the different ways it can benefit our health and well being.
URL:https://www.fcfc.tv/event/the-daniel-plan-2022-07-27/
LOCATION:Warrenton Campus
END:VEVENT
BEGIN:VEVENT
DTSTART;TZID=America/Chicago:20220720T190000
DTEND;TZID=America/Chicago:20220720T203000
DTSTAMP:20260423T161625
CREATED:20220531T194015Z
LAST-MODIFIED:20220730T210430Z
UID:30204-1658343600-1658349000@www.fcfc.tv
SUMMARY:The Daniel Plan
DESCRIPTION:Join us on Wednesday nights in July at the Warrenton campus as Pastors Terry and Becky teach on the Daniel Plan and all the different ways it can benefit our health and well being.
URL:https://www.fcfc.tv/event/the-daniel-plan-2022-07-20/
LOCATION:Warrenton Campus
END:VEVENT
BEGIN:VEVENT
DTSTART;TZID=America/Chicago:20220719T080000
DTEND;TZID=America/Chicago:20220719T170000
DTSTAMP:20260423T161625
CREATED:20220426T201530Z
LAST-MODIFIED:20220426T201530Z
UID:30160-1658217600-1658250000@www.fcfc.tv
SUMMARY:Blood Drive - Warrenton
DESCRIPTION:The American Red Cross will be having a blood drive at FCFC on July 20. Any adult is welcome to donate. You can sign up ahead of time at redcross.org.
URL:https://www.fcfc.tv/event/blood-drive-warrenton/
LOCATION:Warrenton Campus
END:VEVENT
BEGIN:VEVENT
DTSTART;TZID=America/Chicago:20220713T190000
DTEND;TZID=America/Chicago:20220713T203000
DTSTAMP:20260423T161625
CREATED:20220531T194015Z
LAST-MODIFIED:20220730T210428Z
UID:30203-1657738800-1657744200@www.fcfc.tv
SUMMARY:The Daniel Plan
DESCRIPTION:Join us on Wednesday nights in July at the Warrenton campus as Pastors Terry and Becky teach on the Daniel Plan and all the different ways it can benefit our health and well being.
URL:https://www.fcfc.tv/event/the-daniel-plan-2022-07-13/
LOCATION:Warrenton Campus
END:VEVENT
BEGIN:VEVENT
DTSTART;TZID=America/Chicago:20220713T080000
DTEND;TZID=America/Chicago:20220713T170000
DTSTAMP:20260423T161625
CREATED:20220426T201449Z
LAST-MODIFIED:20220426T201449Z
UID:30158-1657699200-1657731600@www.fcfc.tv
SUMMARY:Blood Drive - Wentzville
DESCRIPTION:The American Red Cross will be having a blood drive at FCFC on July 20. Any adult is welcome to donate. You can sign up ahead of time at redcross.org.
URL:https://www.fcfc.tv/event/blood-drive-wentzville/
LOCATION:Wentzville Campus
END:VEVENT
BEGIN:VEVENT
DTSTART;TZID=America/Chicago:20220708T173000
DTEND;TZID=America/Chicago:20220708T193000
DTSTAMP:20260423T161625
CREATED:20220705T174001Z
LAST-MODIFIED:20220705T174001Z
UID:30223-1657301400-1657308600@www.fcfc.tv
SUMMARY:S.A.L.T. Potluck Picnic
DESCRIPTION:Join us for a potluck picnic at the McCord home on Friday\, July 8th at 5:30pm. Please bring a lawn chair and a dish to share. Drinks will be provided. 29246 Meadowlark South\, Warrenton. For more information call 636.456.4352.
URL:https://www.fcfc.tv/event/s-a-l-t-potluck-picnic/
END:VEVENT
BEGIN:VEVENT
DTSTART;TZID=America/Chicago:20220708T090000
DTEND;TZID=America/Chicago:20220710T180000
DTSTAMP:20260423T161625
CREATED:20220524T202622Z
LAST-MODIFIED:20220524T202622Z
UID:30184-1657270800-1657476000@www.fcfc.tv
SUMMARY:Camp Penuel
DESCRIPTION:Boys and girls\, ages 7-11\, join us for a weekend of fun and worship at Camp Penuel in Ironton\, MO. We will leave from the church parking lot at 9 am Friday\, 7/8 and return to church around 5-6 pm Sunday\, 7/10. There is no cost for this camp\, but you need to let Pastor Jeremy know as soon as possible if you plan to attend.
URL:https://www.fcfc.tv/event/camp-penuel/
END:VEVENT
BEGIN:VEVENT
DTSTART;TZID=America/Chicago:20220706T190000
DTEND;TZID=America/Chicago:20220706T203000
DTSTAMP:20260423T161625
CREATED:20220531T194015Z
LAST-MODIFIED:20220730T210427Z
UID:30201-1657134000-1657139400@www.fcfc.tv
SUMMARY:The Daniel Plan
DESCRIPTION:Join us on Wednesday nights in July at the Warrenton campus as Pastors Terry and Becky teach on the Daniel Plan and all the different ways it can benefit our health and well being.
URL:https://www.fcfc.tv/event/the-daniel-plan/
LOCATION:Warrenton Campus
END:VEVENT
BEGIN:VEVENT
DTSTART;TZID=America/Chicago:20220703T103000
DTEND;TZID=America/Chicago:20220703T130000
DTSTAMP:20260423T161625
CREATED:20211109T172806Z
LAST-MODIFIED:20221004T153144Z
UID:30153-1656844200-1656853200@www.fcfc.tv
SUMMARY:Growth Track
DESCRIPTION:Have you been wanting to be a part of the Dream Team here at FCFC? Well\, Growth Track is your first step to achieving that goal! We will be hosting our Fast Track Growth Track Curriculum after service at both of our campuses. Here we will uncover your spiritual gifts\, find where you want to serve\, and go over our values as a church. If you have been wanting to be a part of the leadership and serving here at the church\, we encourage you to join us! Child care will be provided.
URL:https://www.fcfc.tv/event/growth-track-4-2022-06-05-2022-07-03/
LOCATION:FCFC All Campuses
END:VEVENT
BEGIN:VEVENT
DTSTART;TZID=America/Chicago:20220629T190000
DTEND;TZID=America/Chicago:20220629T203000
DTSTAMP:20260423T161625
CREATED:20220531T193335Z
LAST-MODIFIED:20220531T193335Z
UID:30197-1656529200-1656534600@www.fcfc.tv
SUMMARY:Wisdom For Our Times
DESCRIPTION:Join us on Wednesday nights in June as Pastor Terry discusses some of the current issues we are seeing and what the Bible says about them.
URL:https://www.fcfc.tv/event/wisdom-for-our-times-2022-06-29/
LOCATION:Warrenton Campus
END:VEVENT
BEGIN:VEVENT
DTSTART;TZID=America/Chicago:20220622T190000
DTEND;TZID=America/Chicago:20220622T203000
DTSTAMP:20260423T161625
CREATED:20220531T193335Z
LAST-MODIFIED:20220531T193335Z
UID:30196-1655924400-1655929800@www.fcfc.tv
SUMMARY:Wisdom For Our Times
DESCRIPTION:Join us on Wednesday nights in June as Pastor Terry discusses some of the current issues we are seeing and what the Bible says about them.
URL:https://www.fcfc.tv/event/wisdom-for-our-times-2022-06-22/
LOCATION:Warrenton Campus
END:VEVENT
END:VCALENDAR