BEGIN:VCALENDAR
VERSION:2.0
PRODID:-//Faith Christian Family Church - ECPv6.0.1.1//NONSGML v1.0//EN
CALSCALE:GREGORIAN
METHOD:PUBLISH
X-WR-CALNAME:Faith Christian Family Church
X-ORIGINAL-URL:https://www.fcfc.tv
X-WR-CALDESC:Events for Faith Christian Family Church
REFRESH-INTERVAL;VALUE=DURATION:PT1H
X-Robots-Tag:noindex
X-PUBLISHED-TTL:PT1H
BEGIN:VTIMEZONE
TZID:America/Chicago
BEGIN:DAYLIGHT
TZOFFSETFROM:-0600
TZOFFSETTO:-0500
TZNAME:CDT
DTSTART:20220313T080000
END:DAYLIGHT
BEGIN:STANDARD
TZOFFSETFROM:-0500
TZOFFSETTO:-0600
TZNAME:CST
DTSTART:20221106T070000
END:STANDARD
END:VTIMEZONE
BEGIN:VEVENT
DTSTART;TZID=America/Chicago:20220522T090000
DTEND;TZID=America/Chicago:20220522T120000
DTSTAMP:20260423T191949
CREATED:20220426T202141Z
LAST-MODIFIED:20220426T202141Z
UID:30164-1653210000-1653220800@www.fcfc.tv
SUMMARY:Joe McGee
DESCRIPTION:It’s always fun when Joe McGee comes to visit. Be sure to be at church on May 22 for a great message.
URL:https://www.fcfc.tv/event/joe-mcgee/
LOCATION:FCFC All Campuses
END:VEVENT
BEGIN:VEVENT
DTSTART;TZID=America/Chicago:20220515T090000
DTEND;TZID=America/Chicago:20220515T120000
DTSTAMP:20260423T191949
CREATED:20220510T203614Z
LAST-MODIFIED:20220510T203614Z
UID:30175-1652605200-1652616000@www.fcfc.tv
SUMMARY:Servant's Heart Food Collection
DESCRIPTION:Servant’s Heart will be collecting non-perishable food items for both the Lakota Mission Trip and for Agape in Warrenton. They will be handing out orange bags and a list of needed items as you leave church on May 15. Take one or more bags and fill them up and bring them back next Sunday! There is a huge need for both the Lakota Reservation and here in Warrenton. Any donations will be greatly appreciated.
URL:https://www.fcfc.tv/event/servants-heart-food-collection-2/
LOCATION:FCFC All Campuses
END:VEVENT
BEGIN:VEVENT
DTSTART;TZID=America/Chicago:20220511T190000
DTEND;TZID=America/Chicago:20220511T210000
DTSTAMP:20260423T191949
CREATED:20211026T204114Z
LAST-MODIFIED:20220425T211034Z
UID:30135-1652295600-1652302800@www.fcfc.tv
SUMMARY:Daniel- Verse by Verse
DESCRIPTION:On Wednesday evenings Pastor Terry is teaching from the book of Daniel\, verse by verse. This will be a great opportunity to deepen your understanding of this subject.
URL:https://www.fcfc.tv/event/revelation-verse-by-verse-2022-04-27-2022-05-11/
LOCATION:Warrenton Campus
END:VEVENT
BEGIN:VEVENT
DTSTART;TZID=America/Chicago:20220508T090000
DTEND;TZID=America/Chicago:20220508T120000
DTSTAMP:20260423T191949
CREATED:20220426T201954Z
LAST-MODIFIED:20220426T201954Z
UID:30162-1652000400-1652011200@www.fcfc.tv
SUMMARY:Mother's Day
DESCRIPTION:May 8th is a special day to remember your Mom. Bring her to church for a great message\, and take some pictures in our photo booth.
URL:https://www.fcfc.tv/event/mothers-day/
LOCATION:FCFC All Campuses
END:VEVENT
BEGIN:VEVENT
DTSTART;TZID=America/Chicago:20220504T190000
DTEND;TZID=America/Chicago:20220504T210000
DTSTAMP:20260423T191949
CREATED:20211026T204114Z
LAST-MODIFIED:20220425T211032Z
UID:30134-1651690800-1651698000@www.fcfc.tv
SUMMARY:Daniel- Verse by Verse
DESCRIPTION:On Wednesday evenings Pastor Terry is teaching from the book of Daniel\, verse by verse. This will be a great opportunity to deepen your understanding of this subject.
URL:https://www.fcfc.tv/event/revelation-verse-by-verse-2022-04-27-2022-05-04/
LOCATION:Warrenton Campus
END:VEVENT
BEGIN:VEVENT
DTSTART;TZID=America/Chicago:20220427T190000
DTEND;TZID=America/Chicago:20220427T210000
DTSTAMP:20260423T191949
CREATED:20211026T204114Z
LAST-MODIFIED:20220425T211031Z
UID:30133-1651086000-1651093200@www.fcfc.tv
SUMMARY:Daniel- Verse by Verse
DESCRIPTION:On Wednesday evenings Pastor Terry is teaching from the book of Daniel\, verse by verse. This will be a great opportunity to deepen your understanding of this subject.
URL:https://www.fcfc.tv/event/revelation-verse-by-verse-2022-04-27/
LOCATION:Warrenton Campus
END:VEVENT
BEGIN:VEVENT
DTSTART;TZID=America/Chicago:20220424T080000
DTEND;TZID=America/Chicago:20220424T120000
DTSTAMP:20260423T191949
CREATED:20220322T153003Z
LAST-MODIFIED:20220322T153003Z
UID:30118-1650787200-1650801600@www.fcfc.tv
SUMMARY:Water Baptism
DESCRIPTION:We will be hosting baptisms at both of our campuses. Being water baptized is an outward profession of the inner change when you became a Christian. If you are interested in being baptized that morning\, make sure you arrive an hour before service for the baptismal class.
URL:https://www.fcfc.tv/event/water-baptism-4/
LOCATION:FCFC All Campuses
END:VEVENT
BEGIN:VEVENT
DTSTART;TZID=America/Chicago:20220421T090000
DTEND;TZID=America/Chicago:20220421T160000
DTSTAMP:20260423T191949
CREATED:20220104T175050Z
LAST-MODIFIED:20220104T175050Z
UID:29843-1650531600-1650556800@www.fcfc.tv
SUMMARY:LifeLine Screening
DESCRIPTION:
URL:https://www.fcfc.tv/event/lifeline-screening/
LOCATION:Warrenton Campus
END:VEVENT
BEGIN:VEVENT
DTSTART;TZID=America/Chicago:20220420T190000
DTEND;TZID=America/Chicago:20220420T210000
DTSTAMP:20260423T191949
CREATED:20211026T204114Z
LAST-MODIFIED:20211026T204114Z
UID:30132-1650481200-1650488400@www.fcfc.tv
SUMMARY:Revelation - Verse by Verse
DESCRIPTION:On Wednesday evenings Pastor Terry is teaching from the Book of Revelation\, verse by verse. This will be a great opportunity to deepen your understanding of this subject.
URL:https://www.fcfc.tv/event/revelation-verse-by-verse-2022-04-20/
LOCATION:Warrenton Campus
END:VEVENT
BEGIN:VEVENT
DTSTART;TZID=America/Chicago:20220418T090000
DTEND;TZID=America/Chicago:20220418T120000
DTSTAMP:20260423T191949
CREATED:20220307T193836Z
LAST-MODIFIED:20220307T193836Z
UID:30093-1650272400-1650283200@www.fcfc.tv
SUMMARY:Easter Sunday
DESCRIPTION:Our service in Wentzville will start at 9am\, with an Easter egg hunt for the kiddos to follow. Our service in Warrenton will begin at 10:30am.
URL:https://www.fcfc.tv/event/easter-sunday/
LOCATION:FCFC All Campuses
END:VEVENT
BEGIN:VEVENT
DTSTART;TZID=America/Chicago:20220416T173000
DTEND;TZID=America/Chicago:20220416T210000
DTSTAMP:20260423T191949
CREATED:20220307T193652Z
LAST-MODIFIED:20220307T193652Z
UID:30090-1650130200-1650142800@www.fcfc.tv
SUMMARY:Easter on Friday
DESCRIPTION:At 5pm there will be BBQ from Vets Rolling Smoke to start off the night at our Warrenton campus. The service will begin at 7pm and will be the same as the Sunday services. At 8:30pm there will be a glow-in-the dark Easter egg hunt for the kiddos.
URL:https://www.fcfc.tv/event/easter-on-friday/
LOCATION:Warrenton Campus
END:VEVENT
BEGIN:VEVENT
DTSTART;TZID=America/Chicago:20220413T190000
DTEND;TZID=America/Chicago:20220413T210000
DTSTAMP:20260423T191949
CREATED:20211026T204114Z
LAST-MODIFIED:20220405T193623Z
UID:30097-1649876400-1649883600@www.fcfc.tv
SUMMARY:Revelation - Verse by Verse
DESCRIPTION:On Wednesday evenings Pastor Terry is teaching from the Book of Revelation\, verse by verse. This will be a great opportunity to deepen your understanding of this subject.
URL:https://www.fcfc.tv/event/revelation-verse-by-verse-2022-04-13/
LOCATION:Warrenton Campus
END:VEVENT
BEGIN:VEVENT
DTSTART;TZID=America/Chicago:20220410T120000
DTEND;TZID=America/Chicago:20220410T150000
DTSTAMP:20260423T191949
CREATED:20220329T213113Z
LAST-MODIFIED:20220329T213113Z
UID:30128-1649592000-1649602800@www.fcfc.tv
SUMMARY:Easter Egg Stuffing Party - Part 2
DESCRIPTION:Stay after service Sunday\, 4/10\, for pizza\, fun and stuffing more eggs for the Easter egg hunt!
URL:https://www.fcfc.tv/event/easter-egg-stuffing-party-part-2/
LOCATION:Warrenton Campus
END:VEVENT
BEGIN:VEVENT
DTSTART;TZID=America/Chicago:20220409T090000
DTEND;TZID=America/Chicago:20220409T120000
DTSTAMP:20260423T191949
CREATED:20220329T212923Z
LAST-MODIFIED:20220329T212923Z
UID:30126-1649494800-1649505600@www.fcfc.tv
SUMMARY:Easter Egg Stuffing Party
DESCRIPTION:Join us on Saturday\, 4/9\, from 9am-12pm to stuff eggs for the Easter egg hunt. Donuts and fun will be provided.
URL:https://www.fcfc.tv/event/easter-egg-stuffing-party/
LOCATION:Warrenton Campus
END:VEVENT
BEGIN:VEVENT
DTSTART;TZID=America/Chicago:20220408T180000
DTEND;TZID=America/Chicago:20220408T200000
DTSTAMP:20260423T191949
CREATED:20220328T210643Z
LAST-MODIFIED:20220328T210643Z
UID:30121-1649440800-1649448000@www.fcfc.tv
SUMMARY:SALT Celebrating Easter
DESCRIPTION:Celebrating Easter with Communion\, fellowship and dessert! Bring your favorite dessert to share. Drinks will be provided. We will meet in the Warrenton Youth Room. For more info contact Mike and Shawn at 636-456-4352.
URL:https://www.fcfc.tv/event/salt-celebrating-easter/
LOCATION:Warrenton Campus
END:VEVENT
BEGIN:VEVENT
DTSTART;TZID=America/Chicago:20220406T190000
DTEND;TZID=America/Chicago:20220406T210000
DTSTAMP:20260423T191949
CREATED:20211026T204114Z
LAST-MODIFIED:20220405T193622Z
UID:30096-1649271600-1649278800@www.fcfc.tv
SUMMARY:Revelation - Verse by Verse
DESCRIPTION:On Wednesday evenings Pastor Terry is teaching from the Book of Revelation\, verse by verse. This will be a great opportunity to deepen your understanding of this subject.
URL:https://www.fcfc.tv/event/revelation-verse-by-verse-2022-04-06/
LOCATION:Warrenton Campus
END:VEVENT
BEGIN:VEVENT
DTSTART;TZID=America/Chicago:20220403T103000
DTEND;TZID=America/Chicago:20220403T130000
DTSTAMP:20260423T191949
CREATED:20211109T172806Z
LAST-MODIFIED:20211109T172806Z
UID:29682-1648981800-1648990800@www.fcfc.tv
SUMMARY:Growth Track
DESCRIPTION:Have you been wanting to be a part of the Dream Team here at FCFC? Well\, Growth Track is your first step to achieving that goal! We will be hosting our Fast Track Growth Track Curriculum after service at both of our campuses. Here we will uncover your spiritual gifts\, find where you want to serve\, and go over our values as a church. If you have been wanting to be a part of the leadership and serving here at the church\, we encourage you to join us! Child care will be provided.
URL:https://www.fcfc.tv/event/growth-track-4-2022-04-03/
LOCATION:FCFC All Campuses
END:VEVENT
BEGIN:VEVENT
DTSTART;TZID=America/Chicago:20220330T190000
DTEND;TZID=America/Chicago:20220330T210000
DTSTAMP:20260423T191949
CREATED:20211026T204114Z
LAST-MODIFIED:20220405T193621Z
UID:30074-1648666800-1648674000@www.fcfc.tv
SUMMARY:Revelation - Verse by Verse
DESCRIPTION:On Wednesday evenings Pastor Terry is teaching from the Book of Revelation\, verse by verse. This will be a great opportunity to deepen your understanding of this subject.
URL:https://www.fcfc.tv/event/revelation-verse-by-verse-2022-03-30/
LOCATION:Warrenton Campus
END:VEVENT
BEGIN:VEVENT
DTSTART;TZID=America/Chicago:20220323T190000
DTEND;TZID=America/Chicago:20220323T210000
DTSTAMP:20260423T191950
CREATED:20211026T204114Z
LAST-MODIFIED:20220405T193620Z
UID:30073-1648062000-1648069200@www.fcfc.tv
SUMMARY:Revelation - Verse by Verse
DESCRIPTION:On Wednesday evenings Pastor Terry is teaching from the Book of Revelation\, verse by verse. This will be a great opportunity to deepen your understanding of this subject.
URL:https://www.fcfc.tv/event/revelation-verse-by-verse-2022-03-23/
LOCATION:Warrenton Campus
END:VEVENT
BEGIN:VEVENT
DTSTART;TZID=America/Chicago:20220320T080000
DTEND;TZID=America/Chicago:20220320T103000
DTSTAMP:20260423T191950
CREATED:20220222T151646Z
LAST-MODIFIED:20220222T152213Z
UID:30012-1647763200-1647772200@www.fcfc.tv
SUMMARY:Water Baptism
DESCRIPTION:We will be hosting baptisms at both of our campuses. Being water baptized is an outward profession of the inner change when you became a Christian. If you are interested in being baptized that morning\, make sure you arrive an hour before service for the baptismal class.
URL:https://www.fcfc.tv/event/water-baptism-3/
LOCATION:FCFC All Campuses
END:VEVENT
BEGIN:VEVENT
DTSTART;TZID=America/Chicago:20220316T190000
DTEND;TZID=America/Chicago:20220316T210000
DTSTAMP:20260423T191950
CREATED:20211026T204114Z
LAST-MODIFIED:20220405T193619Z
UID:30072-1647457200-1647464400@www.fcfc.tv
SUMMARY:Revelation - Verse by Verse
DESCRIPTION:On Wednesday evenings Pastor Terry is teaching from the Book of Revelation\, verse by verse. This will be a great opportunity to deepen your understanding of this subject.
URL:https://www.fcfc.tv/event/revelation-verse-by-verse-2022-03-16/
LOCATION:Warrenton Campus
END:VEVENT
BEGIN:VEVENT
DTSTART;TZID=America/Chicago:20220309T190000
DTEND;TZID=America/Chicago:20220309T210000
DTSTAMP:20260423T191950
CREATED:20211026T204114Z
LAST-MODIFIED:20220405T193616Z
UID:30071-1646852400-1646859600@www.fcfc.tv
SUMMARY:Revelation - Verse by Verse
DESCRIPTION:On Wednesday evenings Pastor Terry is teaching from the Book of Revelation\, verse by verse. This will be a great opportunity to deepen your understanding of this subject.
URL:https://www.fcfc.tv/event/revelation-verse-by-verse-2022-03-09/
LOCATION:Warrenton Campus
END:VEVENT
BEGIN:VEVENT
DTSTART;TZID=America/Chicago:20220306T103000
DTEND;TZID=America/Chicago:20220306T130000
DTSTAMP:20260423T191950
CREATED:20211109T172806Z
LAST-MODIFIED:20211109T172806Z
UID:29681-1646562600-1646571600@www.fcfc.tv
SUMMARY:Growth Track
DESCRIPTION:Have you been wanting to be a part of the Dream Team here at FCFC? Well\, Growth Track is your first step to achieving that goal! We will be hosting our Fast Track Growth Track Curriculum after service at both of our campuses. Here we will uncover your spiritual gifts\, find where you want to serve\, and go over our values as a church. If you have been wanting to be a part of the leadership and serving here at the church\, we encourage you to join us! Child care will be provided.
URL:https://www.fcfc.tv/event/growth-track-4-2022-03-06/
LOCATION:FCFC All Campuses
END:VEVENT
BEGIN:VEVENT
DTSTART;TZID=America/Chicago:20220304T180000
DTEND;TZID=America/Chicago:20220304T200000
DTSTAMP:20260423T191950
CREATED:20220222T190213Z
LAST-MODIFIED:20220228T153344Z
UID:30016-1646416800-1646424000@www.fcfc.tv
SUMMARY:SALT Comedy Night
DESCRIPTION:Join us in the youth room at church for popcorn and a movie! We can all use a good laugh!
URL:https://www.fcfc.tv/event/salt-comedy-night/
LOCATION:Warrenton Campus
END:VEVENT
BEGIN:VEVENT
DTSTART;TZID=America/Chicago:20220302T190000
DTEND;TZID=America/Chicago:20220302T210000
DTSTAMP:20260423T191950
CREATED:20211026T204114Z
LAST-MODIFIED:20220405T193614Z
UID:30070-1646247600-1646254800@www.fcfc.tv
SUMMARY:Revelation - Verse by Verse
DESCRIPTION:On Wednesday evenings Pastor Terry is teaching from the Book of Revelation\, verse by verse. This will be a great opportunity to deepen your understanding of this subject.
URL:https://www.fcfc.tv/event/revelation-verse-by-verse-2022-03-02/
LOCATION:Warrenton Campus
END:VEVENT
BEGIN:VEVENT
DTSTART;TZID=America/Chicago:20220227T090000
DTEND;TZID=America/Chicago:20220227T120000
DTSTAMP:20260423T191950
CREATED:20220222T152134Z
LAST-MODIFIED:20220222T152134Z
UID:30014-1645952400-1645963200@www.fcfc.tv
SUMMARY:Monika Wagner
DESCRIPTION:We are pleased to have Monika Wagner with us at both campuses on February 27. Monika preaches and teaches at various ministries\, leadership trainings\, seminars and conferences around the world equipping the body of Christ and raising leaders for greatness! Currently\, she serves as the RHEMA Bible Training Center (RBTC) Director of Europe. Her message will be interesting and impactful.
URL:https://www.fcfc.tv/event/monika-wagner/
LOCATION:FCFC All Campuses
END:VEVENT
BEGIN:VEVENT
DTSTART;TZID=America/Chicago:20220223T190000
DTEND;TZID=America/Chicago:20220223T210000
DTSTAMP:20260423T191950
CREATED:20211026T204114Z
LAST-MODIFIED:20220405T193613Z
UID:30069-1645642800-1645650000@www.fcfc.tv
SUMMARY:Revelation - Verse by Verse
DESCRIPTION:On Wednesday evenings Pastor Terry is teaching from the Book of Revelation\, verse by verse. This will be a great opportunity to deepen your understanding of this subject.
URL:https://www.fcfc.tv/event/revelation-verse-by-verse-2022-02-23/
LOCATION:Warrenton Campus
END:VEVENT
BEGIN:VEVENT
DTSTART;TZID=America/Chicago:20220216T190000
DTEND;TZID=America/Chicago:20220216T210000
DTSTAMP:20260423T191950
CREATED:20211026T204114Z
LAST-MODIFIED:20220405T193612Z
UID:30068-1645038000-1645045200@www.fcfc.tv
SUMMARY:Revelation - Verse by Verse
DESCRIPTION:On Wednesday evenings Pastor Terry is teaching from the Book of Revelation\, verse by verse. This will be a great opportunity to deepen your understanding of this subject.
URL:https://www.fcfc.tv/event/revelation-verse-by-verse-2022-02-16/
LOCATION:Warrenton Campus
END:VEVENT
BEGIN:VEVENT
DTSTART;TZID=America/Chicago:20220211T190000
DTEND;TZID=America/Chicago:20220212T153000
DTSTAMP:20260423T191950
CREATED:20220118T220258Z
LAST-MODIFIED:20220131T155958Z
UID:29970-1644606000-1644679800@www.fcfc.tv
SUMMARY:XO Marriage Conference
DESCRIPTION:XO Marriage Conference is a two-day experience that provides expert marriage advice and practical teachings to help couples navigate their marriage journey.\nYou’ll hear from Christian marriage experts like Jimmy Evans\, Dave and Ashley Willis\, and many other leading speakers about the secrets to a healthy\, thriving marriage. At XO\, you can expect dynamic teachings\, worship\, and an inspiring environment that will help you and your spouse grow closer together and build a strong marriage. You can find out more details and register for the conference at fcfc.tv/marriage. The schedule for the conference is below. Breakfast snacks and drinks will be provided Saturday morning. There is no charge to attend the conference\, however childcare will be available for $5 per child each day.\n\nFriday \n\n7pm – 9:30pm\n\nSaturday \n9am – 11am         12:30pm – 3:30pm
URL:https://www.fcfc.tv/event/xo-marriage-conference/
LOCATION:Warrenton Campus
END:VEVENT
BEGIN:VEVENT
DTSTART;TZID=America/Chicago:20220209T190000
DTEND;TZID=America/Chicago:20220209T210000
DTSTAMP:20260423T191950
CREATED:20211026T204114Z
LAST-MODIFIED:20220405T193610Z
UID:30067-1644433200-1644440400@www.fcfc.tv
SUMMARY:Revelation - Verse by Verse
DESCRIPTION:On Wednesday evenings Pastor Terry is teaching from the Book of Revelation\, verse by verse. This will be a great opportunity to deepen your understanding of this subject.
URL:https://www.fcfc.tv/event/revelation-verse-by-verse-2022-02-09/
LOCATION:Warrenton Campus
END:VEVENT
END:VCALENDAR