BEGIN:VCALENDAR
VERSION:2.0
PRODID:-//Faith Christian Family Church - ECPv6.0.1.1//NONSGML v1.0//EN
CALSCALE:GREGORIAN
METHOD:PUBLISH
X-WR-CALNAME:Faith Christian Family Church
X-ORIGINAL-URL:https://www.fcfc.tv
X-WR-CALDESC:Events for Faith Christian Family Church
REFRESH-INTERVAL;VALUE=DURATION:PT1H
X-Robots-Tag:noindex
X-PUBLISHED-TTL:PT1H
BEGIN:VTIMEZONE
TZID:America/Chicago
BEGIN:DAYLIGHT
TZOFFSETFROM:-0600
TZOFFSETTO:-0500
TZNAME:CDT
DTSTART:20210314T080000
END:DAYLIGHT
BEGIN:STANDARD
TZOFFSETFROM:-0500
TZOFFSETTO:-0600
TZNAME:CST
DTSTART:20211107T070000
END:STANDARD
BEGIN:DAYLIGHT
TZOFFSETFROM:-0600
TZOFFSETTO:-0500
TZNAME:CDT
DTSTART:20220313T080000
END:DAYLIGHT
BEGIN:STANDARD
TZOFFSETFROM:-0500
TZOFFSETTO:-0600
TZNAME:CST
DTSTART:20221106T070000
END:STANDARD
END:VTIMEZONE
BEGIN:VEVENT
DTSTART;TZID=America/Chicago:20220125T060000
DTEND;TZID=America/Chicago:20220125T070000
DTSTAMP:20260423T232814
CREATED:20211207T175808Z
LAST-MODIFIED:20220111T174506Z
UID:29821-1643090400-1643094000@www.fcfc.tv
SUMMARY:21 Days of Prayer
DESCRIPTION:Join with us\, at church or at home\, for our 21 Days of Prayer\, from January 9 through January 29. Monday-Friday we will meet in the morning from 6-7 a.m. at Warrenton and in the evening from 6-7 p.m. at Wentzville\, and on Saturday morning from 9-10 a.m. at both campuses. We will not meet on Sunday morning.
URL:https://www.fcfc.tv/event/21-days-of-prayer-22-2022-01-25/
END:VEVENT
BEGIN:VEVENT
DTSTART;TZID=America/Chicago:20220124T060000
DTEND;TZID=America/Chicago:20220124T070000
DTSTAMP:20260423T232814
CREATED:20211207T175808Z
LAST-MODIFIED:20220111T174505Z
UID:29820-1643004000-1643007600@www.fcfc.tv
SUMMARY:21 Days of Prayer
DESCRIPTION:Join with us\, at church or at home\, for our 21 Days of Prayer\, from January 9 through January 29. Monday-Friday we will meet in the morning from 6-7 a.m. at Warrenton and in the evening from 6-7 p.m. at Wentzville\, and on Saturday morning from 9-10 a.m. at both campuses. We will not meet on Sunday morning.
URL:https://www.fcfc.tv/event/21-days-of-prayer-22-2022-01-24/
END:VEVENT
BEGIN:VEVENT
DTSTART;TZID=America/Chicago:20220123T060000
DTEND;TZID=America/Chicago:20220123T070000
DTSTAMP:20260423T232814
CREATED:20211207T175808Z
LAST-MODIFIED:20220111T174505Z
UID:29818-1642917600-1642921200@www.fcfc.tv
SUMMARY:21 Days of Prayer
DESCRIPTION:Join with us\, at church or at home\, for our 21 Days of Prayer\, from January 9 through January 29. Monday-Friday we will meet in the morning from 6-7 a.m. at Warrenton and in the evening from 6-7 p.m. at Wentzville\, and on Saturday morning from 9-10 a.m. at both campuses. We will not meet on Sunday morning.
URL:https://www.fcfc.tv/event/21-days-of-prayer-22/
END:VEVENT
BEGIN:VEVENT
DTSTART;TZID=America/Chicago:20220122T090000
DTEND;TZID=America/Chicago:20220122T100000
DTSTAMP:20260423T232814
CREATED:20211207T175348Z
LAST-MODIFIED:20220111T174045Z
UID:29799-1642842000-1642845600@www.fcfc.tv
SUMMARY:21 Days of Prayer
DESCRIPTION:Join with us\, at church or at home\, for our 21 Days of Prayer\, from January 9 through January 29. Monday-Friday we will meet in the morning from 6-7 a.m. at Warrenton and in the evening from 6-7 p.m. at Wentzville\, and on Saturday morning from 9-10 a.m. at both campuses. We will not meet on Sunday morning.
URL:https://www.fcfc.tv/event/21-days-of-prayer-20-2022-01-22/
END:VEVENT
BEGIN:VEVENT
DTSTART;TZID=America/Chicago:20220121T060000
DTEND;TZID=America/Chicago:20220121T070000
DTSTAMP:20260423T232814
CREATED:20211207T175653Z
LAST-MODIFIED:20220111T175038Z
UID:29817-1642744800-1642748400@www.fcfc.tv
SUMMARY:21 Days of Prayer
DESCRIPTION:Join with us\, at church or at home\, for our 21 Days of Prayer\, from January 9 through January 29. Monday-Friday we will meet in the morning from 6-7 a.m. at Warrenton and in the evening from 6-7 p.m. at Wentzville\, and on Saturday morning from 9-10 a.m. at both campuses. We will not meet on Sunday morning.
URL:https://www.fcfc.tv/event/21-days-of-prayer-21-2022-01-21/
END:VEVENT
BEGIN:VEVENT
DTSTART;TZID=America/Chicago:20220120T060000
DTEND;TZID=America/Chicago:20220120T070000
DTSTAMP:20260423T232814
CREATED:20211207T175653Z
LAST-MODIFIED:20220111T175037Z
UID:29816-1642658400-1642662000@www.fcfc.tv
SUMMARY:21 Days of Prayer
DESCRIPTION:Join with us\, at church or at home\, for our 21 Days of Prayer\, from January 9 through January 29. Monday-Friday we will meet in the morning from 6-7 a.m. at Warrenton and in the evening from 6-7 p.m. at Wentzville\, and on Saturday morning from 9-10 a.m. at both campuses. We will not meet on Sunday morning.
URL:https://www.fcfc.tv/event/21-days-of-prayer-21-2022-01-20/
END:VEVENT
BEGIN:VEVENT
DTSTART;TZID=America/Chicago:20220119T190000
DTEND;TZID=America/Chicago:20220119T210000
DTSTAMP:20260423T232814
CREATED:20211026T204114Z
LAST-MODIFIED:20220301T195452Z
UID:29780-1642618800-1642626000@www.fcfc.tv
SUMMARY:Revelation - Verse by Verse
DESCRIPTION:On Wednesday evenings Pastor Terry is teaching from the Book of Revelation\, verse by verse. This will be a great opportunity to deepen your understanding of this subject.
URL:https://www.fcfc.tv/event/revelation-verse-by-verse-2022-01-19/
LOCATION:Warrenton Campus
END:VEVENT
BEGIN:VEVENT
DTSTART;TZID=America/Chicago:20220119T190000
DTEND;TZID=America/Chicago:20220119T210000
DTSTAMP:20260423T232814
CREATED:20211026T204114Z
LAST-MODIFIED:20220405T193608Z
UID:30065-1642618800-1642626000@www.fcfc.tv
SUMMARY:Revelation - Verse by Verse
DESCRIPTION:On Wednesday evenings Pastor Terry is teaching from the Book of Revelation\, verse by verse. This will be a great opportunity to deepen your understanding of this subject.
URL:https://www.fcfc.tv/event/revelation-verse-by-verse-2022-01-19-2/
LOCATION:Warrenton Campus
END:VEVENT
BEGIN:VEVENT
DTSTART;TZID=America/Chicago:20220119T060000
DTEND;TZID=America/Chicago:20220119T070000
DTSTAMP:20260423T232814
CREATED:20211207T175653Z
LAST-MODIFIED:20220111T175036Z
UID:29815-1642572000-1642575600@www.fcfc.tv
SUMMARY:21 Days of Prayer
DESCRIPTION:Join with us\, at church or at home\, for our 21 Days of Prayer\, from January 9 through January 29. Monday-Friday we will meet in the morning from 6-7 a.m. at Warrenton and in the evening from 6-7 p.m. at Wentzville\, and on Saturday morning from 9-10 a.m. at both campuses. We will not meet on Sunday morning.
URL:https://www.fcfc.tv/event/21-days-of-prayer-21-2022-01-19/
END:VEVENT
BEGIN:VEVENT
DTSTART;TZID=America/Chicago:20220118T060000
DTEND;TZID=America/Chicago:20220118T070000
DTSTAMP:20260423T232814
CREATED:20211207T175653Z
LAST-MODIFIED:20220111T175035Z
UID:29814-1642485600-1642489200@www.fcfc.tv
SUMMARY:21 Days of Prayer
DESCRIPTION:Join with us\, at church or at home\, for our 21 Days of Prayer\, from January 9 through January 29. Monday-Friday we will meet in the morning from 6-7 a.m. at Warrenton and in the evening from 6-7 p.m. at Wentzville\, and on Saturday morning from 9-10 a.m. at both campuses. We will not meet on Sunday morning.
URL:https://www.fcfc.tv/event/21-days-of-prayer-21-2022-01-18/
END:VEVENT
BEGIN:VEVENT
DTSTART;TZID=America/Chicago:20220117T060000
DTEND;TZID=America/Chicago:20220117T070000
DTSTAMP:20260423T232814
CREATED:20211207T175653Z
LAST-MODIFIED:20220111T175034Z
UID:29813-1642399200-1642402800@www.fcfc.tv
SUMMARY:21 Days of Prayer
DESCRIPTION:Join with us\, at church or at home\, for our 21 Days of Prayer\, from January 9 through January 29. Monday-Friday we will meet in the morning from 6-7 a.m. at Warrenton and in the evening from 6-7 p.m. at Wentzville\, and on Saturday morning from 9-10 a.m. at both campuses. We will not meet on Sunday morning.
URL:https://www.fcfc.tv/event/21-days-of-prayer-21-2022-01-17/
END:VEVENT
BEGIN:VEVENT
DTSTART;TZID=America/Chicago:20220116T060000
DTEND;TZID=America/Chicago:20220116T070000
DTSTAMP:20260423T232814
CREATED:20211207T175653Z
LAST-MODIFIED:20220111T175034Z
UID:29811-1642312800-1642316400@www.fcfc.tv
SUMMARY:21 Days of Prayer
DESCRIPTION:Join with us\, at church or at home\, for our 21 Days of Prayer\, from January 9 through January 29. Monday-Friday we will meet in the morning from 6-7 a.m. at Warrenton and in the evening from 6-7 p.m. at Wentzville\, and on Saturday morning from 9-10 a.m. at both campuses. We will not meet on Sunday morning.
URL:https://www.fcfc.tv/event/21-days-of-prayer-21/
END:VEVENT
BEGIN:VEVENT
DTSTART;TZID=America/Chicago:20220115T090000
DTEND;TZID=America/Chicago:20220115T100000
DTSTAMP:20260423T232814
CREATED:20211207T175348Z
LAST-MODIFIED:20220111T174044Z
UID:29797-1642237200-1642240800@www.fcfc.tv
SUMMARY:21 Days of Prayer
DESCRIPTION:Join with us\, at church or at home\, for our 21 Days of Prayer\, from January 9 through January 29. Monday-Friday we will meet in the morning from 6-7 a.m. at Warrenton and in the evening from 6-7 p.m. at Wentzville\, and on Saturday morning from 9-10 a.m. at both campuses. We will not meet on Sunday morning.
URL:https://www.fcfc.tv/event/21-days-of-prayer-20/
END:VEVENT
BEGIN:VEVENT
DTSTART;TZID=America/Chicago:20220114T060000
DTEND;TZID=America/Chicago:20220114T070000
DTSTAMP:20260423T232814
CREATED:20211207T165110Z
LAST-MODIFIED:20220111T173641Z
UID:29796-1642140000-1642143600@www.fcfc.tv
SUMMARY:21 Days of Prayer
DESCRIPTION:Join with us\, at church or at home\, for our 21 Days of Prayer\, from January 9 through January 29. Monday-Friday we will meet in the morning from 6-7 a.m. at Warrenton and in the evening from 6-7 p.m. at Wentzville\, and on Saturday morning from 9-10 a.m. at both campuses. We will not meet on Sunday morning.
URL:https://www.fcfc.tv/event/21-days-of-prayer-19-2022-01-14/
LOCATION:FCFC All Campuses
END:VEVENT
BEGIN:VEVENT
DTSTART;TZID=America/Chicago:20220113T060000
DTEND;TZID=America/Chicago:20220113T070000
DTSTAMP:20260423T232814
CREATED:20211207T165110Z
LAST-MODIFIED:20220111T173640Z
UID:29795-1642053600-1642057200@www.fcfc.tv
SUMMARY:21 Days of Prayer
DESCRIPTION:Join with us\, at church or at home\, for our 21 Days of Prayer\, from January 9 through January 29. Monday-Friday we will meet in the morning from 6-7 a.m. at Warrenton and in the evening from 6-7 p.m. at Wentzville\, and on Saturday morning from 9-10 a.m. at both campuses. We will not meet on Sunday morning.
URL:https://www.fcfc.tv/event/21-days-of-prayer-19-2022-01-13/
LOCATION:FCFC All Campuses
END:VEVENT
BEGIN:VEVENT
DTSTART;TZID=America/Chicago:20220112T190000
DTEND;TZID=America/Chicago:20220112T210000
DTSTAMP:20260423T232814
CREATED:20211026T204114Z
LAST-MODIFIED:20220405T193607Z
UID:29779-1642014000-1642021200@www.fcfc.tv
SUMMARY:Revelation - Verse by Verse
DESCRIPTION:On Wednesday evenings Pastor Terry is teaching from the Book of Revelation\, verse by verse. This will be a great opportunity to deepen your understanding of this subject.
URL:https://www.fcfc.tv/event/revelation-verse-by-verse-2022-01-12/
LOCATION:Warrenton Campus
END:VEVENT
BEGIN:VEVENT
DTSTART;TZID=America/Chicago:20220112T060000
DTEND;TZID=America/Chicago:20220112T070000
DTSTAMP:20260423T232814
CREATED:20211207T165110Z
LAST-MODIFIED:20220111T173639Z
UID:29794-1641967200-1641970800@www.fcfc.tv
SUMMARY:21 Days of Prayer
DESCRIPTION:Join with us\, at church or at home\, for our 21 Days of Prayer\, from January 9 through January 29. Monday-Friday we will meet in the morning from 6-7 a.m. at Warrenton and in the evening from 6-7 p.m. at Wentzville\, and on Saturday morning from 9-10 a.m. at both campuses. We will not meet on Sunday morning.
URL:https://www.fcfc.tv/event/21-days-of-prayer-19-2022-01-12/
LOCATION:FCFC All Campuses
END:VEVENT
BEGIN:VEVENT
DTSTART;TZID=America/Chicago:20220111T060000
DTEND;TZID=America/Chicago:20220111T070000
DTSTAMP:20260423T232814
CREATED:20211207T165110Z
LAST-MODIFIED:20220111T173638Z
UID:29793-1641880800-1641884400@www.fcfc.tv
SUMMARY:21 Days of Prayer
DESCRIPTION:Join with us\, at church or at home\, for our 21 Days of Prayer\, from January 9 through January 29. Monday-Friday we will meet in the morning from 6-7 a.m. at Warrenton and in the evening from 6-7 p.m. at Wentzville\, and on Saturday morning from 9-10 a.m. at both campuses. We will not meet on Sunday morning.
URL:https://www.fcfc.tv/event/21-days-of-prayer-19-2022-01-11/
LOCATION:FCFC All Campuses
END:VEVENT
BEGIN:VEVENT
DTSTART;TZID=America/Chicago:20220110T060000
DTEND;TZID=America/Chicago:20220110T070000
DTSTAMP:20260423T232814
CREATED:20211207T165110Z
LAST-MODIFIED:20220111T173637Z
UID:29806-1641794400-1641798000@www.fcfc.tv
SUMMARY:21 Days of Prayer
DESCRIPTION:Join with us\, at church or at home\, for our 21 Days of Prayer\, from January 9 through January 29. Monday-Friday we will meet in the morning from 6-7 a.m. at Warrenton and in the evening from 6-7 p.m. at Wentzville\, and on Saturday morning from 9-10 a.m. at both campuses. We will not meet on Sunday morning.
URL:https://www.fcfc.tv/event/21-days-of-prayer-19-2022-01-10/
LOCATION:FCFC All Campuses
END:VEVENT
BEGIN:VEVENT
DTSTART;TZID=America/Chicago:20220109T060000
DTEND;TZID=America/Chicago:20220109T070000
DTSTAMP:20260423T232814
CREATED:20211207T165110Z
LAST-MODIFIED:20220111T173637Z
UID:29790-1641708000-1641711600@www.fcfc.tv
SUMMARY:21 Days of Prayer
DESCRIPTION:Join with us\, at church or at home\, for our 21 Days of Prayer\, from January 9 through January 29. Monday-Friday we will meet in the morning from 6-7 a.m. at Warrenton and in the evening from 6-7 p.m. at Wentzville\, and on Saturday morning from 9-10 a.m. at both campuses. We will not meet on Sunday morning.
URL:https://www.fcfc.tv/event/21-days-of-prayer-19/
LOCATION:FCFC All Campuses
END:VEVENT
BEGIN:VEVENT
DTSTART;TZID=America/Chicago:20220105T190000
DTEND;TZID=America/Chicago:20220105T210000
DTSTAMP:20260423T232814
CREATED:20211026T204114Z
LAST-MODIFIED:20220405T193606Z
UID:29778-1641409200-1641416400@www.fcfc.tv
SUMMARY:Revelation - Verse by Verse
DESCRIPTION:On Wednesday evenings Pastor Terry is teaching from the Book of Revelation\, verse by verse. This will be a great opportunity to deepen your understanding of this subject.
URL:https://www.fcfc.tv/event/revelation-verse-by-verse-2022-01-05/
LOCATION:Warrenton Campus
END:VEVENT
BEGIN:VEVENT
DTSTART;TZID=America/Chicago:20211231T180000
DTEND;TZID=America/Chicago:20220101T060000
DTSTAMP:20260423T232814
CREATED:20211214T165902Z
LAST-MODIFIED:20211214T165902Z
UID:29830-1640973600-1641016800@www.fcfc.tv
SUMMARY:FCFC Youth New Years Eve Lock In
DESCRIPTION:The FCFC Youth are hosting a New Years lock-in. The event kicks off at 6pm Dec 31st and ends at 6am on Jan 1st. Drop off is at Liberty Christian Academy and pick up is at Faith Christian Family Church. There will be loads of games and activities throughout the night. We kick off with a basketball tournament\, and will have lazer tag and inflatables throughout the night. The event is for kids in 6th – 12th grade. Food and drinks will be available throughout the night. We look forward to ushering in the new year with all of the youth.
URL:https://www.fcfc.tv/event/fcfc-youth-new-years-eve-lock-in/
LOCATION:Warrenton Campus
END:VEVENT
BEGIN:VEVENT
DTSTART;TZID=America/Chicago:20211222T180000
DTEND;TZID=America/Chicago:20211222T203000
DTSTAMP:20260423T232814
CREATED:20211214T170029Z
LAST-MODIFIED:20211214T170029Z
UID:29827-1640196000-1640205000@www.fcfc.tv
SUMMARY:Christmas Cookies and a Movie
DESCRIPTION:Celebrate the Christmas season with friends\, cookies and a free movie! From 6-7 pm we will be visiting and eating cookies. At 7pm we will show the movie “The Chosen Movie – The Christmas Messengers”. Join us for this fun night with family and friends! Childcare will be available.
URL:https://www.fcfc.tv/event/christmas-cookies-and-a-movie/
LOCATION:Warrenton Campus
END:VEVENT
BEGIN:VEVENT
DTSTART;TZID=America/Chicago:20211215T190000
DTEND;TZID=America/Chicago:20211215T210000
DTSTAMP:20260423T232814
CREATED:20211026T204114Z
LAST-MODIFIED:20220405T193557Z
UID:29561-1639594800-1639602000@www.fcfc.tv
SUMMARY:Revelation - Verse by Verse
DESCRIPTION:On Wednesday evenings Pastor Terry is teaching from the Book of Revelation\, verse by verse. This will be a great opportunity to deepen your understanding of this subject.
URL:https://www.fcfc.tv/event/revelation-verse-by-verse-2021-12-15/
LOCATION:Warrenton Campus
END:VEVENT
BEGIN:VEVENT
DTSTART;TZID=America/Chicago:20211212T080000
DTEND;TZID=America/Chicago:20211212T120000
DTSTAMP:20260423T232814
CREATED:20211109T172323Z
LAST-MODIFIED:20211109T172323Z
UID:29675-1639296000-1639310400@www.fcfc.tv
SUMMARY:Water Baptism
DESCRIPTION:We will be hosting baptisms at both of our campuses. Being water baptized is an outward profession of the inner change when you became a Christian. If you are interested in being baptized that morning\, make sure you arrive an hour before service for the baptismal class.
URL:https://www.fcfc.tv/event/water-baptism-2/
LOCATION:FCFC All Campuses
END:VEVENT
BEGIN:VEVENT
DTSTART;TZID=America/Chicago:20211208T190000
DTEND;TZID=America/Chicago:20211208T210000
DTSTAMP:20260423T232814
CREATED:20211026T204114Z
LAST-MODIFIED:20220405T193556Z
UID:29560-1638990000-1638997200@www.fcfc.tv
SUMMARY:Revelation - Verse by Verse
DESCRIPTION:On Wednesday evenings Pastor Terry is teaching from the Book of Revelation\, verse by verse. This will be a great opportunity to deepen your understanding of this subject.
URL:https://www.fcfc.tv/event/revelation-verse-by-verse-2021-12-08/
LOCATION:Warrenton Campus
END:VEVENT
BEGIN:VEVENT
DTSTART;TZID=America/Chicago:20211205T103000
DTEND;TZID=America/Chicago:20211205T130000
DTSTAMP:20260423T232814
CREATED:20211109T172806Z
LAST-MODIFIED:20211109T172806Z
UID:29677-1638700200-1638709200@www.fcfc.tv
SUMMARY:Growth Track
DESCRIPTION:Have you been wanting to be a part of the Dream Team here at FCFC? Well\, Growth Track is your first step to achieving that goal! We will be hosting our Fast Track Growth Track Curriculum after service at both of our campuses. Here we will uncover your spiritual gifts\, find where you want to serve\, and go over our values as a church. If you have been wanting to be a part of the leadership and serving here at the church\, we encourage you to join us! Child care will be provided.
URL:https://www.fcfc.tv/event/growth-track-4/
LOCATION:FCFC All Campuses
END:VEVENT
BEGIN:VEVENT
DTSTART;TZID=America/Chicago:20211203T190000
DTEND;TZID=America/Chicago:20211203T210000
DTSTAMP:20260423T232814
CREATED:20211019T151418Z
LAST-MODIFIED:20211104T210055Z
UID:29542-1638558000-1638565200@www.fcfc.tv
SUMMARY:Women's Christmas Concert
DESCRIPTION:We will be hosting a Christmas Concert on December 3 at 7:00pm at our Warrenton campus. Laura Cooke\, along with her accompanists\, will be treating us to some wonderful music. We will be sharing some sweet desserts\, too! Tickets are $15 each and can be purchased below. Childcare is also available for $5 per child and can also be purchased online.  \n			\n			\n				\n				\n				\n				\n			\n				\n				\n				\n				\n				\n				\n				\n				\n				\n				\n				Get tickets here!
URL:https://www.fcfc.tv/event/save-the-date-ladies-christmas-concert/
LOCATION:Warrenton Campus
END:VEVENT
BEGIN:VEVENT
DTSTART;TZID=America/Chicago:20211201T190000
DTEND;TZID=America/Chicago:20211201T210000
DTSTAMP:20260423T232814
CREATED:20211026T204114Z
LAST-MODIFIED:20220405T193555Z
UID:29559-1638385200-1638392400@www.fcfc.tv
SUMMARY:Revelation - Verse by Verse
DESCRIPTION:On Wednesday evenings Pastor Terry is teaching from the Book of Revelation\, verse by verse. This will be a great opportunity to deepen your understanding of this subject.
URL:https://www.fcfc.tv/event/revelation-verse-by-verse-2021-12-01/
LOCATION:Warrenton Campus
END:VEVENT
BEGIN:VEVENT
DTSTART;TZID=America/Chicago:20211128T090000
DTEND;TZID=America/Chicago:20211128T120000
DTSTAMP:20260423T232814
CREATED:20211102T185436Z
LAST-MODIFIED:20211102T185436Z
UID:29575-1638090000-1638100800@www.fcfc.tv
SUMMARY:Heart For The House
DESCRIPTION:On Sunday\, November 28\, we will be taking our annual Heart For The House offering. This is an offering above and beyond your normal tithe\, and it enables us to do some of the extra things we do here at Faith Christian Family Church. Please be in prayer\, asking God to guide you in your giving.
URL:https://www.fcfc.tv/event/heart-for-the-house/
LOCATION:FCFC All Campuses
END:VEVENT
END:VCALENDAR