BEGIN:VCALENDAR
VERSION:2.0
PRODID:-//Faith Christian Family Church - ECPv6.0.1.1//NONSGML v1.0//EN
CALSCALE:GREGORIAN
METHOD:PUBLISH
X-WR-CALNAME:Faith Christian Family Church
X-ORIGINAL-URL:https://www.fcfc.tv
X-WR-CALDESC:Events for Faith Christian Family Church
REFRESH-INTERVAL;VALUE=DURATION:PT1H
X-Robots-Tag:noindex
X-PUBLISHED-TTL:PT1H
BEGIN:VTIMEZONE
TZID:America/Chicago
BEGIN:DAYLIGHT
TZOFFSETFROM:-0600
TZOFFSETTO:-0500
TZNAME:CDT
DTSTART:20210314T080000
END:DAYLIGHT
BEGIN:STANDARD
TZOFFSETFROM:-0500
TZOFFSETTO:-0600
TZNAME:CST
DTSTART:20211107T070000
END:STANDARD
END:VTIMEZONE
BEGIN:VEVENT
DTSTART;TZID=America/Chicago:20210820T060000
DTEND;TZID=America/Chicago:20210820T070000
DTSTAMP:20260424T112430
CREATED:20210622T183529Z
LAST-MODIFIED:20210622T183529Z
UID:29211-1629439200-1629442800@www.fcfc.tv
SUMMARY:21 Days of Prayer
DESCRIPTION:Join with us\, at church or at home\, for our 21 Days of Prayer\, from August 8 through August 28. Monday-Friday we will meet from 6-7 a.m.\, and on Saturday from 9-10 a.m.
URL:https://www.fcfc.tv/event/21-days-of-prayer-11/
LOCATION:FCFC All Campuses
END:VEVENT
BEGIN:VEVENT
DTSTART;TZID=America/Chicago:20210819T060000
DTEND;TZID=America/Chicago:20210819T070000
DTSTAMP:20260424T112430
CREATED:20210622T183404Z
LAST-MODIFIED:20210622T183404Z
UID:29209-1629352800-1629356400@www.fcfc.tv
SUMMARY:21 Days of Prayer
DESCRIPTION:Join with us\, at church or at home\, for our 21 Days of Prayer\, from August 8 through August 28. Monday-Friday we will meet from 6-7 a.m.\, and on Saturday from 9-10 a.m.
URL:https://www.fcfc.tv/event/21-days-of-prayer-10/
LOCATION:FCFC All Campuses
END:VEVENT
BEGIN:VEVENT
DTSTART;TZID=America/Chicago:20210818T190000
DTEND;TZID=America/Chicago:20210818T210000
DTSTAMP:20260424T112430
CREATED:20210722T194114Z
LAST-MODIFIED:20210809T150933Z
UID:29346-1629313200-1629320400@www.fcfc.tv
SUMMARY:Winds of Doctrine
DESCRIPTION:We will be discussing the various doctrines we’re seeing and hearing about. Childcare will be provided.
URL:https://www.fcfc.tv/event/winds-of-doctrine-4/
LOCATION:Warrenton Campus
END:VEVENT
BEGIN:VEVENT
DTSTART;TZID=America/Chicago:20210818T060000
DTEND;TZID=America/Chicago:20210818T070000
DTSTAMP:20260424T112430
CREATED:20210622T183258Z
LAST-MODIFIED:20210622T183258Z
UID:29207-1629266400-1629270000@www.fcfc.tv
SUMMARY:21 Days of Prayer
DESCRIPTION:Join with us\, at church or at home\, for our 21 Days of Prayer\, from August 8 through August 28. Monday-Friday we will meet from 6-7 a.m.\, and on Saturday from 9-10 a.m.
URL:https://www.fcfc.tv/event/21-days-of-prayer-9/
LOCATION:FCFC All Campuses
END:VEVENT
BEGIN:VEVENT
DTSTART;TZID=America/Chicago:20210817T060000
DTEND;TZID=America/Chicago:20210817T070000
DTSTAMP:20260424T112430
CREATED:20210622T183151Z
LAST-MODIFIED:20210622T183151Z
UID:29205-1629180000-1629183600@www.fcfc.tv
SUMMARY:21 Days of Prayer
DESCRIPTION:Join with us\, at church or at home\, for our 21 Days of Prayer\, from August 8 through August 28. Monday-Friday we will meet from 6-7 a.m.\, and on Saturday from 9-10 a.m.
URL:https://www.fcfc.tv/event/21-days-of-prayer-8/
LOCATION:FCFC All Campuses
END:VEVENT
BEGIN:VEVENT
DTSTART;TZID=America/Chicago:20210816T060000
DTEND;TZID=America/Chicago:20210816T070000
DTSTAMP:20260424T112430
CREATED:20210622T183034Z
LAST-MODIFIED:20210622T183034Z
UID:29203-1629093600-1629097200@www.fcfc.tv
SUMMARY:21 Days of Prayer
DESCRIPTION:Join with us\, at church or at home\, for our 21 Days of Prayer\, from August 8 through August 28. Monday-Friday we will meet from 6-7 a.m.\, and on Saturday from 9-10 a.m.
URL:https://www.fcfc.tv/event/21-days-of-prayer-7/
LOCATION:FCFC All Campuses
END:VEVENT
BEGIN:VEVENT
DTSTART;TZID=America/Chicago:20210814T110000
DTEND;TZID=America/Chicago:20210814T140000
DTSTAMP:20260424T112430
CREATED:20210810T140538Z
LAST-MODIFIED:20210810T140538Z
UID:29387-1628938800-1628949600@www.fcfc.tv
SUMMARY:S.A.L.T. Event
DESCRIPTION:If you’re 50 years or older join us for a BBQ/Fish Fry at the McCord’s home\, 29246 Meadowlark S.\, Warrenton. Bring a side dish or dessert and a lawn chair (fishing pole?). Meat and drinks provided. For more info call 636-456-4352.
URL:https://www.fcfc.tv/event/s-a-l-t-event/
END:VEVENT
BEGIN:VEVENT
DTSTART;TZID=America/Chicago:20210814T090000
DTEND;TZID=America/Chicago:20210814T100000
DTSTAMP:20260424T112430
CREATED:20210622T182923Z
LAST-MODIFIED:20210622T182923Z
UID:29201-1628931600-1628935200@www.fcfc.tv
SUMMARY:21 Days of Prayer
DESCRIPTION:Join with us\, at church or at home\, for our 21 Days of Prayer\, from August 8 through August 28. Monday-Friday we will meet from 6-7 a.m.\, and on Saturday from 9-10 a.m.
URL:https://www.fcfc.tv/event/21-days-of-prayer-6/
LOCATION:FCFC All Campuses
END:VEVENT
BEGIN:VEVENT
DTSTART;TZID=America/Chicago:20210813T060000
DTEND;TZID=America/Chicago:20210813T070000
DTSTAMP:20260424T112430
CREATED:20210622T182108Z
LAST-MODIFIED:20210622T182108Z
UID:29199-1628834400-1628838000@www.fcfc.tv
SUMMARY:21 Days of Prayer
DESCRIPTION:Join with us\, at church or at home\, for our 21 Days of Prayer\, from August 8 through August 28. Monday-Friday we will meet from 6-7 a.m.\, and on Saturday from 9-10 a.m.
URL:https://www.fcfc.tv/event/21-days-of-prayer-5/
LOCATION:FCFC All Campuses
END:VEVENT
BEGIN:VEVENT
DTSTART;TZID=America/Chicago:20210812T060000
DTEND;TZID=America/Chicago:20210812T070000
DTSTAMP:20260424T112430
CREATED:20210622T181959Z
LAST-MODIFIED:20210622T181959Z
UID:29197-1628748000-1628751600@www.fcfc.tv
SUMMARY:21 Days of Prayer
DESCRIPTION:Join with us\, at church or at home\, for our 21 Days of Prayer\, from August 8 through August 28. Monday-Friday we will meet from 6-7 a.m.\, and on Saturday from 9-10 a.m.
URL:https://www.fcfc.tv/event/21-days-of-prayer-4/
LOCATION:FCFC All Campuses
END:VEVENT
BEGIN:VEVENT
DTSTART;TZID=America/Chicago:20210811T190000
DTEND;TZID=America/Chicago:20210811T210000
DTSTAMP:20260424T112430
CREATED:20210722T194039Z
LAST-MODIFIED:20210809T151001Z
UID:29344-1628708400-1628715600@www.fcfc.tv
SUMMARY:Winds of Doctrine
DESCRIPTION:We will be discussing the various doctrines we’re seeing and hearing about. Childcare will be provided.
URL:https://www.fcfc.tv/event/winds-of-doctrine-3/
LOCATION:Warrenton Campus
END:VEVENT
BEGIN:VEVENT
DTSTART;TZID=America/Chicago:20210811T060000
DTEND;TZID=America/Chicago:20210811T070000
DTSTAMP:20260424T112430
CREATED:20210622T181847Z
LAST-MODIFIED:20210622T181847Z
UID:29195-1628661600-1628665200@www.fcfc.tv
SUMMARY:21 Days of Prayer
DESCRIPTION:Join with us\, at church or at home\, for our 21 Days of Prayer\, from August 8 through August 28. Monday-Friday we will meet from 6-7 a.m.\, and on Saturday from 9-10 a.m.
URL:https://www.fcfc.tv/event/21-days-of-prayer-3/
LOCATION:FCFC All Campuses
END:VEVENT
BEGIN:VEVENT
DTSTART;TZID=America/Chicago:20210810T060000
DTEND;TZID=America/Chicago:20210810T070000
DTSTAMP:20260424T112430
CREATED:20210622T181642Z
LAST-MODIFIED:20210622T181642Z
UID:29193-1628575200-1628578800@www.fcfc.tv
SUMMARY:21 Days of Prayer
DESCRIPTION:Join with us\, at church or at home\, for our 21 Days of Prayer\, from August 8 through August 28. Monday-Friday we will meet from 6-7 a.m.\, and on Saturday from 9-10 a.m.
URL:https://www.fcfc.tv/event/21-days-of-prayer-2/
LOCATION:FCFC All Campuses
END:VEVENT
BEGIN:VEVENT
DTSTART;TZID=America/Chicago:20210809T060000
DTEND;TZID=America/Chicago:20210809T070000
DTSTAMP:20260424T112430
CREATED:20210601T211459Z
LAST-MODIFIED:20210622T181731Z
UID:29158-1628488800-1628492400@www.fcfc.tv
SUMMARY:21 Days of Prayer
DESCRIPTION:Join with us\, at church or at home\, for our 21 Days of Prayer\, from August 8 through August 28. Monday-Friday we will meet from 6-7 a.m.\, and on Saturday from 9-10 a.m.
URL:https://www.fcfc.tv/event/21-days-of-prayer/
LOCATION:FCFC All Campuses
END:VEVENT
BEGIN:VEVENT
DTSTART;TZID=America/Chicago:20210807T090000
DTEND;TZID=America/Chicago:20210807T140000
DTSTAMP:20260424T112430
CREATED:20210713T182423Z
LAST-MODIFIED:20210713T182423Z
UID:29312-1628326800-1628344800@www.fcfc.tv
SUMMARY:Back to School Bash
DESCRIPTION:Faith Christian Family Church will be hosting the 7th Annual Back to School Bash on Saturday August 7\, 2021 from 9am-2pm. The Back to School Bash is sponsored by Servant’s Heart and Agape with support from Gifts of Love\, United Wright City\, Care to Learn\, Warren County Health Department and the community.  Hundreds of children in Warren County will receive backpacks filled with school supplies to begin the new school year.\nIf you would like to volunteer email:  servantsheartstl@gmail.com. If you would like to register your child for the event:  https://tinyurl.com/5yjkpdre. \nIf you have any questions contact Karen Gladieux at 314-550-9296
URL:https://www.fcfc.tv/event/back-to-school-bash/
LOCATION:Warrenton Campus
END:VEVENT
BEGIN:VEVENT
DTSTART;TZID=America/Chicago:20210804T190000
DTEND;TZID=America/Chicago:20210804T210000
DTSTAMP:20260424T112430
CREATED:20210722T193955Z
LAST-MODIFIED:20210722T193955Z
UID:29342-1628103600-1628110800@www.fcfc.tv
SUMMARY:Winds of Doctrine
DESCRIPTION:We will be discussing the various doctrines we’re seeing and hearing about. Childcare will be provided.
URL:https://www.fcfc.tv/event/winds-of-doctrine-2/
LOCATION:FCFC All Campuses
END:VEVENT
BEGIN:VEVENT
DTSTART;TZID=America/Chicago:20210728T190000
DTEND;TZID=America/Chicago:20210728T210000
DTSTAMP:20260424T112430
CREATED:20210722T193813Z
LAST-MODIFIED:20210722T193813Z
UID:29340-1627498800-1627506000@www.fcfc.tv
SUMMARY:Winds of Doctrine
DESCRIPTION:We will be discussing the various doctrines we’re seeing and hearing about. Childcare will be provided.
URL:https://www.fcfc.tv/event/winds-of-doctrine/
LOCATION:FCFC All Campuses
END:VEVENT
BEGIN:VEVENT
DTSTART;TZID=America/Chicago:20210721T183000
DTEND;TZID=America/Chicago:20210721T203000
DTSTAMP:20260424T112430
CREATED:20210622T161806Z
LAST-MODIFIED:20210622T161806Z
UID:29188-1626892200-1626899400@www.fcfc.tv
SUMMARY:Vacation Bible School
DESCRIPTION:This is the sixth and final session of our Vacation Bible School. We hope your kids enjoyed it!
URL:https://www.fcfc.tv/event/vacation-bible-school-6/
LOCATION:Warrenton Campus
END:VEVENT
BEGIN:VEVENT
DTSTART;TZID=America/Chicago:20210720T100000
DTEND;TZID=America/Chicago:20210720T150000
DTSTAMP:20260424T112430
CREATED:20210524T154344Z
LAST-MODIFIED:20210601T144046Z
UID:29115-1626775200-1626793200@www.fcfc.tv
SUMMARY:Blood Drive
DESCRIPTION:The American Red Cross will be having a blood drive at FCFC on July 20. Any adult is welcome to donate. You can sign up ahead of time at redcross.org.
URL:https://www.fcfc.tv/event/__trashed-2/
LOCATION:Warrenton Campus
END:VEVENT
BEGIN:VEVENT
DTSTART;TZID=America/Chicago:20210715T183000
DTEND;TZID=America/Chicago:20210715T210000
DTSTAMP:20260424T112430
CREATED:20210706T154222Z
LAST-MODIFIED:20210706T154222Z
UID:29249-1626373800-1626382800@www.fcfc.tv
SUMMARY:Churches Planting Churches Training
DESCRIPTION:Both large and small churches can make a huge impact for the kingdom. July 15 will be the final Thursday zoom session answering your questions and training you for church planting. To register go to https://forms.gle/fgJBgxuY1WGNStnB9. For more information contact jfricke@dcpi.org.
URL:https://www.fcfc.tv/event/churches-planting-churches-training-3/
END:VEVENT
BEGIN:VEVENT
DTSTART;TZID=America/Chicago:20210714T183000
DTEND;TZID=America/Chicago:20210714T203000
DTSTAMP:20260424T112430
CREATED:20210622T160018Z
LAST-MODIFIED:20210622T160018Z
UID:29184-1626287400-1626294600@www.fcfc.tv
SUMMARY:Vacation Bible School
DESCRIPTION:This is the fifth session of our Vacation Bible School. We hope your kids are enjoying it!
URL:https://www.fcfc.tv/event/vacation-bible-school-5/
LOCATION:Warrenton Campus
END:VEVENT
BEGIN:VEVENT
DTSTART;TZID=America/Chicago:20210712T100000
DTEND;TZID=America/Chicago:20210716T223000
DTSTAMP:20260424T112430
CREATED:20210524T154240Z
LAST-MODIFIED:20210623T190237Z
UID:29113-1626084000-1626474600@www.fcfc.tv
SUMMARY:Camp Haven
DESCRIPTION:Our FCFC Youth will be hosting their own youth camp\, Camp Haven. At Camp Haven\, students will arrive at 10am (drop off can be as early as 8am)\, followed by our first service at 11am. After that lunch will be provided\, followed by games and hang out. Around 4pm dinner will be served. Then students will enjoy our Night Service starting at 5pm. Our last service of the night will start at 8pm\, which will be fireside worship and fellowship. This is an awesome week filled with fun and spiritual growth. Any youth in grades 6th-12th may participate. To sign up text “CAMP” to (636)-266-0009\, a link should be sent and you can sign up from there!
URL:https://www.fcfc.tv/event/camp-haven/
LOCATION:Warrenton Campus
END:VEVENT
BEGIN:VEVENT
DTSTART;TZID=America/Chicago:20210708T183000
DTEND;TZID=America/Chicago:20210708T210000
DTSTAMP:20260424T112430
CREATED:20210706T154047Z
LAST-MODIFIED:20210706T154047Z
UID:29246-1625769000-1625778000@www.fcfc.tv
SUMMARY:Churches Planting Churches Training
DESCRIPTION:Both large and small churches can make a huge impact for the kingdom. July 8 will be the third of 4 Thursday zoom sessions answering your questions and training you for church planting. To register go to https://forms.gle/fgJBgxuY1WGNStnB9. For more information contact jfricke@dcpi.org.
URL:https://www.fcfc.tv/event/churches-planting-churches-training-2/
END:VEVENT
BEGIN:VEVENT
DTSTART;TZID=America/Chicago:20210707T183000
DTEND;TZID=America/Chicago:20210707T203000
DTSTAMP:20260424T112430
CREATED:20210622T155800Z
LAST-MODIFIED:20210622T155800Z
UID:29182-1625682600-1625689800@www.fcfc.tv
SUMMARY:Vacation Bible School
DESCRIPTION:This is the fourth session of our Vacation Bible School. We hope your kids are enjoying it!
URL:https://www.fcfc.tv/event/vacation-bible-school-4/
LOCATION:Warrenton Campus
END:VEVENT
BEGIN:VEVENT
DTSTART;TZID=America/Chicago:20210630T183000
DTEND;TZID=America/Chicago:20210630T203000
DTSTAMP:20260424T112430
CREATED:20210622T155550Z
LAST-MODIFIED:20210622T155550Z
UID:29179-1625077800-1625085000@www.fcfc.tv
SUMMARY:Vacation Bible School
DESCRIPTION:This is the third session of our Vacation Bible School. We hope your kids are enjoying it!
URL:https://www.fcfc.tv/event/vacation-bible-school-3/
LOCATION:Warrenton Campus
END:VEVENT
BEGIN:VEVENT
DTSTART;TZID=America/Chicago:20210627T180000
DTEND;TZID=America/Chicago:20210627T210000
DTSTAMP:20260424T112430
CREATED:20210305T234107Z
LAST-MODIFIED:20210622T162114Z
UID:28964-1624816800-1624827600@www.fcfc.tv
SUMMARY:Believers Prayer Service
DESCRIPTION:Do you want to be filled with the Holy Spirit? Do you want to learn more about your spiritual gifts? If you answered yes to either of these questions\, this would be an amazing opportunity for you to come join us! Here we will spend some personal time in the spirit. We would love for you to join us!
URL:https://www.fcfc.tv/event/believers-prayer-service/
LOCATION:Wentzville Campus
END:VEVENT
BEGIN:VEVENT
DTSTART;TZID=America/Chicago:20210627T090000
DTEND;TZID=America/Chicago:20210627T120000
DTSTAMP:20260424T112430
CREATED:20210405T142635Z
LAST-MODIFIED:20210601T143216Z
UID:29024-1624784400-1624795200@www.fcfc.tv
SUMMARY:Water Baptisms
DESCRIPTION:We will be hosting baptisms at both of our campuses. Being water baptized is an outward profession of the inner change when you became a Christian. If you are interested in being baptized that morning\, make sure you arrive an hour before service for the baptismal class.
URL:https://www.fcfc.tv/event/water-baptisms/
LOCATION:FCFC All Campuses
END:VEVENT
BEGIN:VEVENT
DTSTART;TZID=America/Chicago:20210624T183000
DTEND;TZID=America/Chicago:20210624T210000
DTSTAMP:20260424T112430
CREATED:20210601T205714Z
LAST-MODIFIED:20210622T184538Z
UID:29155-1624559400-1624568400@www.fcfc.tv
SUMMARY:Churches Planting Churches Training
DESCRIPTION:Both large and small churches can make a huge impact for the kingdom. June 24 will be the first of 4 Thursday zoom sessions answering your questions and training you for church planting. To register go to https://forms.gle/fgJBgxuY1WGNStnB9. For more information contact jfricke@dcpi.org.
URL:https://www.fcfc.tv/event/churches-planting-churches-training/
END:VEVENT
BEGIN:VEVENT
DTSTART;TZID=America/Chicago:20210623T183000
DTEND;TZID=America/Chicago:20210623T203000
DTSTAMP:20260424T112430
CREATED:20210601T202727Z
LAST-MODIFIED:20210601T202727Z
UID:29153-1624473000-1624480200@www.fcfc.tv
SUMMARY:Vacation Bible School
DESCRIPTION:This is the second session of our Vacation Bible School. We hope your kids are enjoying it!
URL:https://www.fcfc.tv/event/vacation-bible-school-2/
LOCATION:Warrenton Campus
END:VEVENT
BEGIN:VEVENT
DTSTART;TZID=America/Chicago:20210616T183000
DTEND;TZID=America/Chicago:20210616T203000
DTSTAMP:20260424T112430
CREATED:20210601T202040Z
LAST-MODIFIED:20210601T202040Z
UID:29151-1623868200-1623875400@www.fcfc.tv
SUMMARY:Vacation Bible School
DESCRIPTION:On June 16 we will be hosting vacation bible school\, This is the first of 6 Wednesday night sessions. There will be groups and activities for preschool and elementary.
URL:https://www.fcfc.tv/event/vacation-bible-school/
LOCATION:Warrenton Campus
END:VEVENT
END:VCALENDAR