BEGIN:VCALENDAR
VERSION:2.0
PRODID:-//Faith Christian Family Church - ECPv6.0.1.1//NONSGML v1.0//EN
CALSCALE:GREGORIAN
METHOD:PUBLISH
X-WR-CALNAME:Faith Christian Family Church
X-ORIGINAL-URL:https://www.fcfc.tv
X-WR-CALDESC:Events for Faith Christian Family Church
REFRESH-INTERVAL;VALUE=DURATION:PT1H
X-Robots-Tag:noindex
X-PUBLISHED-TTL:PT1H
BEGIN:VTIMEZONE
TZID:America/Chicago
BEGIN:DAYLIGHT
TZOFFSETFROM:-0600
TZOFFSETTO:-0500
TZNAME:CDT
DTSTART:20240310T080000
END:DAYLIGHT
BEGIN:STANDARD
TZOFFSETFROM:-0500
TZOFFSETTO:-0600
TZNAME:CST
DTSTART:20241103T070000
END:STANDARD
BEGIN:DAYLIGHT
TZOFFSETFROM:-0600
TZOFFSETTO:-0500
TZNAME:CDT
DTSTART:20250309T080000
END:DAYLIGHT
BEGIN:STANDARD
TZOFFSETFROM:-0500
TZOFFSETTO:-0600
TZNAME:CST
DTSTART:20251102T070000
END:STANDARD
END:VTIMEZONE
BEGIN:VEVENT
DTSTART;TZID=America/Chicago:20250302T101500
DTEND;TZID=America/Chicago:20250302T110000
DTSTAMP:20260422T173040
CREATED:20250222T011110Z
LAST-MODIFIED:20250222T011110Z
UID:31521-1740910500-1740913200@www.fcfc.tv
SUMMARY:Next Steps
DESCRIPTION:Interested in learning more about FCFC? Next Steps is the perfect opportunity. You’ll learn about our church\, have your questions answered\, and meet our pastors. We’ll also explore ways to deepen your relationship with God\, discover your unique gifts\, and find your ideal place to serve within the FCFC community.\n\nStop by Guest Central for more information.
URL:https://www.fcfc.tv/event/next-steps-3/
END:VEVENT
BEGIN:VEVENT
DTSTART;TZID=America/Chicago:20250223T090000
DTEND;TZID=America/Chicago:20250223T120000
DTSTAMP:20260422T173040
CREATED:20250204T160839Z
LAST-MODIFIED:20250204T160839Z
UID:31503-1740301200-1740312000@www.fcfc.tv
SUMMARY:Special Guest 7Song
DESCRIPTION:Join us for 7Song\, a worship ministry led by Laura Cooke\, as the Bible’s story is shared through song. This ministry’s unique vision is to reach auditory learners and those unable to read\, worldwide. Elementary Kids and Youth will attend service for this special event.
URL:https://www.fcfc.tv/event/special-guest-7song/
END:VEVENT
BEGIN:VEVENT
DTSTART;TZID=America/Chicago:20250216T090000
DTEND;TZID=America/Chicago:20250216T120000
DTSTAMP:20260422T173040
CREATED:20250204T160610Z
LAST-MODIFIED:20250204T160610Z
UID:31500-1739696400-1739707200@www.fcfc.tv
SUMMARY:Guest Speaker Monika Wagner
DESCRIPTION:We are pleased to have Monika Wagner with us at both services on February 16. Monika preaches and teaches at various ministries\, leadership trainings\, seminars and conferences around the world equipping the body of Christ and raising leaders for greatness! Currently\, she serves as the RHEMA Bible Training College (RBTC) Director of Europe. Her message will be interesting and impactful.
URL:https://www.fcfc.tv/event/guest-speaker-monika-wagner/
END:VEVENT
BEGIN:VEVENT
DTSTART;TZID=America/Chicago:20250215T123000
DTEND;TZID=America/Chicago:20250215T163000
DTSTAMP:20260422T173040
CREATED:20250204T160227Z
LAST-MODIFIED:20250204T160227Z
UID:31498-1739622600-1739637000@www.fcfc.tv
SUMMARY:S.A.L.T. Valentine Potluck
DESCRIPTION:Join us on Saturday\, February 15\, at 12:30 PM in the Youth Room for a heartwarming potluck! Bring a dish to share as we celebrate the season of love with food\, fun\, and fellowship. This event is for those 50+.
URL:https://www.fcfc.tv/event/s-a-l-t-valentine-potluck/
END:VEVENT
BEGIN:VEVENT
DTSTART;TZID=America/Chicago:20250214T180000
DTEND;TZID=America/Chicago:20250214T210000
DTSTAMP:20260422T173040
CREATED:20250204T155846Z
LAST-MODIFIED:20250204T155846Z
UID:31495-1739556000-1739566800@www.fcfc.tv
SUMMARY:Valentine's Night: Parents Night Out & Kids Party
DESCRIPTION:Kids\, join us on Valentine’s Night for a fun-filled party from 6–9 PM! While your parents enjoy a night out\, you’ll have a blast with nerf wars\, bounce house\, dinner\, and other exciting activities. This event is open to children birth to 11 years—a safe and supervised environment where you can make new friends and enjoy a fun-filled evening. Cost per child is $5. Sign up at Guest Central or by clicking the following link: https://faithchristianfamilychurch.churchcenter.com/registrations/events/2742417
URL:https://www.fcfc.tv/event/valentines-night-parents-night-out-kids-party/
END:VEVENT
BEGIN:VEVENT
DTSTART;TZID=America/Chicago:20250208T090000
DTEND;TZID=America/Chicago:20250208T120000
DTSTAMP:20260422T173040
CREATED:20250117T135011Z
LAST-MODIFIED:20250117T135011Z
UID:31484-1739005200-1739016000@www.fcfc.tv
SUMMARY:Fresh Expressions of Church
DESCRIPTION:Do you want to help people connect with God in new ways? What if church didn’t happen in a building on Sundays but around dinner tables\, in coffee shops\, or through shared hobbies? \nJoin us for an informational meeting about Fresh Expressions of Church! This meeting is for people who want to lead or assist in creating non-traditional church gatherings—like dinner churches—that bring faith to life in everyday places. \nJoin us in the Upper Room to learn how you can be part of something exciting and meaningful. Let’s work together to share God’s love in fresh and creative ways!
URL:https://www.fcfc.tv/event/fresh-expressions-of-church/
LOCATION:Warrenton Campus
END:VEVENT
BEGIN:VEVENT
DTSTART;TZID=America/Chicago:20250125T060000
DTEND;TZID=America/Chicago:20250125T100000
DTSTAMP:20260422T173040
CREATED:20241217T203517Z
LAST-MODIFIED:20241217T203517Z
UID:31455-1737784800-1737799200@www.fcfc.tv
SUMMARY:21 Days of Prayer
DESCRIPTION:Join us\, at church or at home\, for our 21 Days of Prayer from January 5 through January 25. Monday through Friday\, we will meet from 6-7 a.m. and again from 9-10 a.m. On Saturday morning\, we will meet from 9-10 a.m. We will not meet on Sunday morning.
URL:https://www.fcfc.tv/event/21-days-of-prayer-171/
LOCATION:Warrenton Campus
END:VEVENT
BEGIN:VEVENT
DTSTART;TZID=America/Chicago:20250124T060000
DTEND;TZID=America/Chicago:20250124T100000
DTSTAMP:20260422T173040
CREATED:20241217T203324Z
LAST-MODIFIED:20250819T130632Z
UID:31447-1737698400-1737712800@www.fcfc.tv
SUMMARY:21 Days of Prayer
DESCRIPTION:Join us\, at church or at home\, for our 21 Days of Prayer from January 5 through January 25. Monday through Friday\, we will meet from 6-7 AM. On Saturday morning\, we will meet from 9-10 AM. We will not meet on Sunday morning.
URL:https://www.fcfc.tv/event/21-days-of-prayer-168/
LOCATION:Warrenton Campus
END:VEVENT
BEGIN:VEVENT
DTSTART;TZID=America/Chicago:20250123T060000
DTEND;TZID=America/Chicago:20250123T100000
DTSTAMP:20260422T173040
CREATED:20241217T203304Z
LAST-MODIFIED:20241217T203304Z
UID:31446-1737612000-1737626400@www.fcfc.tv
SUMMARY:21 Days of Prayer
DESCRIPTION:Join us\, at church or at home\, for our 21 Days of Prayer from January 5 through January 25. Monday through Friday\, we will meet from 6-7 a.m. and again from 9-10 a.m. On Saturday morning\, we will meet from 9-10 a.m. We will not meet on Sunday morning.
URL:https://www.fcfc.tv/event/21-days-of-prayer-167/
LOCATION:Warrenton Campus
END:VEVENT
BEGIN:VEVENT
DTSTART;TZID=America/Chicago:20250122T060000
DTEND;TZID=America/Chicago:20250122T100000
DTSTAMP:20260422T173040
CREATED:20241217T203240Z
LAST-MODIFIED:20241217T203240Z
UID:31445-1737525600-1737540000@www.fcfc.tv
SUMMARY:21 Days of Prayer
DESCRIPTION:Join us\, at church or at home\, for our 21 Days of Prayer from January 5 through January 25. Monday through Friday\, we will meet from 6-7 a.m. and again from 9-10 a.m. On Saturday morning\, we will meet from 9-10 a.m. We will not meet on Sunday morning.
URL:https://www.fcfc.tv/event/21-days-of-prayer-166/
LOCATION:Warrenton Campus
END:VEVENT
BEGIN:VEVENT
DTSTART;TZID=America/Chicago:20250121T060000
DTEND;TZID=America/Chicago:20250121T100000
DTSTAMP:20260422T173040
CREATED:20241217T203221Z
LAST-MODIFIED:20241217T203221Z
UID:31444-1737439200-1737453600@www.fcfc.tv
SUMMARY:21 Days of Prayer
DESCRIPTION:Join us\, at church or at home\, for our 21 Days of Prayer from January 5 through January 25. Monday through Friday\, we will meet from 6-7 a.m. and again from 9-10 a.m. On Saturday morning\, we will meet from 9-10 a.m. We will not meet on Sunday morning.
URL:https://www.fcfc.tv/event/21-days-of-prayer-165/
LOCATION:Warrenton Campus
END:VEVENT
BEGIN:VEVENT
DTSTART;TZID=America/Chicago:20250120T060000
DTEND;TZID=America/Chicago:20250120T100000
DTSTAMP:20260422T173040
CREATED:20241217T203204Z
LAST-MODIFIED:20241217T203204Z
UID:31443-1737352800-1737367200@www.fcfc.tv
SUMMARY:21 Days of Prayer
DESCRIPTION:Join us\, at church or at home\, for our 21 Days of Prayer from January 5 through January 25. Monday through Friday\, we will meet from 6-7 a.m. and again from 9-10 a.m. On Saturday morning\, we will meet from 9-10 a.m. We will not meet on Sunday morning.
URL:https://www.fcfc.tv/event/21-days-of-prayer-164/
LOCATION:Warrenton Campus
END:VEVENT
BEGIN:VEVENT
DTSTART;TZID=America/Chicago:20250119T090000
DTEND;TZID=America/Chicago:20250119T120000
DTSTAMP:20260422T173040
CREATED:20241217T203709Z
LAST-MODIFIED:20241217T203709Z
UID:31459-1737277200-1737288000@www.fcfc.tv
SUMMARY:Baptism
DESCRIPTION:On Sunday\, January 19\, we will be hosting baptisms at both services. Being water baptized is an outward profession of the inner change when you became a Christian. If you are interested in being baptized that morning\, make sure you arrive a half hour before service for the baptismal class taking place in the Grow Room.
URL:https://www.fcfc.tv/event/baptism-3/
END:VEVENT
BEGIN:VEVENT
DTSTART;TZID=America/Chicago:20250118T060000
DTEND;TZID=America/Chicago:20250118T100000
DTSTAMP:20260422T173040
CREATED:20241217T203451Z
LAST-MODIFIED:20241217T203451Z
UID:31454-1737180000-1737194400@www.fcfc.tv
SUMMARY:21 Days of Prayer
DESCRIPTION:Join us\, at church or at home\, for our 21 Days of Prayer from January 5 through January 25. Monday through Friday\, we will meet from 6-7 a.m. and again from 9-10 a.m. On Saturday morning\, we will meet from 9-10 a.m. We will not meet on Sunday morning.
URL:https://www.fcfc.tv/event/21-days-of-prayer-170/
LOCATION:Warrenton Campus
END:VEVENT
BEGIN:VEVENT
DTSTART;TZID=America/Chicago:20250117T060000
DTEND;TZID=America/Chicago:20250117T100000
DTSTAMP:20260422T173040
CREATED:20241217T203037Z
LAST-MODIFIED:20241217T203037Z
UID:31435-1737093600-1737108000@www.fcfc.tv
SUMMARY:21 Days of Prayer
DESCRIPTION:Join us\, at church or at home\, for our 21 Days of Prayer from January 5 through January 25. Monday through Friday\, we will meet from 6-7 a.m. and again from 9-10 a.m. On Saturday morning\, we will meet from 9-10 a.m. We will not meet on Sunday morning.
URL:https://www.fcfc.tv/event/21-days-of-prayer-163/
LOCATION:Warrenton Campus
END:VEVENT
BEGIN:VEVENT
DTSTART;TZID=America/Chicago:20250116T060000
DTEND;TZID=America/Chicago:20250116T100000
DTSTAMP:20260422T173040
CREATED:20241217T203020Z
LAST-MODIFIED:20241217T203020Z
UID:31434-1737007200-1737021600@www.fcfc.tv
SUMMARY:21 Days of Prayer
DESCRIPTION:Join us\, at church or at home\, for our 21 Days of Prayer from January 5 through January 25. Monday through Friday\, we will meet from 6-7 a.m. and again from 9-10 a.m. On Saturday morning\, we will meet from 9-10 a.m. We will not meet on Sunday morning.
URL:https://www.fcfc.tv/event/21-days-of-prayer-162/
LOCATION:Warrenton Campus
END:VEVENT
BEGIN:VEVENT
DTSTART;TZID=America/Chicago:20250115T060000
DTEND;TZID=America/Chicago:20250115T100000
DTSTAMP:20260422T173040
CREATED:20241217T202959Z
LAST-MODIFIED:20241217T202959Z
UID:31433-1736920800-1736935200@www.fcfc.tv
SUMMARY:21 Days of Prayer
DESCRIPTION:Join us\, at church or at home\, for our 21 Days of Prayer from January 5 through January 25. Monday through Friday\, we will meet from 6-7 a.m. and again from 9-10 a.m. On Saturday morning\, we will meet from 9-10 a.m. We will not meet on Sunday morning.
URL:https://www.fcfc.tv/event/21-days-of-prayer-161/
LOCATION:Warrenton Campus
END:VEVENT
BEGIN:VEVENT
DTSTART;TZID=America/Chicago:20250114T060000
DTEND;TZID=America/Chicago:20250114T100000
DTSTAMP:20260422T173040
CREATED:20241217T202915Z
LAST-MODIFIED:20241217T202915Z
UID:31432-1736834400-1736848800@www.fcfc.tv
SUMMARY:21 Days of Prayer
DESCRIPTION:Join us\, at church or at home\, for our 21 Days of Prayer from January 5 through January 25. Monday through Friday\, we will meet from 6-7 a.m. and again from 9-10 a.m. On Saturday morning\, we will meet from 9-10 a.m. We will not meet on Sunday morning.
URL:https://www.fcfc.tv/event/21-days-of-prayer-160/
LOCATION:Warrenton Campus
END:VEVENT
BEGIN:VEVENT
DTSTART;TZID=America/Chicago:20250113T060000
DTEND;TZID=America/Chicago:20250113T100000
DTSTAMP:20260422T173040
CREATED:20241217T202846Z
LAST-MODIFIED:20241217T202846Z
UID:31431-1736748000-1736762400@www.fcfc.tv
SUMMARY:21 Days of Prayer
DESCRIPTION:Join us\, at church or at home\, for our 21 Days of Prayer from January 5 through January 25. Monday through Friday\, we will meet from 6-7 a.m. and again from 9-10 a.m. On Saturday morning\, we will meet from 9-10 a.m. We will not meet on Sunday morning.
URL:https://www.fcfc.tv/event/21-days-of-prayer-159/
LOCATION:Warrenton Campus
END:VEVENT
BEGIN:VEVENT
DTSTART;TZID=America/Chicago:20250111T090000
DTEND;TZID=America/Chicago:20250111T120000
DTSTAMP:20260422T173040
CREATED:20251130T134225Z
LAST-MODIFIED:20251130T134225Z
UID:32338-1736586000-1736596800@www.fcfc.tv
SUMMARY:Water Baptism
DESCRIPTION:On Sunday\, January 11\, we will be hosting baptisms at both services. Being water baptized is an outward profession of the inner change when you became a Christian. If you are interested in being baptized that morning\, make sure you arrive a half hour before service for the baptismal class taking place in the Grow Room. \nTo learn more or pre-register: Click Here
URL:https://www.fcfc.tv/event/water-baptism-25/
END:VEVENT
BEGIN:VEVENT
DTSTART;TZID=America/Chicago:20250111T060000
DTEND;TZID=America/Chicago:20250111T100000
DTSTAMP:20260422T173040
CREATED:20241217T203426Z
LAST-MODIFIED:20241217T203426Z
UID:31453-1736575200-1736589600@www.fcfc.tv
SUMMARY:21 Days of Prayer
DESCRIPTION:Join us\, at church or at home\, for our 21 Days of Prayer from January 5 through January 25. Monday through Friday\, we will meet from 6-7 a.m. and again from 9-10 a.m. On Saturday morning\, we will meet from 9-10 a.m. We will not meet on Sunday morning.
URL:https://www.fcfc.tv/event/21-days-of-prayer-169/
LOCATION:Warrenton Campus
END:VEVENT
BEGIN:VEVENT
DTSTART;TZID=America/Chicago:20250110T060000
DTEND;TZID=America/Chicago:20250110T100000
DTSTAMP:20260422T173040
CREATED:20241217T202754Z
LAST-MODIFIED:20241217T202754Z
UID:31425-1736488800-1736503200@www.fcfc.tv
SUMMARY:21 Days of Prayer
DESCRIPTION:Join us\, at church or at home\, for our 21 Days of Prayer from January 5 through January 25. Monday through Friday\, we will meet from 6-7 a.m. and again from 9-10 a.m. On Saturday morning\, we will meet from 9-10 a.m. We will not meet on Sunday morning.
URL:https://www.fcfc.tv/event/21-days-of-prayer-158/
LOCATION:Warrenton Campus
END:VEVENT
BEGIN:VEVENT
DTSTART;TZID=America/Chicago:20250109T060000
DTEND;TZID=America/Chicago:20250109T100000
DTSTAMP:20260422T173040
CREATED:20241217T202731Z
LAST-MODIFIED:20241217T202731Z
UID:31424-1736402400-1736416800@www.fcfc.tv
SUMMARY:21 Days of Prayer
DESCRIPTION:Join us\, at church or at home\, for our 21 Days of Prayer from January 5 through January 25. Monday through Friday\, we will meet from 6-7 a.m. and again from 9-10 a.m. On Saturday morning\, we will meet from 9-10 a.m. We will not meet on Sunday morning.
URL:https://www.fcfc.tv/event/21-days-of-prayer-157/
LOCATION:Warrenton Campus
END:VEVENT
BEGIN:VEVENT
DTSTART;TZID=America/Chicago:20250108T060000
DTEND;TZID=America/Chicago:20250108T100000
DTSTAMP:20260422T173040
CREATED:20241217T202708Z
LAST-MODIFIED:20241217T202708Z
UID:31423-1736316000-1736330400@www.fcfc.tv
SUMMARY:21 Days of Prayer
DESCRIPTION:Join us\, at church or at home\, for our 21 Days of Prayer from January 5 through January 25. Monday through Friday\, we will meet from 6-7 a.m. and again from 9-10 a.m. On Saturday morning\, we will meet from 9-10 a.m. We will not meet on Sunday morning.
URL:https://www.fcfc.tv/event/21-days-of-prayer-156/
LOCATION:Warrenton Campus
END:VEVENT
BEGIN:VEVENT
DTSTART;TZID=America/Chicago:20250107T060000
DTEND;TZID=America/Chicago:20250107T100000
DTSTAMP:20260422T173040
CREATED:20241217T202646Z
LAST-MODIFIED:20241217T202646Z
UID:31422-1736229600-1736244000@www.fcfc.tv
SUMMARY:21 Days of Prayer
DESCRIPTION:Join us\, at church or at home\, for our 21 Days of Prayer from January 5 through January 25. Monday through Friday\, we will meet from 6-7 a.m. and again from 9-10 a.m. On Saturday morning\, we will meet from 9-10 a.m. We will not meet on Sunday morning.
URL:https://www.fcfc.tv/event/21-days-of-prayer-155/
LOCATION:Warrenton Campus
END:VEVENT
BEGIN:VEVENT
DTSTART;TZID=America/Chicago:20250106T060000
DTEND;TZID=America/Chicago:20250106T100000
DTSTAMP:20260422T173040
CREATED:20241217T202623Z
LAST-MODIFIED:20250106T021907Z
UID:31421-1736143200-1736157600@www.fcfc.tv
SUMMARY:21 Days of Prayer
DESCRIPTION:Due to weather conditions\, prayer is online only Monday\, January 6. \nJoin us\, at church or at home\, for our 21 Days of Prayer from January 6 through January 25. Monday through Friday\, we will meet from 6-7 a.m. and again from 9-10 a.m. On Saturday morning\, we will meet from 9-10 a.m. We will not meet on Sunday morning.
URL:https://www.fcfc.tv/event/21-days-of-prayer-154/
LOCATION:Warrenton Campus
END:VEVENT
BEGIN:VEVENT
DTSTART;TZID=America/Chicago:20250105T060000
DTEND;TZID=America/Chicago:20250105T100000
DTSTAMP:20260422T173040
CREATED:20241210T164403Z
LAST-MODIFIED:20241217T202514Z
UID:31412-1736056800-1736071200@www.fcfc.tv
SUMMARY:21 Days of Prayer
DESCRIPTION:Join us\, at church or at home\, for our 21 Days of Prayer from January 5 through January 25. Monday through Friday\, we will meet from 6-7 a.m. and again from 9-10 a.m. On Saturday morning\, we will meet from 9-10 a.m. We will not meet on Sunday morning.
URL:https://www.fcfc.tv/event/21-days-of-prayer-153/
LOCATION:Warrenton Campus
END:VEVENT
BEGIN:VEVENT
DTSTART;TZID=America/Chicago:20241222T090000
DTEND;TZID=America/Chicago:20241222T120000
DTSTAMP:20260422T173040
CREATED:20241119T163351Z
LAST-MODIFIED:20241210T164004Z
UID:31407-1734858000-1734868800@www.fcfc.tv
SUMMARY:Christmas Services 
DESCRIPTION: We will have a festive family Christmas service with communion at both of our regular morning services on December 22. There will be no children’s or youth ministry this morning.
URL:https://www.fcfc.tv/event/christmas-services/
END:VEVENT
BEGIN:VEVENT
DTSTART;TZID=America/Chicago:20241215T083000
DTEND;TZID=America/Chicago:20241215T120000
DTSTAMP:20260422T173040
CREATED:20241119T163159Z
LAST-MODIFIED:20241119T163159Z
UID:31405-1734251400-1734264000@www.fcfc.tv
SUMMARY:Christmas Toy Drive and Personal Care Drive
DESCRIPTION:Servant’s Heart will host a Christmas Toy Drive and Personal Care Drive on Sunday\, December 8\, and Sunday\, December 15. Please bring a new unwrapped gift for children ages newborn to 18 years to benefit local families through the Agape Christmas Store and Toys for Tots. In addition\, we will be collecting personal care items (i.e.\, laundry soap\, shampoo\, toothpaste\, etc.) to help local families.
URL:https://www.fcfc.tv/event/christmas-toy-drive-and-personal-care-drive-2/
END:VEVENT
BEGIN:VEVENT
DTSTART;TZID=America/Chicago:20241208T083000
DTEND;TZID=America/Chicago:20241208T120000
DTSTAMP:20260422T173040
CREATED:20241119T163127Z
LAST-MODIFIED:20241119T163127Z
UID:31403-1733646600-1733659200@www.fcfc.tv
SUMMARY:Christmas Toy Drive and Personal Care Drive
DESCRIPTION:Servant’s Heart will host a Christmas Toy Drive and Personal Care Drive on Sunday\, December 8\, and Sunday\, December 15. Please bring a new unwrapped gift for children ages newborn to 18 years to benefit local families through the Agape Christmas Store and Toys for Tots. In addition\, we will be collecting personal care items (i.e.\, laundry soap\, shampoo\, toothpaste\, etc.) to help local families.
URL:https://www.fcfc.tv/event/christmas-toy-drive-and-personal-care-drive/
END:VEVENT
END:VCALENDAR