BEGIN:VCALENDAR
VERSION:2.0
PRODID:-//Faith Christian Family Church - ECPv6.0.1.1//NONSGML v1.0//EN
CALSCALE:GREGORIAN
METHOD:PUBLISH
X-ORIGINAL-URL:https://www.fcfc.tv
X-WR-CALDESC:Events for Faith Christian Family Church
REFRESH-INTERVAL;VALUE=DURATION:PT1H
X-Robots-Tag:noindex
X-PUBLISHED-TTL:PT1H
BEGIN:VTIMEZONE
TZID:America/Chicago
BEGIN:DAYLIGHT
TZOFFSETFROM:-0600
TZOFFSETTO:-0500
TZNAME:CDT
DTSTART:20250309T080000
END:DAYLIGHT
BEGIN:STANDARD
TZOFFSETFROM:-0500
TZOFFSETTO:-0600
TZNAME:CST
DTSTART:20251102T070000
END:STANDARD
BEGIN:DAYLIGHT
TZOFFSETFROM:-0600
TZOFFSETTO:-0500
TZNAME:CDT
DTSTART:20260308T080000
END:DAYLIGHT
BEGIN:STANDARD
TZOFFSETFROM:-0500
TZOFFSETTO:-0600
TZNAME:CST
DTSTART:20261101T070000
END:STANDARD
END:VTIMEZONE
BEGIN:VEVENT
DTSTART;TZID=America/Chicago:20251203T190000
DTEND;TZID=America/Chicago:20251203T203000
DTSTAMP:20260421T182952
CREATED:20251123T094217Z
LAST-MODIFIED:20251123T095812Z
UID:32227-1764788400-1764793800@www.fcfc.tv
SUMMARY:Healing School
DESCRIPTION:Have you ever wondered about healing? Maybe you’ve asked questions like:\n\nIs it God’s will for everyone to be healed?\nWhat hinders healing?\nWhy am I not healed if I have faith?\nHow can I be healed?\n\nWe’re excited to introduce Healing School\, Wednesday nights at 7:00 PM.\n\nDiscover what God’s Word teaches about healing\, grow in faith\, and experience the power of prayer in a welcoming\, faith-filled environment designed to help you walk in wholeness. \n\nJoin us for the first three Wednesdays in December — 12/3\, 12/10\, and 12/17.
URL:https://www.fcfc.tv/event/healing-school/
END:VEVENT
BEGIN:VEVENT
DTSTART;TZID=America/Chicago:20251204T140000
DTEND;TZID=America/Chicago:20251204T200000
DTSTAMP:20260421T182952
CREATED:20251130T134427Z
LAST-MODIFIED:20251130T134435Z
UID:32340-1764856800-1764878400@www.fcfc.tv
SUMMARY:Frank Stuermann | Visitation
DESCRIPTION:Honoring the Life of Homer Frank Stuermann \nWe would be honored to have you join us in remembering and celebrating Frank’s life. Please refer to the graphic for service details. \nTo read the full obituary\, please visit: https://www.martinfuneral.net/obituary/homer-stuermann
URL:https://www.fcfc.tv/event/frank-stuermann-visitation/
END:VEVENT
BEGIN:VEVENT
DTSTART;TZID=America/Chicago:20251205T090000
DTEND;TZID=America/Chicago:20251205T113000
DTSTAMP:20260421T182952
CREATED:20251130T133318Z
LAST-MODIFIED:20251130T133318Z
UID:32335-1764925200-1764934200@www.fcfc.tv
SUMMARY:Frank Stuermann | Celebration of Life
DESCRIPTION:Honoring the Life of Homer Frank Stuermann \nWe would be honored to have you join us in remembering and celebrating Frank’s life. Please refer to the graphic for service details. \nTo read the full obituary\, please visit: https://www.martinfuneral.net/obituary/homer-stuermann
URL:https://www.fcfc.tv/event/frank-stuermann-celebration-of-life/
END:VEVENT
BEGIN:VEVENT
DTSTART;TZID=America/Chicago:20251207T101500
DTEND;TZID=America/Chicago:20251207T110000
DTSTAMP:20260421T182952
CREATED:20251123T094731Z
LAST-MODIFIED:20251123T100009Z
UID:32233-1765102500-1765105200@www.fcfc.tv
SUMMARY:Next Steps
DESCRIPTION:Interested in learning more about FCFC? \nIn Next Steps\, you’ll learn more about our church\, explore ways to deepen your relationship with God\, find your ideal place to serve and meet the FCFC staff. \nClass begins at 10:15 AM in the UPPER Room.
URL:https://www.fcfc.tv/event/next-steps-12/
END:VEVENT
BEGIN:VEVENT
DTSTART;TZID=America/Chicago:20251207T133000
DTEND;TZID=America/Chicago:20251207T160000
DTSTAMP:20260421T182952
CREATED:20251130T130922Z
LAST-MODIFIED:20251130T130922Z
UID:32327-1765114200-1765123200@www.fcfc.tv
SUMMARY:Linda Tochtrop | Celebration of Life
DESCRIPTION:Honoring the Life of Linda Tochtrop \nWe would be honored to have you join us in remembering and celebrating Linda’s life. Please refer to the graphic for service details. \nTo read the full obituary\, please visit: https://www.pitmanfuneralhome.com/obituary/Linda-Tochtrop
URL:https://www.fcfc.tv/event/linda-tochtrop-celebration-of-life/
END:VEVENT
BEGIN:VEVENT
DTSTART;TZID=America/Chicago:20251210T190000
DTEND;TZID=America/Chicago:20251210T203000
DTSTAMP:20260421T182952
CREATED:20251123T094251Z
LAST-MODIFIED:20251123T095837Z
UID:32229-1765393200-1765398600@www.fcfc.tv
SUMMARY:Healing School
DESCRIPTION:Have you ever wondered about healing? Maybe you’ve asked questions like:\n\nIs it God’s will for everyone to be healed?\nWhat hinders healing?\nWhy am I not healed if I have faith?\nHow can I be healed?\n\nWe’re excited to introduce Healing School\, Wednesday nights at 7:00 PM.\n\n\nDiscover what God’s Word teaches about healing\, grow in faith\, and experience the power of prayer in a welcoming\, faith-filled environment designed to help you walk in wholeness. \n\nJoin us for the first three Wednesdays in December — 12/3\, 12/10\, and 12/17.
URL:https://www.fcfc.tv/event/healing-school-2/
END:VEVENT
BEGIN:VEVENT
DTSTART;TZID=America/Chicago:20251217T190000
DTEND;TZID=America/Chicago:20251217T203000
DTSTAMP:20260421T182952
CREATED:20251123T094344Z
LAST-MODIFIED:20251123T095854Z
UID:32231-1765998000-1766003400@www.fcfc.tv
SUMMARY:Healing School
DESCRIPTION:Have you ever wondered about healing? Maybe you’ve asked questions like:\n\nIs it God’s will for everyone to be healed?\nWhat hinders healing?\nWhy am I not healed if I have faith?\nHow can I be healed?\n\nWe’re excited to introduce Healing School\, Wednesday nights at 7:00 PM.\n\n\nDiscover what God’s Word teaches about healing\, grow in faith\, and experience the power of prayer in a welcoming\, faith-filled environment designed to help you walk in wholeness. \n\nJoin us for the first three Wednesdays in December — 12/3\, 12/10\, and 12/17.
URL:https://www.fcfc.tv/event/healing-school-3/
END:VEVENT
BEGIN:VEVENT
DTSTART;TZID=America/Chicago:20251224T180000
DTEND;TZID=America/Chicago:20251224T190000
DTSTAMP:20260421T182952
CREATED:20251126T000801Z
LAST-MODIFIED:20251126T000801Z
UID:32325-1766599200-1766602800@www.fcfc.tv
SUMMARY:Christmas Eve Service
DESCRIPTION:WE INVITE YOU TO CHRISTMAS AT FAITH CHRISTIAN FAMILY CHURCH\nA Special Christmas Eve Service – All Ages Celebrating Together\nWednesday\, December 24th | 6:00 PM \nBefore the manger\, there were 400 years of silence\, no new scripture\, no prophetic voice. All of creation waited in stillness: then\, the Light broke through. \nThis Christmas Eve\, we invite you to join us for an hour-long Family Service as we take time to celebrate the night the silence ended and Jesus\, the Light of the World\, was born. \nJoin us for: \n\n🎶 Live Christmas Carols and Worship\n📖 A Brief Christmas Message\n🕯A Candlelight Experience (battery-powered candles provided)\n☕ Hot Chocolate & Cookies After the Service\n\nWe can’t wait to celebrate with you this Christmas!
URL:https://www.fcfc.tv/event/christmas-eve-service/
END:VEVENT
BEGIN:VEVENT
DTSTART;TZID=America/Chicago:20251231T180000
DTEND;TZID=America/Chicago:20260101T060000
DTSTAMP:20260421T182952
CREATED:20251215T191344Z
LAST-MODIFIED:20251215T191344Z
UID:32596-1767204000-1767247200@www.fcfc.tv
SUMMARY:FCFC Youth NYE Lock-In
DESCRIPTION:Ring in the New Year at the ultimate FCFC Youth Lock-In!\n\nFrom 6 PM New Year’s Eve to 6 AM New Year’s Day\, enjoy dodgeball\, basketball tournaments\, glow-in-the-dark Nerf wars\, movie screening\, Mario competitions\, a bounce house\, late night pizza\, and a powerful New Year’s message. One student will be given an electric bike! \nCOST: $25\nGRADES: 6-12\nDROP OFF: Liberty Christian Academy – 6:00 PM\nPICK UP: Faith Christian Family Church – 6:00 AM
URL:https://www.fcfc.tv/event/fcfc-youth-nye-lock-in/
END:VEVENT
END:VCALENDAR