BEGIN:VCALENDAR
VERSION:2.0
PRODID:-//Faith Christian Family Church - ECPv6.0.1.1//NONSGML v1.0//EN
CALSCALE:GREGORIAN
METHOD:PUBLISH
X-ORIGINAL-URL:https://www.fcfc.tv
X-WR-CALDESC:Events for Faith Christian Family Church
REFRESH-INTERVAL;VALUE=DURATION:PT1H
X-Robots-Tag:noindex
X-PUBLISHED-TTL:PT1H
BEGIN:VTIMEZONE
TZID:America/Chicago
BEGIN:DAYLIGHT
TZOFFSETFROM:-0600
TZOFFSETTO:-0500
TZNAME:CDT
DTSTART:20260308T080000
END:DAYLIGHT
BEGIN:STANDARD
TZOFFSETFROM:-0500
TZOFFSETTO:-0600
TZNAME:CST
DTSTART:20261101T070000
END:STANDARD
END:VTIMEZONE
BEGIN:VEVENT
DTSTART;TZID=America/Chicago:20260301T101500
DTEND;TZID=America/Chicago:20260301T110000
DTSTAMP:20260421T135418
CREATED:20260208T161558Z
LAST-MODIFIED:20260208T161558Z
UID:33531-1772360100-1772362800@www.fcfc.tv
SUMMARY:Next Steps- Step One
DESCRIPTION:Interested in learning more about FCFC? Join us for NEXT STEPS- Step One\, the first part of our two-part series focused on Knowing God (Growing Up). In this session\, you’ll explore what it means to follow Jesus through salvation\, baptism\, daily Bible reading\, and the foundations of a healthy Christian life. \nClass begins at 10:15 AM in the GROW Room.
URL:https://www.fcfc.tv/event/next-steps-step-one/
END:VEVENT
BEGIN:VEVENT
DTSTART;TZID=America/Chicago:20260308T101500
DTEND;TZID=America/Chicago:20260308T110000
DTSTAMP:20260421T135418
CREATED:20260208T161729Z
LAST-MODIFIED:20260208T161729Z
UID:33536-1772964900-1772967600@www.fcfc.tv
SUMMARY:Next Steps- Step Two
DESCRIPTION:Interested in learning more about FCFC? Join us for NEXT STEPS- Step Two\, the second part of our two-part series focused on Knowing the Church (Growing Together & Growing Out). In this session\, you’ll learn more about our mission and values as a church\, find your ideal place to serve and meet the FCFC staff. \nClass begins at 10:15 AM in the GROW Room.
URL:https://www.fcfc.tv/event/next-steps-step-two/
END:VEVENT
BEGIN:VEVENT
DTSTART;TZID=America/Chicago:20260314T120000
DTEND;TZID=America/Chicago:20260314T140000
DTSTAMP:20260421T135418
CREATED:20260303T172920Z
LAST-MODIFIED:20260303T172920Z
UID:33793-1773489600-1773496800@www.fcfc.tv
SUMMARY:S.A.L.T. Potluck
DESCRIPTION:Join us on Saturday\, March 14\, at 12:00 PM in the YOUTH Room for a special potluck gathering. Bring a favorite dish to share as we enjoy good food\, great conversation\, and fellowship together. This event is for those 50 and older.
URL:https://www.fcfc.tv/event/s-a-l-t-potluck/
LOCATION:Warrenton Campus
END:VEVENT
BEGIN:VEVENT
DTSTART;TZID=America/Chicago:20260321T090000
DTEND;TZID=America/Chicago:20260321T120000
DTSTAMP:20260421T135418
CREATED:20260303T174422Z
LAST-MODIFIED:20260303T174422Z
UID:33795-1774083600-1774094400@www.fcfc.tv
SUMMARY:Easter Egg Stuffing
DESCRIPTION:Help us prep for our Annual Easter Egg Hunt! Join us from 9 AM–12 PM in the YOUTH Room for Egg Stuffing. Come anytime and help us get ready. Everyone can jump in. Just show up\, and let’s fill thousands of eggs and have some fun!
URL:https://www.fcfc.tv/event/easter-egg-stuffing/
END:VEVENT
BEGIN:VEVENT
DTSTART;TZID=America/Chicago:20260328T133000
DTEND;TZID=America/Chicago:20260328T170000
DTSTAMP:20260421T135418
CREATED:20260310T140012Z
LAST-MODIFIED:20260310T140012Z
UID:33800-1774704600-1774717200@www.fcfc.tv
SUMMARY:FCFC Youth Guys | Iron & Smoke
DESCRIPTION:Students in 6th–12th grade are invited to Iron & Smoke\, a special afternoon built just for the guys from 1:30–5:00 PM in the FCFC Youth Room. \nExpect an afternoon of BBQ\, challenges\, competition\, prizes\, and spending time with men from our church who will share from their own lives about character\, faith\, and becoming strong men\, encouraging the next generation of young men. \nIt’s a great opportunity to have fun and step up to the challenge. \nBring a friend and come ready for the competition! \nFor more information contact Pastor Jessee: Jessee@fcfc.tv
URL:https://www.fcfc.tv/event/fcfc-youth-guys-iron-smoke/
END:VEVENT
BEGIN:VEVENT
DTSTART;TZID=America/Chicago:20260328T133000
DTEND;TZID=America/Chicago:20260328T170000
DTSTAMP:20260421T135418
CREATED:20260310T140245Z
LAST-MODIFIED:20260310T140245Z
UID:33802-1774704600-1774717200@www.fcfc.tv
SUMMARY:FCFC Youth Ladies | Garden Party
DESCRIPTION:Students in 6th–12th grade are invited to a Garden Party\, a special afternoon just for the ladies from 1:30–5:00 PM in the FCFC Foyer. \nEnjoy food\, games\, creative DIY projects\, and prizes while spending time with women from our church who will share from their own lives and cheer on the next generation of young women. \nIt’s a great opportunity to connect\, grow\, and bring a friend along. \nFor more information contact Pastor Jessee: Jessee@fcfc.tv
URL:https://www.fcfc.tv/event/fcfc-youth-ladies-garden-party/
END:VEVENT
END:VCALENDAR